Workbook

Sheet Crescendo n1
B1: CRESCENDO
B2: Gioco a Quiz
B3: Rispondi alle domande negli scacchi indicati. Si genera automaticamente la domanda successiva, in un crescendo di difficoltà
B4: Viene attribuito 1 punto per una risposta esatta, dimezzato se la risposta precedente era errata
A6: 1 | B6: ='Archivio domande'!B3 -> Tra i seguenti, non è un ingrediente della crema pasticcera: | C6: ê | D6: =IF(COUNTBLANK(C10)=0,1,0) -> 0
A10: A | B10: ='Archivio domande'!B4 -> Albume d'uovo
A12: B | B12: ='Archivio domande'!B5 -> Latte intero
A14: C | B14: ='Archivio domande'!B6 -> Zucchero semolato
A17: 2 | B17: =IF(COUNTBLANK(C10)=0,Formule!K4," ") | C17: =IF(COUNTBLANK(C10)=0,"ê"," ") | D17: =IF(COUNTBLANK(C21)=0,1,0) -> 0
A21: A | B21: =IF(COUNTBLANK(C10)=0,Formule!K5," ")
A23: B | B23: =IF(COUNTBLANK(C10)=0,Formule!K6," ")
A25: C | B25: =IF(COUNTBLANK(C10)=0,Formule!K7," ")
A28: 3 | B28: =IF(COUNTBLANK(C21)=0,Formule!K9," ") | C28: =IF(COUNTBLANK(C21)=0,"ê"," ") | D28: =IF(COUNTBLANK(C32)=0,1,0) -> 0
A32: A | B32: =IF(COUNTBLANK(C21)=0,Formule!K10," ")
A34: B | B34: =IF(COUNTBLANK(C21)=0,Formule!K11," ")
A36: C | B36: =IF(COUNTBLANK(C21)=0,Formule!K12," ")
A39: 4 | B39: =IF(COUNTBLANK(C32)=0,Formule!K14," ") | C39: =IF(COUNTBLANK(C32)=0,"ê"," ") | D39: =IF(COUNTBLANK(C43)=0,1,0) -> 0
A43: A | B43: =IF(COUNTBLANK(C32)=0,Formule!K15," ")
A45: B | B45: =IF(COUNTBLANK(C32)=0,Formule!K16," ")
A47: C | B47: =IF(COUNTBLANK(C32)=0,Formule!K17," ")
A50: 5 | B50: =IF(COUNTBLANK(C43)=0,Formule!K19," ") | C50: =IF(COUNTBLANK(C43)=0,"ê"," ") | D50: =IF(COUNTBLANK(C54)=0,1,0) -> 0
A54: A | B54: =IF(COUNTBLANK(C43)=0,Formule!K20," ")
A56: B | B56: =IF(COUNTBLANK(C43)=0,Formule!K21," ")
A58: C | B58: =IF(COUNTBLANK(C43)=0,Formule!K22," ")
A61: 6 | B61: =IF(COUNTBLANK(C54)=0,Formule!K24," ") | C61: =IF(COUNTBLANK(C54)=0,"ê"," ") | D61: =IF(COUNTBLANK(C65)=0,1,0) -> 0
A65: A | B65: =IF(COUNTBLANK(C54)=0,Formule!K25," ")
A67: B | B67: =IF(COUNTBLANK(C54)=0,Formule!K26," ")
A69: C | B69: =IF(COUNTBLANK(C54)=0,Formule!K27," ")
A72: 7 | B72: =IF(COUNTBLANK(C65)=0,Formule!K29," ") | C72: =IF(COUNTBLANK(C65)=0,"ê"," ") | D72: =IF(COUNTBLANK(C76)=0,1,0) -> 0
A76: A | B76: =IF(COUNTBLANK(C65)=0,Formule!K30," ")
A78: B | B78: =IF(COUNTBLANK(C65)=0,Formule!K31," ")
A80: C | B80: =IF(COUNTBLANK(C65)=0,Formule!K32," ")
A83: 8 | B83: =IF(COUNTBLANK(C76)=0,Formule!K34," ") | C83: =IF(COUNTBLANK(C76)=0,"ê"," ") | D83: =IF(COUNTBLANK(C87)=0,1,0) -> 0
A87: A | B87: =IF(COUNTBLANK(C76)=0,Formule!K35," ")
A89: B | B89: =IF(COUNTBLANK(C76)=0,Formule!K36," ")
A91: C | B91: =IF(COUNTBLANK(C76)=0,Formule!K37," ")
A94: 9 | B94: =IF(COUNTBLANK(C87)=0,Formule!K39," ") | C94: =IF(COUNTBLANK(C87)=0,"ê"," ") | D94: =IF(COUNTBLANK(C98)=0,1,0) -> 0
A98: A | B98: =IF(COUNTBLANK(C87)=0,Formule!K40," ")
A100: B | B100: =IF(COUNTBLANK(C87)=0,Formule!K41," ")
A102: C | B102: =IF(COUNTBLANK(C87)=0,Formule!K42," ")
A105: 10 | B105: =IF(COUNTBLANK(C98)=0,Formule!K44," ") | C105: =IF(COUNTBLANK(C98)=0,"ê"," ") | D105: =IF(COUNTBLANK(C109)=0,1,0) -> 0
A109: A | B109: =IF(COUNTBLANK(C98)=0,Formule!K45," ")
A111: B | B111: =IF(COUNTBLANK(C98)=0,Formule!K46," ")
A113: C | B113: =IF(COUNTBLANK(C98)=0,Formule!K47," ")
A116: 11 | B116: =IF(COUNTBLANK(C109)=0,Formule!K49," ") | C116: =IF(COUNTBLANK(C109)=0,"ê"," ") | D116: =IF(COUNTBLANK(C120)=0,1,0) -> 0
A120: A | B120: =IF(COUNTBLANK(C109)=0,Formule!K50," ")
A122: B | B122: =IF(COUNTBLANK(C109)=0,Formule!K51," ")
A124: C | B124: =IF(COUNTBLANK(C109)=0,Formule!K52," ")
A127: 12 | B127: =IF(COUNTBLANK(C120)=0,Formule!K54," ") | C127: =IF(COUNTBLANK(C120)=0,"ê"," ") | D127: =IF(COUNTBLANK(C131)=0,1,0) -> 0
A131: A | B131: =IF(COUNTBLANK(C120)=0,Formule!K55," ")
A133: B | B133: =IF(COUNTBLANK(C120)=0,Formule!K56," ")
A135: C | B135: =IF(COUNTBLANK(C120)=0,Formule!K57," ")
B138: Punteggio finale: | C138: =Formule!C73 | D138: =SUM(D6:D137) -> 0
B140: (appare solo dopo aver risposto a tutte le domande)

Sheet Formule
B1: Sequenza principale | D1: Risp esatte (N.B. non sono allineate con le domande di fianco) | F1: La risposta esatta deve sempre essere della stessa lettera per ogni numero di domanda, a prescindere che sia della seq princ o no. Es.: se la risposta è B per la dom n 2, deve esserlo anche per le n. 2 della sequenza secondaria. Altrimenti sballa le formule o occorre aggiungerne troppe | G1: Risposte esatte
B2: (si attiva in seguito a risposte esatte alle domande della colonna B nel foglio di gioco) | L2: A-A | N2: A-B | P2: A-C | R2: B-A | T2: B-B | V2: B-C | X2: C-A | Z2: C-B | AB2: C-C
A4: A2 | B4: ='Archivio domande'!B8 -> Se ti trovi sotto la Mole Antonelliana sei nella città di: | D4: A | E4: B2 | F4: ='Archivio domande'!E8 -> In quale videogioco si devono incastrare dei pezzi di diverse forme ma formati da quattro quadrati uniti? | H4: C2 | I4: ='Archivio domande'!H8 -> Quale invenzione ha reso famoso lo scienziato Alessandro Volta? | K4: =IF(L4=TRUE,B4,M4) -> Se ti trovi sotto la Mole Antonelliana sei nella città di: | L4: =AND(Formule!$D$4="A",'Crescendo n1'!$C$10="A") -> FALSE | M4: =IF(N4=TRUE,F4,O4) -> Se ti trovi sotto la Mole Antonelliana sei nella città di: | N4: =AND(Formule!$D$4="A",'Crescendo n1'!$C$10="B") -> FALSE | O4: =IF(P4=TRUE,I4,Q4) -> Se ti trovi sotto la Mole Antonelliana sei nella città di: | P4: =AND(Formule!$D$4="A",'Crescendo n1'!$C$10="C") -> FALSE | Q4: =IF(R4=TRUE,I4,S4) -> Se ti trovi sotto la Mole Antonelliana sei nella città di: | R4: =AND(Formule!$D$4="B",'Crescendo n1'!$C$10="A") -> FALSE | S4: =IF(T4=TRUE,B4,U4) -> Se ti trovi sotto la Mole Antonelliana sei nella città di: | T4: =AND(Formule!$D$4="B",'Crescendo n1'!$C$10="B") -> FALSE | U4: =IF(V4=TRUE,F4,W4) -> Se ti trovi sotto la Mole Antonelliana sei nella città di: | V4: =AND(Formule!$D$4="B",'Crescendo n1'!$C$10="C") -> FALSE | W4: =IF(X4=TRUE,F4,Y4) -> Se ti trovi sotto la Mole Antonelliana sei nella città di: | X4: =AND(Formule!$D$4="C",'Crescendo n1'!$C$10="A") -> FALSE | Y4: =IF(Z4=TRUE,I4,AA4) -> Se ti trovi sotto la Mole Antonelliana sei nella città di: | Z4: =AND(Formule!$D$4="C",'Crescendo n1'!$C$10="B") -> FALSE | AA4: =IF(AB4=TRUE,B4,AC4) -> Se ti trovi sotto la Mole Antonelliana sei nella città di: | AB4: =AND(Formule!$D$4="C",'Crescendo n1'!$C10="C") -> FALSE | AC4: =B4 -> Se ti trovi sotto la Mole Antonelliana sei nella città di:
B5: ='Archivio domande'!B9 -> Milano | E5: A | F5: ='Archivio domande'!E9 -> Pac-Man | G5: C | H5: A | I5: ='Archivio domande'!H9 -> La Lampadina | K5: =IF(L5=TRUE,B5,M5) -> Milano | L5: =AND(Formule!$D$4="A",'Crescendo n1'!$C$10="A") -> FALSE | M5: =IF(N5=TRUE,F5,O5) -> Milano | N5: =AND(Formule!$D$4="A",'Crescendo n1'!$C$10="B") -> FALSE | O5: =IF(P5=TRUE,I5,Q5) -> Milano | P5: =AND(Formule!$D$4="A",'Crescendo n1'!$C$10="C") -> FALSE | Q5: =IF(R5=TRUE,I5,S5) -> Milano | R5: =AND(Formule!$D$4="B",'Crescendo n1'!$C$10="A") -> FALSE | S5: =IF(T5=TRUE,B5,U5) -> Milano | T5: =AND(Formule!$D$4="B",'Crescendo n1'!$C$10="B") -> FALSE | U5: =IF(V5=TRUE,F5,W5) -> Milano | V5: =AND(Formule!$D$4="B",'Crescendo n1'!$C$10="C") -> FALSE | W5: =IF(X5=TRUE,F5,Y5) -> Milano | X5: =AND(Formule!$D$4="C",'Crescendo n1'!$C$10="A") -> FALSE | Y5: =IF(Z5=TRUE,I5,AA5) -> Milano | Z5: =AND(Formule!$D$4="C",'Crescendo n1'!$C$10="B") -> FALSE | AA5: =IF(AB5=TRUE,B5,AC5) -> Milano | AB5: =AND(Formule!$D$4="C",'Crescendo n1'!$C12="C") -> FALSE | AC5: =B5 -> Milano
B6: ='Archivio domande'!B10 -> Napoli | E6: B | F6: ='Archivio domande'!E10 -> Tetris | H6: B | I6: ='Archivio domande'!H10 -> La Radio | K6: =IF(L6=TRUE,B6,M6) -> Napoli | L6: =AND(Formule!$D$4="A",'Crescendo n1'!$C$10="A") -> FALSE | M6: =IF(N6=TRUE,F6,O6) -> Napoli | N6: =AND(Formule!$D$4="A",'Crescendo n1'!$C$10="B") -> FALSE | O6: =IF(P6=TRUE,I6,Q6) -> Napoli | P6: =AND(Formule!$D$4="A",'Crescendo n1'!$C$10="C") -> FALSE | Q6: =IF(R6=TRUE,I6,S6) -> Napoli | R6: =AND(Formule!$D$4="B",'Crescendo n1'!$C$10="A") -> FALSE | S6: =IF(T6=TRUE,B6,U6) -> Napoli | T6: =AND(Formule!$D$4="B",'Crescendo n1'!$C$10="B") -> FALSE | U6: =IF(V6=TRUE,F6,W6) -> Napoli | V6: =AND(Formule!$D$4="B",'Crescendo n1'!$C$10="C") -> FALSE | W6: =IF(X6=TRUE,F6,Y6) -> Napoli | X6: =AND(Formule!$D$4="C",'Crescendo n1'!$C$10="A") -> FALSE | Y6: =IF(Z6=TRUE,I6,AA6) -> Napoli | Z6: =AND(Formule!$D$4="C",'Crescendo n1'!$C$10="B") -> FALSE | AA6: =IF(AB6=TRUE,B6,AC6) -> Napoli | AB6: =AND(Formule!$D$4="C",'Crescendo n1'!$C14="C") -> FALSE | AC6: =B6 -> Napoli
B7: ='Archivio domande'!B11 -> Torino | E7: C | F7: ='Archivio domande'!E11 -> Space Invaders | H7: C | I7: ='Archivio domande'!H11 -> La Pila | K7: =IF(L7=TRUE,B7,M7) -> Torino | L7: =AND(Formule!$D$4="A",'Crescendo n1'!$C$10="A") -> FALSE | M7: =IF(N7=TRUE,F7,O7) -> Torino | N7: =AND(Formule!$D$4="A",'Crescendo n1'!$C$10="B") -> FALSE | O7: =IF(P7=TRUE,I7,Q7) -> Torino | P7: =AND(Formule!$D$4="A",'Crescendo n1'!$C$10="C") -> FALSE | Q7: =IF(R7=TRUE,I7,S7) -> Torino | R7: =AND(Formule!$D$4="B",'Crescendo n1'!$C$10="A") -> FALSE | S7: =IF(T7=TRUE,B7,U7) -> Torino | T7: =AND(Formule!$D$4="B",'Crescendo n1'!$C$10="B") -> FALSE | U7: =IF(V7=TRUE,F7,W7) -> Torino | V7: =AND(Formule!$D$4="B",'Crescendo n1'!$C$10="C") -> FALSE | W7: =IF(X7=TRUE,F7,Y7) -> Torino | X7: =AND(Formule!$D$4="C",'Crescendo n1'!$C$10="A") -> FALSE | Y7: =IF(Z7=TRUE,I7,AA7) -> Torino | Z7: =AND(Formule!$D$4="C",'Crescendo n1'!$C$10="B") -> FALSE | AA7: =IF(AB7=TRUE,B7,AC7) -> Torino | AB7: =AND(Formule!$D$4="C",'Crescendo n1'!$C16="C") -> FALSE | AC7: =B7 -> Torino
A9: A3 | B9: ='Archivio domande'!B13 -> Il film "Odissea" del 2026 è a firma del regista: | D9: C | E9: B3 | F9: ='Archivio domande'!E13 -> La città di Tessalonica, in italiano è oggi chiamata: | H9: C3 | I9: ='Archivio domande'!H13 -> Giulio Cesare è stato ucciso alle Idi (cioè il giorno 15) di quale mese? | K9: =IF(L9=TRUE,B9,M9) -> Il film "Odissea" del 2026 è a firma del regista: | L9: =AND(Formule!$D$9="A",'Crescendo n1'!$C$21="A") -> FALSE | M9: =IF(N9=TRUE,F9,O9) -> Il film "Odissea" del 2026 è a firma del regista: | N9: =AND(Formule!$D$9="A",'Crescendo n1'!$C$21="B") -> FALSE | O9: =IF(P9=TRUE,I9,Q9) -> Il film "Odissea" del 2026 è a firma del regista: | P9: =AND(Formule!$D$9="A",'Crescendo n1'!$C$21="C") -> FALSE | Q9: =IF(R9=TRUE,I9,S9) -> Il film "Odissea" del 2026 è a firma del regista: | R9: =AND(Formule!$D$9="B",'Crescendo n1'!$C$21="A") -> FALSE | S9: =IF(T9=TRUE,B9,U9) -> Il film "Odissea" del 2026 è a firma del regista: | T9: =AND(Formule!$D$9="B",'Crescendo n1'!$C$21="B") -> FALSE | U9: =IF(V9=TRUE,F9,W9) -> Il film "Odissea" del 2026 è a firma del regista: | V9: =AND(Formule!$D$9="B",'Crescendo n1'!$C$21="C") -> FALSE | W9: =IF(X9=TRUE,F9,Y9) -> Il film "Odissea" del 2026 è a firma del regista: | X9: =AND(Formule!$D$9="C",'Crescendo n1'!$C$21="A") -> FALSE | Y9: =IF(Z9=TRUE,I9,AA9) -> Il film "Odissea" del 2026 è a firma del regista: | Z9: =AND(Formule!$D$9="C",'Crescendo n1'!$C$21="B") -> FALSE | AA9: =IF(AB9=TRUE,B9,AC9) -> Il film "Odissea" del 2026 è a firma del regista: | AB9: =AND(Formule!$D$9="C",'Crescendo n1'!$C21="C") -> FALSE | AC9: =B9 -> Il film "Odissea" del 2026 è a firma del regista:
B10: ='Archivio domande'!B14 -> Christopher Nolan | F10: ='Archivio domande'!E14 -> Salonicco | I10: ='Archivio domande'!H14 -> Marzo | K10: =IF(L10=TRUE,B10,M10) -> Christopher Nolan | L10: =AND(Formule!$D$9="A",'Crescendo n1'!$C$21="A") -> FALSE | M10: =IF(N10=TRUE,F10,O10) -> Christopher Nolan | N10: =AND(Formule!$D$9="A",'Crescendo n1'!$C$21="B") -> FALSE | O10: =IF(P10=TRUE,I10,Q10) -> Christopher Nolan | P10: =AND(Formule!$D$9="A",'Crescendo n1'!$C$21="C") -> FALSE | Q10: =IF(R10=TRUE,I10,S10) -> Christopher Nolan | R10: =AND(Formule!$D$9="B",'Crescendo n1'!$C$21="A") -> FALSE | S10: =IF(T10=TRUE,B10,U10) -> Christopher Nolan | T10: =AND(Formule!$D$9="B",'Crescendo n1'!$C$21="B") -> FALSE | U10: =IF(V10=TRUE,F10,W10) -> Christopher Nolan | V10: =AND(Formule!$D$9="B",'Crescendo n1'!$C$21="C") -> FALSE | W10: =IF(X10=TRUE,F10,Y10) -> Christopher Nolan | X10: =AND(Formule!$D$9="C",'Crescendo n1'!$C$21="A") -> FALSE | Y10: =IF(Z10=TRUE,I10,AA10) -> Christopher Nolan | Z10: =AND(Formule!$D$9="C",'Crescendo n1'!$C$21="B") -> FALSE | AA10: =IF(AB10=TRUE,B10,AC10) -> Christopher Nolan | AB10: =AND(Formule!$D$9="C",'Crescendo n1'!$C23="C") -> FALSE | AC10: =B10 -> Christopher Nolan
B11: ='Archivio domande'!B15 -> Tim Burton | F11: ='Archivio domande'!E15 -> Efeso | I11: ='Archivio domande'!H15 -> Aprile | K11: =IF(L11=TRUE,B11,M11) -> Tim Burton | L11: =AND(Formule!$D$9="A",'Crescendo n1'!$C$21="A") -> FALSE | M11: =IF(N11=TRUE,F11,O11) -> Tim Burton | N11: =AND(Formule!$D$9="A",'Crescendo n1'!$C$21="B") -> FALSE | O11: =IF(P11=TRUE,I11,Q11) -> Tim Burton | P11: =AND(Formule!$D$9="A",'Crescendo n1'!$C$21="C") -> FALSE | Q11: =IF(R11=TRUE,I11,S11) -> Tim Burton | R11: =AND(Formule!$D$9="B",'Crescendo n1'!$C$21="A") -> FALSE | S11: =IF(T11=TRUE,B11,U11) -> Tim Burton | T11: =AND(Formule!$D$9="B",'Crescendo n1'!$C$21="B") -> FALSE | U11: =IF(V11=TRUE,F11,W11) -> Tim Burton | V11: =AND(Formule!$D$9="B",'Crescendo n1'!$C$21="C") -> FALSE | W11: =IF(X11=TRUE,F11,Y11) -> Tim Burton | X11: =AND(Formule!$D$9="C",'Crescendo n1'!$C$21="A") -> FALSE | Y11: =IF(Z11=TRUE,I11,AA11) -> Tim Burton | Z11: =AND(Formule!$D$9="C",'Crescendo n1'!$C$21="B") -> FALSE | AA11: =IF(AB11=TRUE,B11,AC11) -> Tim Burton | AB11: =AND(Formule!$D$9="C",'Crescendo n1'!$C25="C") -> FALSE | AC11: =B11 -> Tim Burton
B12: ='Archivio domande'!B16 -> Stanley Kubrick | F12: ='Archivio domande'!E16 -> Tarso | I12: ='Archivio domande'!H16 -> Maggio | K12: =IF(L12=TRUE,B12,M12) -> Stanley Kubrick | L12: =AND(Formule!$D$9="A",'Crescendo n1'!$C$21="A") -> FALSE | M12: =IF(N12=TRUE,F12,O12) -> Stanley Kubrick | N12: =AND(Formule!$D$9="A",'Crescendo n1'!$C$21="B") -> FALSE | O12: =IF(P12=TRUE,I12,Q12) -> Stanley Kubrick | P12: =AND(Formule!$D$9="A",'Crescendo n1'!$C$21="C") -> FALSE | Q12: =IF(R12=TRUE,I12,S12) -> Stanley Kubrick | R12: =AND(Formule!$D$9="B",'Crescendo n1'!$C$21="A") -> FALSE | S12: =IF(T12=TRUE,B12,U12) -> Stanley Kubrick | T12: =AND(Formule!$D$9="B",'Crescendo n1'!$C$21="B") -> FALSE | U12: =IF(V12=TRUE,F12,W12) -> Stanley Kubrick | V12: =AND(Formule!$D$9="B",'Crescendo n1'!$C$21="C") -> FALSE | W12: =IF(X12=TRUE,F12,Y12) -> Stanley Kubrick | X12: =AND(Formule!$D$9="C",'Crescendo n1'!$C$21="A") -> FALSE | Y12: =IF(Z12=TRUE,I12,AA12) -> Stanley Kubrick | Z12: =AND(Formule!$D$9="C",'Crescendo n1'!$C$21="B") -> FALSE | AA12: =IF(AB12=TRUE,B12,AC12) -> Stanley Kubrick | AB12: =AND(Formule!$D$9="C",'Crescendo n1'!$C27="C") -> FALSE | AC12: =B12 -> Stanley Kubrick
A14: A4 | B14: ='Archivio domande'!B18 -> Tra i Presidenti della Repubblica del passato figura: | D14: A | E14: B4 | F14: ='Archivio domande'!E18 -> La canzone Com'è profondo il mare è di: | H14: C4 | I14: ='Archivio domande'!H18 -> Il Mare di Bering separa: | K14: =IF(L14=TRUE,B14,M14) -> Tra i Presidenti della Repubblica del passato figura: | L14: =AND(Formule!$D$14="A",'Crescendo n1'!$C$32="A") -> FALSE | M14: =IF(N14=TRUE,F14,O14) -> Tra i Presidenti della Repubblica del passato figura: | N14: =AND(Formule!$D$14="A",'Crescendo n1'!$C$32="B") -> FALSE | O14: =IF(P14=TRUE,I14,Q14) -> Tra i Presidenti della Repubblica del passato figura: | P14: =AND(Formule!$D$14="A",'Crescendo n1'!$C$32="C") -> FALSE | Q14: =IF(R14=TRUE,I14,S14) -> Tra i Presidenti della Repubblica del passato figura: | R14: =AND(Formule!$D$14="B",'Crescendo n1'!$C$32="A") -> FALSE | S14: =IF(T14=TRUE,B14,U14) -> Tra i Presidenti della Repubblica del passato figura: | T14: =AND(Formule!$D$14="B",'Crescendo n1'!$C$32="B") -> FALSE | U14: =IF(V14=TRUE,F14,W14) -> Tra i Presidenti della Repubblica del passato figura: | V14: =AND(Formule!$D$14="B",'Crescendo n1'!$C$32="C") -> FALSE | W14: =IF(X14=TRUE,F14,Y14) -> Tra i Presidenti della Repubblica del passato figura: | X14: =AND(Formule!$D$14="C",'Crescendo n1'!$C$32="A") -> FALSE | Y14: =IF(Z14=TRUE,I14,AA14) -> Tra i Presidenti della Repubblica del passato figura: | Z14: =AND(Formule!$D$14="C",'Crescendo n1'!$C$32="B") -> FALSE | AA14: =IF(AB14=TRUE,B14,AC14) -> Tra i Presidenti della Repubblica del passato figura: | AB14: =AND(Formule!$D$14="C",'Crescendo n1'!$C32="C") -> FALSE | AC14: =B14 -> Tra i Presidenti della Repubblica del passato figura:
B15: ='Archivio domande'!B19 -> Luigi Einaudi | F15: ='Archivio domande'!E19 -> Antonello Venditti | I15: ='Archivio domande'!H19 -> La Norvegia dalla Scozia | K15: =IF(L15=TRUE,B15,M15) -> Luigi Einaudi | L15: =AND(Formule!$D$14="A",'Crescendo n1'!$C$32="A") -> FALSE | M15: =IF(N15=TRUE,F15,O15) -> Luigi Einaudi | N15: =AND(Formule!$D$14="A",'Crescendo n1'!$C$32="B") -> FALSE | O15: =IF(P15=TRUE,I15,Q15) -> Luigi Einaudi | P15: =AND(Formule!$D$14="A",'Crescendo n1'!$C$32="C") -> FALSE | Q15: =IF(R15=TRUE,I15,S15) -> Luigi Einaudi | R15: =AND(Formule!$D$14="B",'Crescendo n1'!$C$32="A") -> FALSE | S15: =IF(T15=TRUE,B15,U15) -> Luigi Einaudi | T15: =AND(Formule!$D$14="B",'Crescendo n1'!$C$32="B") -> FALSE | U15: =IF(V15=TRUE,F15,W15) -> Luigi Einaudi | V15: =AND(Formule!$D$14="B",'Crescendo n1'!$C$32="C") -> FALSE | W15: =IF(X15=TRUE,F15,Y15) -> Luigi Einaudi | X15: =AND(Formule!$D$14="C",'Crescendo n1'!$C$32="A") -> FALSE | Y15: =IF(Z15=TRUE,I15,AA15) -> Luigi Einaudi | Z15: =AND(Formule!$D$14="C",'Crescendo n1'!$C$32="B") -> FALSE | AA15: =IF(AB15=TRUE,B15,AC15) -> Luigi Einaudi | AB15: =AND(Formule!$D$14="C",'Crescendo n1'!$C34="C") -> FALSE | AC15: =B15 -> Luigi Einaudi
B16: ='Archivio domande'!B20 -> Giuseppe Saragat | F16: ='Archivio domande'!E20 -> Loredana Bertè | I16: ='Archivio domande'!H20 -> L'America del Sud dall'Antartide | K16: =IF(L16=TRUE,B16,M16) -> Giuseppe Saragat | L16: =AND(Formule!$D$14="A",'Crescendo n1'!$C$32="A") -> FALSE | M16: =IF(N16=TRUE,F16,O16) -> Giuseppe Saragat | N16: =AND(Formule!$D$14="A",'Crescendo n1'!$C$32="B") -> FALSE | O16: =IF(P16=TRUE,I16,Q16) -> Giuseppe Saragat | P16: =AND(Formule!$D$14="A",'Crescendo n1'!$C$32="C") -> FALSE | Q16: =IF(R16=TRUE,I16,S16) -> Giuseppe Saragat | R16: =AND(Formule!$D$14="B",'Crescendo n1'!$C$32="A") -> FALSE | S16: =IF(T16=TRUE,B16,U16) -> Giuseppe Saragat | T16: =AND(Formule!$D$14="B",'Crescendo n1'!$C$32="B") -> FALSE | U16: =IF(V16=TRUE,F16,W16) -> Giuseppe Saragat | V16: =AND(Formule!$D$14="B",'Crescendo n1'!$C$32="C") -> FALSE | W16: =IF(X16=TRUE,F16,Y16) -> Giuseppe Saragat | X16: =AND(Formule!$D$14="C",'Crescendo n1'!$C$32="A") -> FALSE | Y16: =IF(Z16=TRUE,I16,AA16) -> Giuseppe Saragat | Z16: =AND(Formule!$D$14="C",'Crescendo n1'!$C$32="B") -> FALSE | AA16: =IF(AB16=TRUE,B16,AC16) -> Giuseppe Saragat | AB16: =AND(Formule!$D$14="C",'Crescendo n1'!$C36="C") -> FALSE | AC16: =B16 -> Giuseppe Saragat
B17: ='Archivio domande'!B21 -> Entrambi i precedenti | F17: ='Archivio domande'!E21 -> Lucio Dalla | I17: ='Archivio domande'!H21 -> La Russia dagli Stati Uniti | K17: =IF(L17=TRUE,B17,M17) -> Entrambi i precedenti | L17: =AND(Formule!$D$14="A",'Crescendo n1'!$C$32="A") -> FALSE | M17: =IF(N17=TRUE,F17,O17) -> Entrambi i precedenti | N17: =AND(Formule!$D$14="A",'Crescendo n1'!$C$32="B") -> FALSE | O17: =IF(P17=TRUE,I17,Q17) -> Entrambi i precedenti | P17: =AND(Formule!$D$14="A",'Crescendo n1'!$C$32="C") -> FALSE | Q17: =IF(R17=TRUE,I17,S17) -> Entrambi i precedenti | R17: =AND(Formule!$D$14="B",'Crescendo n1'!$C$32="A") -> FALSE | S17: =IF(T17=TRUE,B17,U17) -> Entrambi i precedenti | T17: =AND(Formule!$D$14="B",'Crescendo n1'!$C$32="B") -> FALSE | U17: =IF(V17=TRUE,F17,W17) -> Entrambi i precedenti | V17: =AND(Formule!$D$14="B",'Crescendo n1'!$C$32="C") -> FALSE | W17: =IF(X17=TRUE,F17,Y17) -> Entrambi i precedenti | X17: =AND(Formule!$D$14="C",'Crescendo n1'!$C$32="A") -> FALSE | Y17: =IF(Z17=TRUE,I17,AA17) -> Entrambi i precedenti | Z17: =AND(Formule!$D$14="C",'Crescendo n1'!$C$32="B") -> FALSE | AA17: =IF(AB17=TRUE,B17,AC17) -> Entrambi i precedenti | AB17: =AND(Formule!$D$14="C",'Crescendo n1'!$C38="C") -> FALSE | AC17: =B17 -> Entrambi i precedenti
A19: A5 | B19: ='Archivio domande'!B23 -> Il grande campione Pelè ha esordito in un campionato mondiale di calcio all'età di: | D19: C | E19: B5 | F19: ='Archivio domande'!E23 -> L'acido acetilsalicilico è meglio noto come: | H19: C5 | I19: ='Archivio domande'!H23 -> Il Nome della Rosa è un romanzo scritto da: | K19: =IF(L19=TRUE,B19,M19) -> Il grande campione Pelè ha esordito in un campionato mondiale di calcio all'età di: | L19: =AND(Formule!$D$19="A",'Crescendo n1'!$C$43="A") -> FALSE | M19: =IF(N19=TRUE,F19,O19) -> Il grande campione Pelè ha esordito in un campionato mondiale di calcio all'età di: | N19: =AND(Formule!$D$19="A",'Crescendo n1'!$C$43="B") -> FALSE | O19: =IF(P19=TRUE,I19,Q19) -> Il grande campione Pelè ha esordito in un campionato mondiale di calcio all'età di: | P19: =AND(Formule!$D$19="A",'Crescendo n1'!$C$43="C") -> FALSE | Q19: =IF(R19=TRUE,I19,S19) -> Il grande campione Pelè ha esordito in un campionato mondiale di calcio all'età di: | R19: =AND(Formule!$D$19="B",'Crescendo n1'!$C$43="A") -> FALSE | S19: =IF(T19=TRUE,B19,U19) -> Il grande campione Pelè ha esordito in un campionato mondiale di calcio all'età di: | T19: =AND(Formule!$D$19="B",'Crescendo n1'!$C$43="B") -> FALSE | U19: =IF(V19=TRUE,F19,W19) -> Il grande campione Pelè ha esordito in un campionato mondiale di calcio all'età di: | V19: =AND(Formule!$D$19="B",'Crescendo n1'!$C$43="C") -> FALSE | W19: =IF(X19=TRUE,F19,Y19) -> Il grande campione Pelè ha esordito in un campionato mondiale di calcio all'età di: | X19: =AND(Formule!$D$19="C",'Crescendo n1'!$C$43="A") -> FALSE | Y19: =IF(Z19=TRUE,I19,AA19) -> Il grande campione Pelè ha esordito in un campionato mondiale di calcio all'età di: | Z19: =AND(Formule!$D$19="C",'Crescendo n1'!$C$43="B") -> FALSE | AA19: =IF(AB19=TRUE,B19,AC19) -> Il grande campione Pelè ha esordito in un campionato mondiale di calcio all'età di: | AB19: =AND(Formule!$D$19="C",'Crescendo n1'!$C43="C") -> FALSE | AC19: =B19 -> Il grande campione Pelè ha esordito in un campionato mondiale di calcio all'età di:
B20: ='Archivio domande'!B24 -> 16 anni | F20: ='Archivio domande'!E24 -> Vitamina C | I20: ='Archivio domande'!H24 -> Ken Follett | K20: =IF(L20=TRUE,B20,M20) -> 16 anni | L20: =AND(Formule!$D$19="A",'Crescendo n1'!$C$43="A") -> FALSE | M20: =IF(N20=TRUE,F20,O20) -> 16 anni | N20: =AND(Formule!$D$19="A",'Crescendo n1'!$C$43="B") -> FALSE | O20: =IF(P20=TRUE,I20,Q20) -> 16 anni | P20: =AND(Formule!$D$19="A",'Crescendo n1'!$C$43="C") -> FALSE | Q20: =IF(R20=TRUE,I20,S20) -> 16 anni | R20: =AND(Formule!$D$19="B",'Crescendo n1'!$C$43="A") -> FALSE | S20: =IF(T20=TRUE,B20,U20) -> 16 anni | T20: =AND(Formule!$D$19="B",'Crescendo n1'!$C$43="B") -> FALSE | U20: =IF(V20=TRUE,F20,W20) -> 16 anni | V20: =AND(Formule!$D$19="B",'Crescendo n1'!$C$43="C") -> FALSE | W20: =IF(X20=TRUE,F20,Y20) -> 16 anni | X20: =AND(Formule!$D$19="C",'Crescendo n1'!$C$43="A") -> FALSE | Y20: =IF(Z20=TRUE,I20,AA20) -> 16 anni | Z20: =AND(Formule!$D$19="C",'Crescendo n1'!$C$43="B") -> FALSE | AA20: =IF(AB20=TRUE,B20,AC20) -> 16 anni | AB20: =AND(Formule!$D$19="C",'Crescendo n1'!$C45="C") -> FALSE | AC20: =B20 -> 16 anni
B21: ='Archivio domande'!B25 -> 17 anni | F21: ='Archivio domande'!E25 -> Aspirina | I21: ='Archivio domande'!H25 -> Umberto Eco | K21: =IF(L21=TRUE,B21,M21) -> 17 anni | L21: =AND(Formule!$D$19="A",'Crescendo n1'!$C$43="A") -> FALSE | M21: =IF(N21=TRUE,F21,O21) -> 17 anni | N21: =AND(Formule!$D$19="A",'Crescendo n1'!$C$43="B") -> FALSE | O21: =IF(P21=TRUE,I21,Q21) -> 17 anni | P21: =AND(Formule!$D$19="A",'Crescendo n1'!$C$43="C") -> FALSE | Q21: =IF(R21=TRUE,I21,S21) -> 17 anni | R21: =AND(Formule!$D$19="B",'Crescendo n1'!$C$43="A") -> FALSE | S21: =IF(T21=TRUE,B21,U21) -> 17 anni | T21: =AND(Formule!$D$19="B",'Crescendo n1'!$C$43="B") -> FALSE | U21: =IF(V21=TRUE,F21,W21) -> 17 anni | V21: =AND(Formule!$D$19="B",'Crescendo n1'!$C$43="C") -> FALSE | W21: =IF(X21=TRUE,F21,Y21) -> 17 anni | X21: =AND(Formule!$D$19="C",'Crescendo n1'!$C$43="A") -> FALSE | Y21: =IF(Z21=TRUE,I21,AA21) -> 17 anni | Z21: =AND(Formule!$D$19="C",'Crescendo n1'!$C$43="B") -> FALSE | AA21: =IF(AB21=TRUE,B21,AC21) -> 17 anni | AB21: =AND(Formule!$D$19="C",'Crescendo n1'!$C47="C") -> FALSE | AC21: =B21 -> 17 anni
B22: ='Archivio domande'!B26 -> 18 anni | F22: ='Archivio domande'!E26 -> Tachipirina | I22: ='Archivio domande'!H26 -> Gabriel Garcia Marquez | K22: =IF(L22=TRUE,B22,M22) -> 18 anni | L22: =AND(Formule!$D$19="A",'Crescendo n1'!$C$43="A") -> FALSE | M22: =IF(N22=TRUE,F22,O22) -> 18 anni | N22: =AND(Formule!$D$19="A",'Crescendo n1'!$C$43="B") -> FALSE | O22: =IF(P22=TRUE,I22,Q22) -> 18 anni | P22: =AND(Formule!$D$19="A",'Crescendo n1'!$C$43="C") -> FALSE | Q22: =IF(R22=TRUE,I22,S22) -> 18 anni | R22: =AND(Formule!$D$19="B",'Crescendo n1'!$C$43="A") -> FALSE | S22: =IF(T22=TRUE,B22,U22) -> 18 anni | T22: =AND(Formule!$D$19="B",'Crescendo n1'!$C$43="B") -> FALSE | U22: =IF(V22=TRUE,F22,W22) -> 18 anni | V22: =AND(Formule!$D$19="B",'Crescendo n1'!$C$43="C") -> FALSE | W22: =IF(X22=TRUE,F22,Y22) -> 18 anni | X22: =AND(Formule!$D$19="C",'Crescendo n1'!$C$43="A") -> FALSE | Y22: =IF(Z22=TRUE,I22,AA22) -> 18 anni | Z22: =AND(Formule!$D$19="C",'Crescendo n1'!$C$43="B") -> FALSE | AA22: =IF(AB22=TRUE,B22,AC22) -> 18 anni | AB22: =AND(Formule!$D$19="C",'Crescendo n1'!$C49="C") -> FALSE | AC22: =B22 -> 18 anni
A24: A6 | B24: ='Archivio domande'!B28 -> Nella moneta da 2 euro di conio italiano è raffigurato: | D24: B | E24: B6 | F24: ='Archivio domande'!E28 -> Il 31 luglio 1954 raggiunsero la vetta del monte K2, primi in assoluto nella storia, due scalatori: | H24: C6 | I24: ='Archivio domande'!H28 -> Gli scorpioni appartengono alla classe: | K24: =IF(L24=TRUE,B24,M24) -> Nella moneta da 2 euro di conio italiano è raffigurato: | L24: =AND(Formule!$D$24="A",'Crescendo n1'!$C$54="A") -> FALSE | M24: =IF(N24=TRUE,F24,O24) -> Nella moneta da 2 euro di conio italiano è raffigurato: | N24: =AND(Formule!$D$24="A",'Crescendo n1'!$C$54="B") -> FALSE | O24: =IF(P24=TRUE,I24,Q24) -> Nella moneta da 2 euro di conio italiano è raffigurato: | P24: =AND(Formule!$D$24="A",'Crescendo n1'!$C$54="C") -> FALSE | Q24: =IF(R24=TRUE,I24,S24) -> Nella moneta da 2 euro di conio italiano è raffigurato: | R24: =AND(Formule!$D$24="B",'Crescendo n1'!$C$54="A") -> FALSE | S24: =IF(T24=TRUE,B24,U24) -> Nella moneta da 2 euro di conio italiano è raffigurato: | T24: =AND(Formule!$D$24="B",'Crescendo n1'!$C$54="B") -> FALSE | U24: =IF(V24=TRUE,F24,W24) -> Nella moneta da 2 euro di conio italiano è raffigurato: | V24: =AND(Formule!$D$24="B",'Crescendo n1'!$C$54="C") -> FALSE | W24: =IF(X24=TRUE,F24,Y24) -> Nella moneta da 2 euro di conio italiano è raffigurato: | X24: =AND(Formule!$D$24="C",'Crescendo n1'!$C$54="A") -> FALSE | Y24: =IF(Z24=TRUE,I24,AA24) -> Nella moneta da 2 euro di conio italiano è raffigurato: | Z24: =AND(Formule!$D$24="C",'Crescendo n1'!$C$54="B") -> FALSE | AA24: =IF(AB24=TRUE,B24,AC24) -> Nella moneta da 2 euro di conio italiano è raffigurato: | AB24: =AND(Formule!$D$24="C",'Crescendo n1'!$C54="C") -> FALSE | AC24: =B24 -> Nella moneta da 2 euro di conio italiano è raffigurato:
B25: ='Archivio domande'!B29 -> L'Uomo Vitruviano di Leonardo Da Vinci | F25: ='Archivio domande'!E29 -> Francesi | I25: ='Archivio domande'!H29 -> Degli insetti | K25: =IF(L25=TRUE,B25,M25) -> L'Uomo Vitruviano di Leonardo Da Vinci | L25: =AND(Formule!$D$24="A",'Crescendo n1'!$C$54="A") -> FALSE | M25: =IF(N25=TRUE,F25,O25) -> L'Uomo Vitruviano di Leonardo Da Vinci | N25: =AND(Formule!$D$24="A",'Crescendo n1'!$C$54="B") -> FALSE | O25: =IF(P25=TRUE,I25,Q25) -> L'Uomo Vitruviano di Leonardo Da Vinci | P25: =AND(Formule!$D$24="A",'Crescendo n1'!$C$54="C") -> FALSE | Q25: =IF(R25=TRUE,I25,S25) -> L'Uomo Vitruviano di Leonardo Da Vinci | R25: =AND(Formule!$D$24="B",'Crescendo n1'!$C$54="A") -> FALSE | S25: =IF(T25=TRUE,B25,U25) -> L'Uomo Vitruviano di Leonardo Da Vinci | T25: =AND(Formule!$D$24="B",'Crescendo n1'!$C$54="B") -> FALSE | U25: =IF(V25=TRUE,F25,W25) -> L'Uomo Vitruviano di Leonardo Da Vinci | V25: =AND(Formule!$D$24="B",'Crescendo n1'!$C$54="C") -> FALSE | W25: =IF(X25=TRUE,F25,Y25) -> L'Uomo Vitruviano di Leonardo Da Vinci | X25: =AND(Formule!$D$24="C",'Crescendo n1'!$C$54="A") -> FALSE | Y25: =IF(Z25=TRUE,I25,AA25) -> L'Uomo Vitruviano di Leonardo Da Vinci | Z25: =AND(Formule!$D$24="C",'Crescendo n1'!$C$54="B") -> FALSE | AA25: =IF(AB25=TRUE,B25,AC25) -> L'Uomo Vitruviano di Leonardo Da Vinci | AB25: =AND(Formule!$D$24="C",'Crescendo n1'!$C56="C") -> FALSE | AC25: =B25 -> L'Uomo Vitruviano di Leonardo Da Vinci
B26: ='Archivio domande'!B30 -> Il ritratto di Dante Alighieri | F26: ='Archivio domande'!E30 -> Italiani | I26: ='Archivio domande'!H30 -> Degli aracnidi | K26: =IF(L26=TRUE,B26,M26) -> Il ritratto di Dante Alighieri | L26: =AND(Formule!$D$24="A",'Crescendo n1'!$C$54="A") -> FALSE | M26: =IF(N26=TRUE,F26,O26) -> Il ritratto di Dante Alighieri | N26: =AND(Formule!$D$24="A",'Crescendo n1'!$C$54="B") -> FALSE | O26: =IF(P26=TRUE,I26,Q26) -> Il ritratto di Dante Alighieri | P26: =AND(Formule!$D$24="A",'Crescendo n1'!$C$54="C") -> FALSE | Q26: =IF(R26=TRUE,I26,S26) -> Il ritratto di Dante Alighieri | R26: =AND(Formule!$D$24="B",'Crescendo n1'!$C$54="A") -> FALSE | S26: =IF(T26=TRUE,B26,U26) -> Il ritratto di Dante Alighieri | T26: =AND(Formule!$D$24="B",'Crescendo n1'!$C$54="B") -> FALSE | U26: =IF(V26=TRUE,F26,W26) -> Il ritratto di Dante Alighieri | V26: =AND(Formule!$D$24="B",'Crescendo n1'!$C$54="C") -> FALSE | W26: =IF(X26=TRUE,F26,Y26) -> Il ritratto di Dante Alighieri | X26: =AND(Formule!$D$24="C",'Crescendo n1'!$C$54="A") -> FALSE | Y26: =IF(Z26=TRUE,I26,AA26) -> Il ritratto di Dante Alighieri | Z26: =AND(Formule!$D$24="C",'Crescendo n1'!$C$54="B") -> FALSE | AA26: =IF(AB26=TRUE,B26,AC26) -> Il ritratto di Dante Alighieri | AB26: =AND(Formule!$D$24="C",'Crescendo n1'!$C58="C") -> FALSE | AC26: =B26 -> Il ritratto di Dante Alighieri
B27: ='Archivio domande'!B31 -> Un particolare della "Venere" di Sandro Botticelli | F27: ='Archivio domande'!E31 -> Nepalesi | I27: ='Archivio domande'!H31 -> Dei rettili | K27: =IF(L27=TRUE,B27,M27) -> Un particolare della "Venere" di Sandro Botticelli | L27: =AND(Formule!$D$24="A",'Crescendo n1'!$C$54="A") -> FALSE | M27: =IF(N27=TRUE,F27,O27) -> Un particolare della "Venere" di Sandro Botticelli | N27: =AND(Formule!$D$24="A",'Crescendo n1'!$C$54="B") -> FALSE | O27: =IF(P27=TRUE,I27,Q27) -> Un particolare della "Venere" di Sandro Botticelli | P27: =AND(Formule!$D$24="A",'Crescendo n1'!$C$54="C") -> FALSE | Q27: =IF(R27=TRUE,I27,S27) -> Un particolare della "Venere" di Sandro Botticelli | R27: =AND(Formule!$D$24="B",'Crescendo n1'!$C$54="A") -> FALSE | S27: =IF(T27=TRUE,B27,U27) -> Un particolare della "Venere" di Sandro Botticelli | T27: =AND(Formule!$D$24="B",'Crescendo n1'!$C$54="B") -> FALSE | U27: =IF(V27=TRUE,F27,W27) -> Un particolare della "Venere" di Sandro Botticelli | V27: =AND(Formule!$D$24="B",'Crescendo n1'!$C$54="C") -> FALSE | W27: =IF(X27=TRUE,F27,Y27) -> Un particolare della "Venere" di Sandro Botticelli | X27: =AND(Formule!$D$24="C",'Crescendo n1'!$C$54="A") -> FALSE | Y27: =IF(Z27=TRUE,I27,AA27) -> Un particolare della "Venere" di Sandro Botticelli | Z27: =AND(Formule!$D$24="C",'Crescendo n1'!$C$54="B") -> FALSE | AA27: =IF(AB27=TRUE,B27,AC27) -> Un particolare della "Venere" di Sandro Botticelli | AB27: =AND(Formule!$D$24="C",'Crescendo n1'!$C60="C") -> FALSE | AC27: =B27 -> Un particolare della "Venere" di Sandro Botticelli
A29: A7 | B29: ='Archivio domande'!B33 -> L'attore Massimo Troisi esordì in televisione nel programma Non Stop, con il suo gruppo che si chiamava: | D29: B | E29: B7 | F29: ='Archivio domande'!E33 -> La Costituzione della Repubblica Italiana è entrata in vigore: | H29: C7 | I29: ='Archivio domande'!H33 -> In quale Piazza di Roma si trova la Fontana dei Quattro Fiumi? | K29: =IF(L29=TRUE,B29,M29) -> L'attore Massimo Troisi esordì in televisione nel programma Non Stop, con il suo gruppo che si chiamava: | L29: =AND(Formule!$D$29="A",'Crescendo n1'!$C$65="A") -> FALSE | M29: =IF(N29=TRUE,F29,O29) -> L'attore Massimo Troisi esordì in televisione nel programma Non Stop, con il suo gruppo che si chiamava: | N29: =AND(Formule!$D$29="A",'Crescendo n1'!$C$65="B") -> FALSE | O29: =IF(P29=TRUE,I29,Q29) -> L'attore Massimo Troisi esordì in televisione nel programma Non Stop, con il suo gruppo che si chiamava: | P29: =AND(Formule!$D$29="A",'Crescendo n1'!$C$65="C") -> FALSE | Q29: =IF(R29=TRUE,I29,S29) -> L'attore Massimo Troisi esordì in televisione nel programma Non Stop, con il suo gruppo che si chiamava: | R29: =AND(Formule!$D$29="B",'Crescendo n1'!$C$65="A") -> FALSE | S29: =IF(T29=TRUE,B29,U29) -> L'attore Massimo Troisi esordì in televisione nel programma Non Stop, con il suo gruppo che si chiamava: | T29: =AND(Formule!$D$29="B",'Crescendo n1'!$C$65="B") -> FALSE | U29: =IF(V29=TRUE,F29,W29) -> L'attore Massimo Troisi esordì in televisione nel programma Non Stop, con il suo gruppo che si chiamava: | V29: =AND(Formule!$D$29="B",'Crescendo n1'!$C$65="C") -> FALSE | W29: =IF(X29=TRUE,F29,Y29) -> L'attore Massimo Troisi esordì in televisione nel programma Non Stop, con il suo gruppo che si chiamava: | X29: =AND(Formule!$D$29="C",'Crescendo n1'!$C$65="A") -> FALSE | Y29: =IF(Z29=TRUE,I29,AA29) -> L'attore Massimo Troisi esordì in televisione nel programma Non Stop, con il suo gruppo che si chiamava: | Z29: =AND(Formule!$D$29="C",'Crescendo n1'!$C$65="B") -> FALSE | AA29: =IF(AB29=TRUE,B29,AC29) -> L'attore Massimo Troisi esordì in televisione nel programma Non Stop, con il suo gruppo che si chiamava: | AB29: =AND(Formule!$D$29="C",'Crescendo n1'!$C65="C") -> FALSE | AC29: =B29 -> L'attore Massimo Troisi esordì in televisione nel programma Non Stop, con il suo gruppo che si chiamava:
B30: ='Archivio domande'!B34 -> La Smorfia | F30: ='Archivio domande'!E34 -> Il 1° gennaio 1948 | I30: ='Archivio domande'!H34 -> Piazza Navona | K30: =IF(L30=TRUE,B30,M30) -> La Smorfia | L30: =AND(Formule!$D$29="A",'Crescendo n1'!$C$65="A") -> FALSE | M30: =IF(N30=TRUE,F30,O30) -> La Smorfia | N30: =AND(Formule!$D$29="A",'Crescendo n1'!$C$65="B") -> FALSE | O30: =IF(P30=TRUE,I30,Q30) -> La Smorfia | P30: =AND(Formule!$D$29="A",'Crescendo n1'!$C$65="C") -> FALSE | Q30: =IF(R30=TRUE,I30,S30) -> La Smorfia | R30: =AND(Formule!$D$29="B",'Crescendo n1'!$C$65="A") -> FALSE | S30: =IF(T30=TRUE,B30,U30) -> La Smorfia | T30: =AND(Formule!$D$29="B",'Crescendo n1'!$C$65="B") -> FALSE | U30: =IF(V30=TRUE,F30,W30) -> La Smorfia | V30: =AND(Formule!$D$29="B",'Crescendo n1'!$C$65="C") -> FALSE | W30: =IF(X30=TRUE,F30,Y30) -> La Smorfia | X30: =AND(Formule!$D$29="C",'Crescendo n1'!$C$65="A") -> FALSE | Y30: =IF(Z30=TRUE,I30,AA30) -> La Smorfia | Z30: =AND(Formule!$D$29="C",'Crescendo n1'!$C$65="B") -> FALSE | AA30: =IF(AB30=TRUE,B30,AC30) -> La Smorfia | AB30: =AND(Formule!$D$29="C",'Crescendo n1'!$C67="C") -> FALSE | AC30: =B30 -> La Smorfia
B31: ='Archivio domande'!B35 -> I Gatti di Vicolo Miracoli | F31: ='Archivio domande'!E35 -> Il 22 dicembre1947 | I31: ='Archivio domande'!H35 -> Piazza di Spagna | K31: =IF(L31=TRUE,B31,M31) -> I Gatti di Vicolo Miracoli | L31: =AND(Formule!$D$29="A",'Crescendo n1'!$C$65="A") -> FALSE | M31: =IF(N31=TRUE,F31,O31) -> I Gatti di Vicolo Miracoli | N31: =AND(Formule!$D$29="A",'Crescendo n1'!$C$65="B") -> FALSE | O31: =IF(P31=TRUE,I31,Q31) -> I Gatti di Vicolo Miracoli | P31: =AND(Formule!$D$29="A",'Crescendo n1'!$C$65="C") -> FALSE | Q31: =IF(R31=TRUE,I31,S31) -> I Gatti di Vicolo Miracoli | R31: =AND(Formule!$D$29="B",'Crescendo n1'!$C$65="A") -> FALSE | S31: =IF(T31=TRUE,B31,U31) -> I Gatti di Vicolo Miracoli | T31: =AND(Formule!$D$29="B",'Crescendo n1'!$C$65="B") -> FALSE | U31: =IF(V31=TRUE,F31,W31) -> I Gatti di Vicolo Miracoli | V31: =AND(Formule!$D$29="B",'Crescendo n1'!$C$65="C") -> FALSE | W31: =IF(X31=TRUE,F31,Y31) -> I Gatti di Vicolo Miracoli | X31: =AND(Formule!$D$29="C",'Crescendo n1'!$C$65="A") -> FALSE | Y31: =IF(Z31=TRUE,I31,AA31) -> I Gatti di Vicolo Miracoli | Z31: =AND(Formule!$D$29="C",'Crescendo n1'!$C$65="B") -> FALSE | AA31: =IF(AB31=TRUE,B31,AC31) -> I Gatti di Vicolo Miracoli | AB31: =AND(Formule!$D$29="C",'Crescendo n1'!$C69="C") -> FALSE | AC31: =B31 -> I Gatti di Vicolo Miracoli
B32: ='Archivio domande'!B36 -> I Giancattivi | F32: ='Archivio domande'!E36 -> L'8 settembre 1943 | I32: ='Archivio domande'!H36 -> Piazza di Trevi | K32: =IF(L32=TRUE,B32,M32) -> I Giancattivi | L32: =AND(Formule!$D$29="A",'Crescendo n1'!$C$65="A") -> FALSE | M32: =IF(N32=TRUE,F32,O32) -> I Giancattivi | N32: =AND(Formule!$D$29="A",'Crescendo n1'!$C$65="B") -> FALSE | O32: =IF(P32=TRUE,I32,Q32) -> I Giancattivi | P32: =AND(Formule!$D$29="A",'Crescendo n1'!$C$65="C") -> FALSE | Q32: =IF(R32=TRUE,I32,S32) -> I Giancattivi | R32: =AND(Formule!$D$29="B",'Crescendo n1'!$C$65="A") -> FALSE | S32: =IF(T32=TRUE,B32,U32) -> I Giancattivi | T32: =AND(Formule!$D$29="B",'Crescendo n1'!$C$65="B") -> FALSE | U32: =IF(V32=TRUE,F32,W32) -> I Giancattivi | V32: =AND(Formule!$D$29="B",'Crescendo n1'!$C$65="C") -> FALSE | W32: =IF(X32=TRUE,F32,Y32) -> I Giancattivi | X32: =AND(Formule!$D$29="C",'Crescendo n1'!$C$65="A") -> FALSE | Y32: =IF(Z32=TRUE,I32,AA32) -> I Giancattivi | Z32: =AND(Formule!$D$29="C",'Crescendo n1'!$C$65="B") -> FALSE | AA32: =IF(AB32=TRUE,B32,AC32) -> I Giancattivi | AB32: =AND(Formule!$D$29="C",'Crescendo n1'!$C71="C") -> FALSE | AC32: =B32 -> I Giancattivi
A34: A8 | B34: ='Archivio domande'!B38 -> In quale città straniera si rifugiò Giuseppe Mazzini tra il 1837 e, a più riprese, fino al 1868? | D34: A | E34: B8 | F34: ='Archivio domande'!E38 -> Quale salsa a base di pesce nell'antica Roma si usava per insaporire i piatti? | H34: C8 | I34: ='Archivio domande'!H38 -> Che differenza c'è tra domicilio e residenza? | K34: =IF(L34=TRUE,B34,M34) -> In quale città straniera si rifugiò Giuseppe Mazzini tra il 1837 e, a più riprese, fino al 1868? | L34: =AND(Formule!$D$34="A",'Crescendo n1'!$C$76="A") -> FALSE | M34: =IF(N34=TRUE,F34,O34) -> In quale città straniera si rifugiò Giuseppe Mazzini tra il 1837 e, a più riprese, fino al 1868? | N34: =AND(Formule!$D$34="A",'Crescendo n1'!$C$76="B") -> FALSE | O34: =IF(P34=TRUE,I34,Q34) -> In quale città straniera si rifugiò Giuseppe Mazzini tra il 1837 e, a più riprese, fino al 1868? | P34: =AND(Formule!$D$34="A",'Crescendo n1'!$C$76="C") -> FALSE | Q34: =IF(R34=TRUE,I34,S34) -> In quale città straniera si rifugiò Giuseppe Mazzini tra il 1837 e, a più riprese, fino al 1868? | R34: =AND(Formule!$D$34="B",'Crescendo n1'!$C$76="A") -> FALSE | S34: =IF(T34=TRUE,B34,U34) -> In quale città straniera si rifugiò Giuseppe Mazzini tra il 1837 e, a più riprese, fino al 1868? | T34: =AND(Formule!$D$34="B",'Crescendo n1'!$C$76="B") -> FALSE | U34: =IF(V34=TRUE,F34,W34) -> In quale città straniera si rifugiò Giuseppe Mazzini tra il 1837 e, a più riprese, fino al 1868? | V34: =AND(Formule!$D$34="B",'Crescendo n1'!$C$76="C") -> FALSE | W34: =IF(X34=TRUE,F34,Y34) -> In quale città straniera si rifugiò Giuseppe Mazzini tra il 1837 e, a più riprese, fino al 1868? | X34: =AND(Formule!$D$34="C",'Crescendo n1'!$C$76="A") -> FALSE | Y34: =IF(Z34=TRUE,I34,AA34) -> In quale città straniera si rifugiò Giuseppe Mazzini tra il 1837 e, a più riprese, fino al 1868? | Z34: =AND(Formule!$D$34="C",'Crescendo n1'!$C$76="B") -> FALSE | AA34: =IF(AB34=TRUE,B34,AC34) -> In quale città straniera si rifugiò Giuseppe Mazzini tra il 1837 e, a più riprese, fino al 1868? | AB34: =AND(Formule!$D$34="C",'Crescendo n1'!$C76="C") -> FALSE | AC34: =B34 -> In quale città straniera si rifugiò Giuseppe Mazzini tra il 1837 e, a più riprese, fino al 1868?
B35: ='Archivio domande'!B39 -> Parigi | F35: ='Archivio domande'!E39 -> Sartramone | I35: ='Archivio domande'!H39 -> Il domicilio è il luogo in cui si vive di solito e la residenza è la sede ufficiale in cui si svolgono anche i propri affari | K35: =IF(L35=TRUE,B35,M35) -> Parigi | L35: =AND(Formule!$D$34="A",'Crescendo n1'!$C$76="A") -> FALSE | M35: =IF(N35=TRUE,F35,O35) -> Parigi | N35: =AND(Formule!$D$34="A",'Crescendo n1'!$C$76="B") -> FALSE | O35: =IF(P35=TRUE,I35,Q35) -> Parigi | P35: =AND(Formule!$D$34="A",'Crescendo n1'!$C$76="C") -> FALSE | Q35: =IF(R35=TRUE,I35,S35) -> Parigi | R35: =AND(Formule!$D$34="B",'Crescendo n1'!$C$76="A") -> FALSE | S35: =IF(T35=TRUE,B35,U35) -> Parigi | T35: =AND(Formule!$D$34="B",'Crescendo n1'!$C$76="B") -> FALSE | U35: =IF(V35=TRUE,F35,W35) -> Parigi | V35: =AND(Formule!$D$34="B",'Crescendo n1'!$C$76="C") -> FALSE | W35: =IF(X35=TRUE,F35,Y35) -> Parigi | X35: =AND(Formule!$D$34="C",'Crescendo n1'!$C$76="A") -> FALSE | Y35: =IF(Z35=TRUE,I35,AA35) -> Parigi | Z35: =AND(Formule!$D$34="C",'Crescendo n1'!$C$76="B") -> FALSE | AA35: =IF(AB35=TRUE,B35,AC35) -> Parigi | AB35: =AND(Formule!$D$34="C",'Crescendo n1'!$C78="C") -> FALSE | AC35: =B35 -> Parigi
B36: ='Archivio domande'!B40 -> Londra | F36: ='Archivio domande'!E40 -> Garum | I36: ='Archivio domande'!H40 -> La residenza è il luogo in cui si vive di solito ed il domicilio è il luogo dove si tengono i propri affari | K36: =IF(L36=TRUE,B36,M36) -> Londra | L36: =AND(Formule!$D$34="A",'Crescendo n1'!$C$76="A") -> FALSE | M36: =IF(N36=TRUE,F36,O36) -> Londra | N36: =AND(Formule!$D$34="A",'Crescendo n1'!$C$76="B") -> FALSE | O36: =IF(P36=TRUE,I36,Q36) -> Londra | P36: =AND(Formule!$D$34="A",'Crescendo n1'!$C$76="C") -> FALSE | Q36: =IF(R36=TRUE,I36,S36) -> Londra | R36: =AND(Formule!$D$34="B",'Crescendo n1'!$C$76="A") -> FALSE | S36: =IF(T36=TRUE,B36,U36) -> Londra | T36: =AND(Formule!$D$34="B",'Crescendo n1'!$C$76="B") -> FALSE | U36: =IF(V36=TRUE,F36,W36) -> Londra | V36: =AND(Formule!$D$34="B",'Crescendo n1'!$C$76="C") -> FALSE | W36: =IF(X36=TRUE,F36,Y36) -> Londra | X36: =AND(Formule!$D$34="C",'Crescendo n1'!$C$76="A") -> FALSE | Y36: =IF(Z36=TRUE,I36,AA36) -> Londra | Z36: =AND(Formule!$D$34="C",'Crescendo n1'!$C$76="B") -> FALSE | AA36: =IF(AB36=TRUE,B36,AC36) -> Londra | AB36: =AND(Formule!$D$34="C",'Crescendo n1'!$C80="C") -> FALSE | AC36: =B36 -> Londra
B37: ='Archivio domande'!B41 -> Losanna | F37: ='Archivio domande'!E41 -> Edes Anna | I37: ='Archivio domande'!H41 -> Sono sinonimi e differiscono semmai soltanto in alcuni statuti comunali | K37: =IF(L37=TRUE,B37,M37) -> Losanna | L37: =AND(Formule!$D$34="A",'Crescendo n1'!$C$76="A") -> FALSE | M37: =IF(N37=TRUE,F37,O37) -> Losanna | N37: =AND(Formule!$D$34="A",'Crescendo n1'!$C$76="B") -> FALSE | O37: =IF(P37=TRUE,I37,Q37) -> Losanna | P37: =AND(Formule!$D$34="A",'Crescendo n1'!$C$76="C") -> FALSE | Q37: =IF(R37=TRUE,I37,S37) -> Losanna | R37: =AND(Formule!$D$34="B",'Crescendo n1'!$C$76="A") -> FALSE | S37: =IF(T37=TRUE,B37,U37) -> Losanna | T37: =AND(Formule!$D$34="B",'Crescendo n1'!$C$76="B") -> FALSE | U37: =IF(V37=TRUE,F37,W37) -> Losanna | V37: =AND(Formule!$D$34="B",'Crescendo n1'!$C$76="C") -> FALSE | W37: =IF(X37=TRUE,F37,Y37) -> Losanna | X37: =AND(Formule!$D$34="C",'Crescendo n1'!$C$76="A") -> FALSE | Y37: =IF(Z37=TRUE,I37,AA37) -> Losanna | Z37: =AND(Formule!$D$34="C",'Crescendo n1'!$C$76="B") -> FALSE | AA37: =IF(AB37=TRUE,B37,AC37) -> Losanna | AB37: =AND(Formule!$D$34="C",'Crescendo n1'!$C82="C") -> FALSE | AC37: =B37 -> Losanna
A39: A9 | B39: ='Archivio domande'!B43 -> Quale grande sfida si svolse a Reykjavik, in Islanda, nel 1972? | D39: B | E39: B9 | F39: ='Archivio domande'!E43 -> Nella scherma, quali armi possono colpire in modo valido soltanto di punta? | H39: C9 | I39: ='Archivio domande'!H43 -> La Stella Polare appartiene alla Costellazione: | K39: =IF(L39=TRUE,B39,M39) -> Quale grande sfida si svolse a Reykjavik, in Islanda, nel 1972? | L39: =AND(Formule!$D$39="A",'Crescendo n1'!$C$87="A") -> FALSE | M39: =IF(N39=TRUE,F39,O39) -> Quale grande sfida si svolse a Reykjavik, in Islanda, nel 1972? | N39: =AND(Formule!$D$39="A",'Crescendo n1'!$C$87="B") -> FALSE | O39: =IF(P39=TRUE,I39,Q39) -> Quale grande sfida si svolse a Reykjavik, in Islanda, nel 1972? | P39: =AND(Formule!$D$39="A",'Crescendo n1'!$C$87="C") -> FALSE | Q39: =IF(R39=TRUE,I39,S39) -> Quale grande sfida si svolse a Reykjavik, in Islanda, nel 1972? | R39: =AND(Formule!$D$39="B",'Crescendo n1'!$C$87="A") -> FALSE | S39: =IF(T39=TRUE,B39,U39) -> Quale grande sfida si svolse a Reykjavik, in Islanda, nel 1972? | T39: =AND(Formule!$D$39="B",'Crescendo n1'!$C$87="B") -> FALSE | U39: =IF(V39=TRUE,F39,W39) -> Quale grande sfida si svolse a Reykjavik, in Islanda, nel 1972? | V39: =AND(Formule!$D$39="B",'Crescendo n1'!$C$87="C") -> FALSE | W39: =IF(X39=TRUE,F39,Y39) -> Quale grande sfida si svolse a Reykjavik, in Islanda, nel 1972? | X39: =AND(Formule!$D$39="C",'Crescendo n1'!$C$87="A") -> FALSE | Y39: =IF(Z39=TRUE,I39,AA39) -> Quale grande sfida si svolse a Reykjavik, in Islanda, nel 1972? | Z39: =AND(Formule!$D$39="C",'Crescendo n1'!$C$87="B") -> FALSE | AA39: =IF(AB39=TRUE,B39,AC39) -> Quale grande sfida si svolse a Reykjavik, in Islanda, nel 1972? | AB39: =AND(Formule!$D$39="C",'Crescendo n1'!$C87="C") -> FALSE | AC39: =B39 -> Quale grande sfida si svolse a Reykjavik, in Islanda, nel 1972?
B40: ='Archivio domande'!B44 -> L'incontro di pugilato tra Muhammad Alì (Cassisu Clay) e Gheorge Foreman, valido per il titolo mondiale dei Pesi Massimi | F40: ='Archivio domande'!E44 -> Spada e sciabola | I40: ='Archivio domande'!H44 -> Dell'Orsa Maggiore | K40: =IF(L40=TRUE,B40,M40) -> L'incontro di pugilato tra Muhammad Alì (Cassisu Clay) e Gheorge Foreman, valido per il titolo mondiale dei Pesi Massimi | L40: =AND(Formule!$D$39="A",'Crescendo n1'!$C$87="A") -> FALSE | M40: =IF(N40=TRUE,F40,O40) -> L'incontro di pugilato tra Muhammad Alì (Cassisu Clay) e Gheorge Foreman, valido per il titolo mondiale dei Pesi Massimi | N40: =AND(Formule!$D$39="A",'Crescendo n1'!$C$87="B") -> FALSE | O40: =IF(P40=TRUE,I40,Q40) -> L'incontro di pugilato tra Muhammad Alì (Cassisu Clay) e Gheorge Foreman, valido per il titolo mondiale dei Pesi Massimi | P40: =AND(Formule!$D$39="A",'Crescendo n1'!$C$87="C") -> FALSE | Q40: =IF(R40=TRUE,I40,S40) -> L'incontro di pugilato tra Muhammad Alì (Cassisu Clay) e Gheorge Foreman, valido per il titolo mondiale dei Pesi Massimi | R40: =AND(Formule!$D$39="B",'Crescendo n1'!$C$87="A") -> FALSE | S40: =IF(T40=TRUE,B40,U40) -> L'incontro di pugilato tra Muhammad Alì (Cassisu Clay) e Gheorge Foreman, valido per il titolo mondiale dei Pesi Massimi | T40: =AND(Formule!$D$39="B",'Crescendo n1'!$C$87="B") -> FALSE | U40: =IF(V40=TRUE,F40,W40) -> L'incontro di pugilato tra Muhammad Alì (Cassisu Clay) e Gheorge Foreman, valido per il titolo mondiale dei Pesi Massimi | V40: =AND(Formule!$D$39="B",'Crescendo n1'!$C$87="C") -> FALSE | W40: =IF(X40=TRUE,F40,Y40) -> L'incontro di pugilato tra Muhammad Alì (Cassisu Clay) e Gheorge Foreman, valido per il titolo mondiale dei Pesi Massimi | X40: =AND(Formule!$D$39="C",'Crescendo n1'!$C$87="A") -> FALSE | Y40: =IF(Z40=TRUE,I40,AA40) -> L'incontro di pugilato tra Muhammad Alì (Cassisu Clay) e Gheorge Foreman, valido per il titolo mondiale dei Pesi Massimi | Z40: =AND(Formule!$D$39="C",'Crescendo n1'!$C$87="B") -> FALSE | AA40: =IF(AB40=TRUE,B40,AC40) -> L'incontro di pugilato tra Muhammad Alì (Cassisu Clay) e Gheorge Foreman, valido per il titolo mondiale dei Pesi Massimi | AB40: =AND(Formule!$D$39="C",'Crescendo n1'!$C89="C") -> FALSE | AC40: =B40 -> L'incontro di pugilato tra Muhammad Alì (Cassisu Clay) e Gheorge Foreman, valido per il titolo mondiale dei Pesi Massimi
B41: ='Archivio domande'!B45 -> Il Campionato del Mondo di Scacchi, tra lo statunitense Bobby Fischer e il sovietico Boris Spassky | F41: ='Archivio domande'!E45 -> Fioretto e spada | I41: ='Archivio domande'!H45 -> Dell'Orsa Minore | K41: =IF(L41=TRUE,B41,M41) -> Il Campionato del Mondo di Scacchi, tra lo statunitense Bobby Fischer e il sovietico Boris Spassky | L41: =AND(Formule!$D$39="A",'Crescendo n1'!$C$87="A") -> FALSE | M41: =IF(N41=TRUE,F41,O41) -> Il Campionato del Mondo di Scacchi, tra lo statunitense Bobby Fischer e il sovietico Boris Spassky | N41: =AND(Formule!$D$39="A",'Crescendo n1'!$C$87="B") -> FALSE | O41: =IF(P41=TRUE,I41,Q41) -> Il Campionato del Mondo di Scacchi, tra lo statunitense Bobby Fischer e il sovietico Boris Spassky | P41: =AND(Formule!$D$39="A",'Crescendo n1'!$C$87="C") -> FALSE | Q41: =IF(R41=TRUE,I41,S41) -> Il Campionato del Mondo di Scacchi, tra lo statunitense Bobby Fischer e il sovietico Boris Spassky | R41: =AND(Formule!$D$39="B",'Crescendo n1'!$C$87="A") -> FALSE | S41: =IF(T41=TRUE,B41,U41) -> Il Campionato del Mondo di Scacchi, tra lo statunitense Bobby Fischer e il sovietico Boris Spassky | T41: =AND(Formule!$D$39="B",'Crescendo n1'!$C$87="B") -> FALSE | U41: =IF(V41=TRUE,F41,W41) -> Il Campionato del Mondo di Scacchi, tra lo statunitense Bobby Fischer e il sovietico Boris Spassky | V41: =AND(Formule!$D$39="B",'Crescendo n1'!$C$87="C") -> FALSE | W41: =IF(X41=TRUE,F41,Y41) -> Il Campionato del Mondo di Scacchi, tra lo statunitense Bobby Fischer e il sovietico Boris Spassky | X41: =AND(Formule!$D$39="C",'Crescendo n1'!$C$87="A") -> FALSE | Y41: =IF(Z41=TRUE,I41,AA41) -> Il Campionato del Mondo di Scacchi, tra lo statunitense Bobby Fischer e il sovietico Boris Spassky | Z41: =AND(Formule!$D$39="C",'Crescendo n1'!$C$87="B") -> FALSE | AA41: =IF(AB41=TRUE,B41,AC41) -> Il Campionato del Mondo di Scacchi, tra lo statunitense Bobby Fischer e il sovietico Boris Spassky | AB41: =AND(Formule!$D$39="C",'Crescendo n1'!$C91="C") -> FALSE | AC41: =B41 -> Il Campionato del Mondo di Scacchi, tra lo statunitense Bobby Fischer e il sovietico Boris Spassky
B42: ='Archivio domande'!B46 -> L'unica regata con cui si aggiudicò la prima America,s Cup, che contrapponeva gli equipaggi degli Stati Uniti e della Gran Bretagna | F42: ='Archivio domande'!E46 -> Sciabola e fioretto | I42: ='Archivio domande'!H46 -> Della Lira | K42: =IF(L42=TRUE,B42,M42) -> L'unica regata con cui si aggiudicò la prima America,s Cup, che contrapponeva gli equipaggi degli Stati Uniti e della Gran Bretagna | L42: =AND(Formule!$D$39="A",'Crescendo n1'!$C$87="A") -> FALSE | M42: =IF(N42=TRUE,F42,O42) -> L'unica regata con cui si aggiudicò la prima America,s Cup, che contrapponeva gli equipaggi degli Stati Uniti e della Gran Bretagna | N42: =AND(Formule!$D$39="A",'Crescendo n1'!$C$87="B") -> FALSE | O42: =IF(P42=TRUE,I42,Q42) -> L'unica regata con cui si aggiudicò la prima America,s Cup, che contrapponeva gli equipaggi degli Stati Uniti e della Gran Bretagna | P42: =AND(Formule!$D$39="A",'Crescendo n1'!$C$87="C") -> FALSE | Q42: =IF(R42=TRUE,I42,S42) -> L'unica regata con cui si aggiudicò la prima America,s Cup, che contrapponeva gli equipaggi degli Stati Uniti e della Gran Bretagna | R42: =AND(Formule!$D$39="B",'Crescendo n1'!$C$87="A") -> FALSE | S42: =IF(T42=TRUE,B42,U42) -> L'unica regata con cui si aggiudicò la prima America,s Cup, che contrapponeva gli equipaggi degli Stati Uniti e della Gran Bretagna | T42: =AND(Formule!$D$39="B",'Crescendo n1'!$C$87="B") -> FALSE | U42: =IF(V42=TRUE,F42,W42) -> L'unica regata con cui si aggiudicò la prima America,s Cup, che contrapponeva gli equipaggi degli Stati Uniti e della Gran Bretagna | V42: =AND(Formule!$D$39="B",'Crescendo n1'!$C$87="C") -> FALSE | W42: =IF(X42=TRUE,F42,Y42) -> L'unica regata con cui si aggiudicò la prima America,s Cup, che contrapponeva gli equipaggi degli Stati Uniti e della Gran Bretagna | X42: =AND(Formule!$D$39="C",'Crescendo n1'!$C$87="A") -> FALSE | Y42: =IF(Z42=TRUE,I42,AA42) -> L'unica regata con cui si aggiudicò la prima America,s Cup, che contrapponeva gli equipaggi degli Stati Uniti e della Gran Bretagna | Z42: =AND(Formule!$D$39="C",'Crescendo n1'!$C$87="B") -> FALSE | AA42: =IF(AB42=TRUE,B42,AC42) -> L'unica regata con cui si aggiudicò la prima America,s Cup, che contrapponeva gli equipaggi degli Stati Uniti e della Gran Bretagna | AB42: =AND(Formule!$D$39="C",'Crescendo n1'!$C93="C") -> FALSE | AC42: =B42 -> L'unica regata con cui si aggiudicò la prima America,s Cup, che contrapponeva gli equipaggi degli Stati Uniti e della Gran Bretagna
A44: A10 | B44: ='Archivio domande'!B48 -> Nella scala periodica, tra Elio e Berillio, si colloca il: | D44: B | E44: B10 | F44: ='Archivio domande'!E48 -> Quale tra i seguenti personaggi di nazionalità statunitense è figlio di madre di origini italiane? | H44: C10 | I44: ='Archivio domande'!H48 -> In edilizia, l'uso del calcestruzzo risale a quale epoca? | K44: =IF(L44=TRUE,B44,M44) -> Nella scala periodica, tra Elio e Berillio, si colloca il: | L44: =AND(Formule!$D$44="A",'Crescendo n1'!$C$98="A") -> FALSE | M44: =IF(N44=TRUE,F44,O44) -> Nella scala periodica, tra Elio e Berillio, si colloca il: | N44: =AND(Formule!$D$44="A",'Crescendo n1'!$C$98="B") -> FALSE | O44: =IF(P44=TRUE,I44,Q44) -> Nella scala periodica, tra Elio e Berillio, si colloca il: | P44: =AND(Formule!$D$44="A",'Crescendo n1'!$C$98="C") -> FALSE | Q44: =IF(R44=TRUE,I44,S44) -> Nella scala periodica, tra Elio e Berillio, si colloca il: | R44: =AND(Formule!$D$44="B",'Crescendo n1'!$C$98="A") -> FALSE | S44: =IF(T44=TRUE,B44,U44) -> Nella scala periodica, tra Elio e Berillio, si colloca il: | T44: =AND(Formule!$D$44="B",'Crescendo n1'!$C$98="B") -> FALSE | U44: =IF(V44=TRUE,F44,W44) -> Nella scala periodica, tra Elio e Berillio, si colloca il: | V44: =AND(Formule!$D$44="B",'Crescendo n1'!$C$98="C") -> FALSE | W44: =IF(X44=TRUE,F44,Y44) -> Nella scala periodica, tra Elio e Berillio, si colloca il: | X44: =AND(Formule!$D$44="C",'Crescendo n1'!$C$98="A") -> FALSE | Y44: =IF(Z44=TRUE,I44,AA44) -> Nella scala periodica, tra Elio e Berillio, si colloca il: | Z44: =AND(Formule!$D$44="C",'Crescendo n1'!$C$98="B") -> FALSE | AA44: =IF(AB44=TRUE,B44,AC44) -> Nella scala periodica, tra Elio e Berillio, si colloca il: | AB44: =AND(Formule!$D$44="C",'Crescendo n1'!$C98="C") -> FALSE | AC44: =B44 -> Nella scala periodica, tra Elio e Berillio, si colloca il:
B45: ='Archivio domande'!B49 -> Carbonio | F45: ='Archivio domande'!E49 -> Jennifer Aniston | I45: ='Archivio domande'!H49 -> Alla seconda metà del Settecento, in corrispondenza della rivoluzione industriale | K45: =IF(L45=TRUE,B45,M45) -> Carbonio | L45: =AND(Formule!$D$44="A",'Crescendo n1'!$C$98="A") -> FALSE | M45: =IF(N45=TRUE,F45,O45) -> Carbonio | N45: =AND(Formule!$D$44="A",'Crescendo n1'!$C$98="B") -> FALSE | O45: =IF(P45=TRUE,I45,Q45) -> Carbonio | P45: =AND(Formule!$D$44="A",'Crescendo n1'!$C$98="C") -> FALSE | Q45: =IF(R45=TRUE,I45,S45) -> Carbonio | R45: =AND(Formule!$D$44="B",'Crescendo n1'!$C$98="A") -> FALSE | S45: =IF(T45=TRUE,B45,U45) -> Carbonio | T45: =AND(Formule!$D$44="B",'Crescendo n1'!$C$98="B") -> FALSE | U45: =IF(V45=TRUE,F45,W45) -> Carbonio | V45: =AND(Formule!$D$44="B",'Crescendo n1'!$C$98="C") -> FALSE | W45: =IF(X45=TRUE,F45,Y45) -> Carbonio | X45: =AND(Formule!$D$44="C",'Crescendo n1'!$C$98="A") -> FALSE | Y45: =IF(Z45=TRUE,I45,AA45) -> Carbonio | Z45: =AND(Formule!$D$44="C",'Crescendo n1'!$C$98="B") -> FALSE | AA45: =IF(AB45=TRUE,B45,AC45) -> Carbonio | AB45: =AND(Formule!$D$44="C",'Crescendo n1'!$C100="C") -> FALSE | AC45: =B45 -> Carbonio
B46: ='Archivio domande'!B50 -> Sodio | F46: ='Archivio domande'!E50 -> Cher | I46: ='Archivio domande'!H50 -> All'Alto Medioevo | K46: =IF(L46=TRUE,B46,M46) -> Sodio | L46: =AND(Formule!$D$44="A",'Crescendo n1'!$C$98="A") -> FALSE | M46: =IF(N46=TRUE,F46,O46) -> Sodio | N46: =AND(Formule!$D$44="A",'Crescendo n1'!$C$98="B") -> FALSE | O46: =IF(P46=TRUE,I46,Q46) -> Sodio | P46: =AND(Formule!$D$44="A",'Crescendo n1'!$C$98="C") -> FALSE | Q46: =IF(R46=TRUE,I46,S46) -> Sodio | R46: =AND(Formule!$D$44="B",'Crescendo n1'!$C$98="A") -> FALSE | S46: =IF(T46=TRUE,B46,U46) -> Sodio | T46: =AND(Formule!$D$44="B",'Crescendo n1'!$C$98="B") -> FALSE | U46: =IF(V46=TRUE,F46,W46) -> Sodio | V46: =AND(Formule!$D$44="B",'Crescendo n1'!$C$98="C") -> FALSE | W46: =IF(X46=TRUE,F46,Y46) -> Sodio | X46: =AND(Formule!$D$44="C",'Crescendo n1'!$C$98="A") -> FALSE | Y46: =IF(Z46=TRUE,I46,AA46) -> Sodio | Z46: =AND(Formule!$D$44="C",'Crescendo n1'!$C$98="B") -> FALSE | AA46: =IF(AB46=TRUE,B46,AC46) -> Sodio | AB46: =AND(Formule!$D$44="C",'Crescendo n1'!$C102="C") -> FALSE | AC46: =B46 -> Sodio
B47: ='Archivio domande'!B51 -> Litio | F47: ='Archivio domande'!E51 -> Bruce Springsteen | I47: ='Archivio domande'!H51 -> Intorno al II secolo a.C. | K47: =IF(L47=TRUE,B47,M47) -> Litio | L47: =AND(Formule!$D$44="A",'Crescendo n1'!$C$98="A") -> FALSE | M47: =IF(N47=TRUE,F47,O47) -> Litio | N47: =AND(Formule!$D$44="A",'Crescendo n1'!$C$98="B") -> FALSE | O47: =IF(P47=TRUE,I47,Q47) -> Litio | P47: =AND(Formule!$D$44="A",'Crescendo n1'!$C$98="C") -> FALSE | Q47: =IF(R47=TRUE,I47,S47) -> Litio | R47: =AND(Formule!$D$44="B",'Crescendo n1'!$C$98="A") -> FALSE | S47: =IF(T47=TRUE,B47,U47) -> Litio | T47: =AND(Formule!$D$44="B",'Crescendo n1'!$C$98="B") -> FALSE | U47: =IF(V47=TRUE,F47,W47) -> Litio | V47: =AND(Formule!$D$44="B",'Crescendo n1'!$C$98="C") -> FALSE | W47: =IF(X47=TRUE,F47,Y47) -> Litio | X47: =AND(Formule!$D$44="C",'Crescendo n1'!$C$98="A") -> FALSE | Y47: =IF(Z47=TRUE,I47,AA47) -> Litio | Z47: =AND(Formule!$D$44="C",'Crescendo n1'!$C$98="B") -> FALSE | AA47: =IF(AB47=TRUE,B47,AC47) -> Litio | AB47: =AND(Formule!$D$44="C",'Crescendo n1'!$C104="C") -> FALSE | AC47: =B47 -> Litio
A49: A11 | B49: ='Archivio domande'!B53 -> Il muscolo più lungo del corpo umano è: | D49: C | E49: B11 | F49: ='Archivio domande'!E53 -> La prima edizione del Giro d'Italia è stata quella del: | H49: C11 | I49: ='Archivio domande'!H53 -> Heathcliff e Catherine sono protagonisti di quale romanzo? | K49: =IF(L49=TRUE,B49,M49) -> Il muscolo più lungo del corpo umano è: | L49: =AND(Formule!$D$49="A",'Crescendo n1'!$C$109="A") -> FALSE | M49: =IF(N49=TRUE,F49,O49) -> Il muscolo più lungo del corpo umano è: | N49: =AND(Formule!$D$49="A",'Crescendo n1'!$C$109="B") -> FALSE | O49: =IF(P49=TRUE,I49,Q49) -> Il muscolo più lungo del corpo umano è: | P49: =AND(Formule!$D$49="A",'Crescendo n1'!$C$109="C") -> FALSE | Q49: =IF(R49=TRUE,I49,S49) -> Il muscolo più lungo del corpo umano è: | R49: =AND(Formule!$D$49="B",'Crescendo n1'!$C$109="A") -> FALSE | S49: =IF(T49=TRUE,B49,U49) -> Il muscolo più lungo del corpo umano è: | T49: =AND(Formule!$D$49="B",'Crescendo n1'!$C$109="B") -> FALSE | U49: =IF(V49=TRUE,F49,W49) -> Il muscolo più lungo del corpo umano è: | V49: =AND(Formule!$D$49="B",'Crescendo n1'!$C$109="C") -> FALSE | W49: =IF(X49=TRUE,F49,Y49) -> Il muscolo più lungo del corpo umano è: | X49: =AND(Formule!$D$49="C",'Crescendo n1'!$C$109="A") -> FALSE | Y49: =IF(Z49=TRUE,I49,AA49) -> Il muscolo più lungo del corpo umano è: | Z49: =AND(Formule!$D$49="C",'Crescendo n1'!$C$109="B") -> FALSE | AA49: =IF(AB49=TRUE,B49,AC49) -> Il muscolo più lungo del corpo umano è: | AB49: =AND(Formule!$D$49="C",'Crescendo n1'!$C109="C") -> FALSE | AC49: =B49 -> Il muscolo più lungo del corpo umano è:
B50: ='Archivio domande'!B54 -> Il Bicipite Femorale | F50: ='Archivio domande'!E54 -> 1933 | I50: ='Archivio domande'!H54 -> Orgoglio e Pregiudizio | K50: =IF(L50=TRUE,B50,M50) -> Il Bicipite Femorale | L50: =AND(Formule!$D$49="A",'Crescendo n1'!$C$109="A") -> FALSE | M50: =IF(N50=TRUE,F50,O50) -> Il Bicipite Femorale | N50: =AND(Formule!$D$49="A",'Crescendo n1'!$C$109="B") -> FALSE | O50: =IF(P50=TRUE,I50,Q50) -> Il Bicipite Femorale | P50: =AND(Formule!$D$49="A",'Crescendo n1'!$C$109="C") -> FALSE | Q50: =IF(R50=TRUE,I50,S50) -> Il Bicipite Femorale | R50: =AND(Formule!$D$49="B",'Crescendo n1'!$C$109="A") -> FALSE | S50: =IF(T50=TRUE,B50,U50) -> Il Bicipite Femorale | T50: =AND(Formule!$D$49="B",'Crescendo n1'!$C$109="B") -> FALSE | U50: =IF(V50=TRUE,F50,W50) -> Il Bicipite Femorale | V50: =AND(Formule!$D$49="B",'Crescendo n1'!$C$109="C") -> FALSE | W50: =IF(X50=TRUE,F50,Y50) -> Il Bicipite Femorale | X50: =AND(Formule!$D$49="C",'Crescendo n1'!$C$109="A") -> FALSE | Y50: =IF(Z50=TRUE,I50,AA50) -> Il Bicipite Femorale | Z50: =AND(Formule!$D$49="C",'Crescendo n1'!$C$109="B") -> FALSE | AA50: =IF(AB50=TRUE,B50,AC50) -> Il Bicipite Femorale | AB50: =AND(Formule!$D$49="C",'Crescendo n1'!$C111="C") -> FALSE | AC50: =B50 -> Il Bicipite Femorale
B51: ='Archivio domande'!B55 -> Il Grande Pettorale | F51: ='Archivio domande'!E55 -> 1921 | I51: ='Archivio domande'!H55 -> Al Faro | K51: =IF(L51=TRUE,B51,M51) -> Il Grande Pettorale | L51: =AND(Formule!$D$49="A",'Crescendo n1'!$C$109="A") -> FALSE | M51: =IF(N51=TRUE,F51,O51) -> Il Grande Pettorale | N51: =AND(Formule!$D$49="A",'Crescendo n1'!$C$109="B") -> FALSE | O51: =IF(P51=TRUE,I51,Q51) -> Il Grande Pettorale | P51: =AND(Formule!$D$49="A",'Crescendo n1'!$C$109="C") -> FALSE | Q51: =IF(R51=TRUE,I51,S51) -> Il Grande Pettorale | R51: =AND(Formule!$D$49="B",'Crescendo n1'!$C$109="A") -> FALSE | S51: =IF(T51=TRUE,B51,U51) -> Il Grande Pettorale | T51: =AND(Formule!$D$49="B",'Crescendo n1'!$C$109="B") -> FALSE | U51: =IF(V51=TRUE,F51,W51) -> Il Grande Pettorale | V51: =AND(Formule!$D$49="B",'Crescendo n1'!$C$109="C") -> FALSE | W51: =IF(X51=TRUE,F51,Y51) -> Il Grande Pettorale | X51: =AND(Formule!$D$49="C",'Crescendo n1'!$C$109="A") -> FALSE | Y51: =IF(Z51=TRUE,I51,AA51) -> Il Grande Pettorale | Z51: =AND(Formule!$D$49="C",'Crescendo n1'!$C$109="B") -> FALSE | AA51: =IF(AB51=TRUE,B51,AC51) -> Il Grande Pettorale | AB51: =AND(Formule!$D$49="C",'Crescendo n1'!$C113="C") -> FALSE | AC51: =B51 -> Il Grande Pettorale
B52: ='Archivio domande'!B56 -> Il Sartorio | F52: ='Archivio domande'!E56 -> 1909 | I52: ='Archivio domande'!H56 -> Cime Tempestose | K52: =IF(L52=TRUE,B52,M52) -> Il Sartorio | L52: =AND(Formule!$D$49="A",'Crescendo n1'!$C$109="A") -> FALSE | M52: =IF(N52=TRUE,F52,O52) -> Il Sartorio | N52: =AND(Formule!$D$49="A",'Crescendo n1'!$C$109="B") -> FALSE | O52: =IF(P52=TRUE,I52,Q52) -> Il Sartorio | P52: =AND(Formule!$D$49="A",'Crescendo n1'!$C$109="C") -> FALSE | Q52: =IF(R52=TRUE,I52,S52) -> Il Sartorio | R52: =AND(Formule!$D$49="B",'Crescendo n1'!$C$109="A") -> FALSE | S52: =IF(T52=TRUE,B52,U52) -> Il Sartorio | T52: =AND(Formule!$D$49="B",'Crescendo n1'!$C$109="B") -> FALSE | U52: =IF(V52=TRUE,F52,W52) -> Il Sartorio | V52: =AND(Formule!$D$49="B",'Crescendo n1'!$C$109="C") -> FALSE | W52: =IF(X52=TRUE,F52,Y52) -> Il Sartorio | X52: =AND(Formule!$D$49="C",'Crescendo n1'!$C$109="A") -> FALSE | Y52: =IF(Z52=TRUE,I52,AA52) -> Il Sartorio | Z52: =AND(Formule!$D$49="C",'Crescendo n1'!$C$109="B") -> FALSE | AA52: =IF(AB52=TRUE,B52,AC52) -> Il Sartorio | AB52: =AND(Formule!$D$49="C",'Crescendo n1'!$C115="C") -> FALSE | AC52: =B52 -> Il Sartorio
A54: A12 | B54: ='Archivio domande'!B58 -> Nei ritratti del Bronzino possiamo rinvenire una caratteristica che lo rende peculiare. Quale? | D54: C | E54: B12 | F54: ='Archivio domande'!E58 -> L'impero africano che nacque come regno intorno al 40 a.C., che fu considerato impero da quando, nel XV secolo, estese di molto il proprio territorio ed è durato fino al 1897, fu quello: | H54: C12 | I54: ='Archivio domande'!H58 -> Fino al Gran Premio del Sudafrica del 1993, fu gareggiato in questo Paese per diverse volte in Formula 1, nel circuito di: | K54: =IF(L54=TRUE,B54,M54) -> Nei ritratti del Bronzino possiamo rinvenire una caratteristica che lo rende peculiare. Quale? | L54: =AND(Formule!$D$54="A",'Crescendo n1'!$C$120="A") -> FALSE | M54: =IF(N54=TRUE,F54,O54) -> Nei ritratti del Bronzino possiamo rinvenire una caratteristica che lo rende peculiare. Quale? | N54: =AND(Formule!$D$54="A",'Crescendo n1'!$C$120="B") -> FALSE | O54: =IF(P54=TRUE,I54,Q54) -> Nei ritratti del Bronzino possiamo rinvenire una caratteristica che lo rende peculiare. Quale? | P54: =AND(Formule!$D$54="A",'Crescendo n1'!$C$120="C") -> FALSE | Q54: =IF(R54=TRUE,I54,S54) -> Nei ritratti del Bronzino possiamo rinvenire una caratteristica che lo rende peculiare. Quale? | R54: =AND(Formule!$D$54="B",'Crescendo n1'!$C$120="A") -> FALSE | S54: =IF(T54=TRUE,B54,U54) -> Nei ritratti del Bronzino possiamo rinvenire una caratteristica che lo rende peculiare. Quale? | T54: =AND(Formule!$D$54="B",'Crescendo n1'!$C$120="B") -> FALSE | U54: =IF(V54=TRUE,F54,W54) -> Nei ritratti del Bronzino possiamo rinvenire una caratteristica che lo rende peculiare. Quale? | V54: =AND(Formule!$D$54="B",'Crescendo n1'!$C$120="C") -> FALSE | W54: =IF(X54=TRUE,F54,Y54) -> Nei ritratti del Bronzino possiamo rinvenire una caratteristica che lo rende peculiare. Quale? | X54: =AND(Formule!$D$54="C",'Crescendo n1'!$C$120="A") -> FALSE | Y54: =IF(Z54=TRUE,I54,AA54) -> Nei ritratti del Bronzino possiamo rinvenire una caratteristica che lo rende peculiare. Quale? | Z54: =AND(Formule!$D$54="C",'Crescendo n1'!$C$120="B") -> FALSE | AA54: =IF(AB54=TRUE,B54,AC54) -> Nei ritratti del Bronzino possiamo rinvenire una caratteristica che lo rende peculiare. Quale? | AB54: =AND(Formule!$D$54="C",'Crescendo n1'!$C120="C") -> FALSE | AC54: =B54 -> Nei ritratti del Bronzino possiamo rinvenire una caratteristica che lo rende peculiare. Quale?
B55: ='Archivio domande'!B59 -> Lo sguardo sempre rivolto a destra | F55: ='Archivio domande'!E59 -> Del Mali | I55: ='Archivio domande'!H59 -> Bloemfontein | K55: =IF(L55=TRUE,B55,M55) -> Lo sguardo sempre rivolto a destra | L55: =AND(Formule!$D$54="A",'Crescendo n1'!$C$120="A") -> FALSE | M55: =IF(N55=TRUE,F55,O55) -> Lo sguardo sempre rivolto a destra | N55: =AND(Formule!$D$54="A",'Crescendo n1'!$C$120="B") -> FALSE | O55: =IF(P55=TRUE,I55,Q55) -> Lo sguardo sempre rivolto a destra | P55: =AND(Formule!$D$54="A",'Crescendo n1'!$C$120="C") -> FALSE | Q55: =IF(R55=TRUE,I55,S55) -> Lo sguardo sempre rivolto a destra | R55: =AND(Formule!$D$54="B",'Crescendo n1'!$C$120="A") -> FALSE | S55: =IF(T55=TRUE,B55,U55) -> Lo sguardo sempre rivolto a destra | T55: =AND(Formule!$D$54="B",'Crescendo n1'!$C$120="B") -> FALSE | U55: =IF(V55=TRUE,F55,W55) -> Lo sguardo sempre rivolto a destra | V55: =AND(Formule!$D$54="B",'Crescendo n1'!$C$120="C") -> FALSE | W55: =IF(X55=TRUE,F55,Y55) -> Lo sguardo sempre rivolto a destra | X55: =AND(Formule!$D$54="C",'Crescendo n1'!$C$120="A") -> FALSE | Y55: =IF(Z55=TRUE,I55,AA55) -> Lo sguardo sempre rivolto a destra | Z55: =AND(Formule!$D$54="C",'Crescendo n1'!$C$120="B") -> FALSE | AA55: =IF(AB55=TRUE,B55,AC55) -> Lo sguardo sempre rivolto a destra | AB55: =AND(Formule!$D$54="C",'Crescendo n1'!$C122="C") -> FALSE | AC55: =B55 -> Lo sguardo sempre rivolto a destra
B56: ='Archivio domande'!B60 -> Lo strabismo dello sguardo | F56: ='Archivio domande'!E60 -> Del Benin | I56: ='Archivio domande'!H60 -> Kyalami | K56: =IF(L56=TRUE,B56,M56) -> Lo strabismo dello sguardo | L56: =AND(Formule!$D$54="A",'Crescendo n1'!$C$120="A") -> FALSE | M56: =IF(N56=TRUE,F56,O56) -> Lo strabismo dello sguardo | N56: =AND(Formule!$D$54="A",'Crescendo n1'!$C$120="B") -> FALSE | O56: =IF(P56=TRUE,I56,Q56) -> Lo strabismo dello sguardo | P56: =AND(Formule!$D$54="A",'Crescendo n1'!$C$120="C") -> FALSE | Q56: =IF(R56=TRUE,I56,S56) -> Lo strabismo dello sguardo | R56: =AND(Formule!$D$54="B",'Crescendo n1'!$C$120="A") -> FALSE | S56: =IF(T56=TRUE,B56,U56) -> Lo strabismo dello sguardo | T56: =AND(Formule!$D$54="B",'Crescendo n1'!$C$120="B") -> FALSE | U56: =IF(V56=TRUE,F56,W56) -> Lo strabismo dello sguardo | V56: =AND(Formule!$D$54="B",'Crescendo n1'!$C$120="C") -> FALSE | W56: =IF(X56=TRUE,F56,Y56) -> Lo strabismo dello sguardo | X56: =AND(Formule!$D$54="C",'Crescendo n1'!$C$120="A") -> FALSE | Y56: =IF(Z56=TRUE,I56,AA56) -> Lo strabismo dello sguardo | Z56: =AND(Formule!$D$54="C",'Crescendo n1'!$C$120="B") -> FALSE | AA56: =IF(AB56=TRUE,B56,AC56) -> Lo strabismo dello sguardo | AB56: =AND(Formule!$D$54="C",'Crescendo n1'!$C124="C") -> FALSE | AC56: =B56 -> Lo strabismo dello sguardo
B57: ='Archivio domande'!B61 -> Gli immancabili drappi sullo sfondo | F57: ='Archivio domande'!E61 -> Zulu | I57: ='Archivio domande'!H61 -> Phakisa | K57: =IF(L57=TRUE,B57,M57) -> Gli immancabili drappi sullo sfondo | L57: =AND(Formule!$D$54="A",'Crescendo n1'!$C$120="A") -> FALSE | M57: =IF(N57=TRUE,F57,O57) -> Gli immancabili drappi sullo sfondo | N57: =AND(Formule!$D$54="A",'Crescendo n1'!$C$120="B") -> FALSE | O57: =IF(P57=TRUE,I57,Q57) -> Gli immancabili drappi sullo sfondo | P57: =AND(Formule!$D$54="A",'Crescendo n1'!$C$120="C") -> FALSE | Q57: =IF(R57=TRUE,I57,S57) -> Gli immancabili drappi sullo sfondo | R57: =AND(Formule!$D$54="B",'Crescendo n1'!$C$120="A") -> FALSE | S57: =IF(T57=TRUE,B57,U57) -> Gli immancabili drappi sullo sfondo | T57: =AND(Formule!$D$54="B",'Crescendo n1'!$C$120="B") -> FALSE | U57: =IF(V57=TRUE,F57,W57) -> Gli immancabili drappi sullo sfondo | V57: =AND(Formule!$D$54="B",'Crescendo n1'!$C$120="C") -> FALSE | W57: =IF(X57=TRUE,F57,Y57) -> Gli immancabili drappi sullo sfondo | X57: =AND(Formule!$D$54="C",'Crescendo n1'!$C$120="A") -> FALSE | Y57: =IF(Z57=TRUE,I57,AA57) -> Gli immancabili drappi sullo sfondo | Z57: =AND(Formule!$D$54="C",'Crescendo n1'!$C$120="B") -> FALSE | AA57: =IF(AB57=TRUE,B57,AC57) -> Gli immancabili drappi sullo sfondo | AB57: =AND(Formule!$D$54="C",'Crescendo n1'!$C126="C") -> FALSE | AC57: =B57 -> Gli immancabili drappi sullo sfondo
D59: B
D61: =IF('Crescendo n1'!C10=Formule!D4,1,0) -> 0 | E61: =D61 -> 0
C62: =AND(D61=1,D62=1) -> FALSE | D62: =IF('Crescendo n1'!C21=Formule!D9,1,0) -> 0 | E62: =IF(C62=FALSE,D62/2,D62) -> 0
C63: =AND(D62=1,D63=1) -> FALSE | D63: =IF('Crescendo n1'!C32=Formule!D14,1,0) -> 0 | E63: =IF(C63=FALSE,D63/2,D63) -> 0
C64: =AND(D63=1,D64=1) -> FALSE | D64: =IF('Crescendo n1'!C43=Formule!D19,1,0) -> 0 | E64: =IF(C64=FALSE,D64/2,D64) -> 0
C65: =AND(D64=1,D65=1) -> FALSE | D65: =IF('Crescendo n1'!C54=Formule!D24,1,0) -> 0 | E65: =IF(C65=FALSE,D65/2,D65) -> 0
C66: =AND(D65=1,D66=1) -> FALSE | D66: =IF('Crescendo n1'!C65=Formule!D29,1,0) -> 0 | E66: =IF(C66=FALSE,D66/2,D66) -> 0
C67: =AND(D66=1,D67=1) -> FALSE | D67: =IF('Crescendo n1'!C76=Formule!D34,1,0) -> 0 | E67: =IF(C67=FALSE,D67/2,D67) -> 0
C68: =AND(D67=1,D68=1) -> FALSE | D68: =IF('Crescendo n1'!C87=Formule!D39,1,0) -> 0 | E68: =IF(C68=FALSE,D68/2,D68) -> 0
C69: =AND(D68=1,D69=1) -> FALSE | D69: =IF('Crescendo n1'!C98=Formule!D44,1,0) -> 0 | E69: =IF(C69=FALSE,D69/2,D69) -> 0
C70: =AND(D69=1,D70=1) -> FALSE | D70: =IF('Crescendo n1'!C109=Formule!D49,1,0) -> 0 | E70: =IF(C70=FALSE,D70/2,D70) -> 0
C71: =AND(D70=1,D71=1) -> FALSE | D71: =IF('Crescendo n1'!C120=Formule!D54,1,0) -> 0 | E71: =IF(C71=FALSE,D71/2,D71) -> 0
C72: =AND(D71=1,D72=1) -> FALSE | D72: =IF('Crescendo n1'!C131=Formule!D59,1,0) -> 0 | E72: =IF(C72=FALSE,D72/2,D72) -> 0
B73: Calcolo punteggio finale | C73: =IF('Crescendo n1'!D138=12,E73," ") | E73: =SUM(E61:E72) -> 0

Sheet Archivio domande
A3: A1 | B3: Tra i seguenti, non è un ingrediente della crema pasticcera:
A4: A | B4: Albume d'uovo | C4: A
A5: B | B5: Latte intero
A6: C | B6: Zucchero semolato
A8: A2 | B8: Se ti trovi sotto la Mole Antonelliana sei nella città di: | D8: B2 | E8: In quale videogioco si devono incastrare dei pezzi di diverse forme ma formati da quattro quadrati uniti? | G8: C2 | H8: Quale invenzione ha reso famoso lo scienziato Alessandro Volta?
A9: A | B9: Milano | C9: C | D9: A | E9: Pac-Man | F9: C | G9: A | H9: La Lampadina | I9: C
A10: B | B10: Napoli | D10: B | E10: Tetris | G10: B | H10: La Radio
A11: C | B11: Torino | D11: C | E11: Space Invaders | G11: C | H11: La Pila
A13: A3 | B13: Il film "Odissea" del 2026 è a firma del regista: | D13: B3 | E13: La città di Tessalonica, in italiano è oggi chiamata: | G13: C3 | H13: Giulio Cesare è stato ucciso alle Idi (cioè il giorno 15) di quale mese?
A14: A | B14: Christopher Nolan | C14: A | D14: A | E14: Salonicco | F14: A | G14: A | H14: Marzo | I14: A
A15: B | B15: Tim Burton | D15: B | E15: Efeso | G15: B | H15: Aprile
A16: C | B16: Stanley Kubrick | D16: C | E16: Tarso | G16: C | H16: Maggio
A18: A4 | B18: Tra i Presidenti della Repubblica del passato figura: | D18: B4 | E18: La canzone Com'è profondo il mare è di: | G18: B5 | H18: Il Mare di Bering separa:
A19: A | B19: Luigi Einaudi | C19: C | D19: A | E19: Antonello Venditti | F19: C | G19: A | H19: La Norvegia dalla Scozia | I19: C
A20: B | B20: Giuseppe Saragat | D20: B | E20: Loredana Bertè | G20: B | H20: L'America del Sud dall'Antartide
A21: C | B21: Entrambi i precedenti | D21: C | E21: Lucio Dalla | G21: C | H21: La Russia dagli Stati Uniti
A23: A5 | B23: Il grande campione Pelè ha esordito in un campionato mondiale di calcio all'età di: | D23: B5 | E23: L'acido acetilsalicilico è meglio noto come: | G23: C5 | H23: Il Nome della Rosa è un romanzo scritto da:
A24: A | B24: 16 anni | C24: B | D24: A | E24: Vitamina C | F24: B | G24: A | H24: Ken Follett | I24: B
A25: B | B25: 17 anni | D25: B | E25: Aspirina | G25: B | H25: Umberto Eco
A26: C | B26: 18 anni | D26: C | E26: Tachipirina | G26: C | H26: Gabriel Garcia Marquez
A28: A6 | B28: Nella moneta da 2 euro di conio italiano è raffigurato: | D28: B6 | E28: Il 31 luglio 1954 raggiunsero la vetta del monte K2, primi in assoluto nella storia, due scalatori: | G28: C6 | H28: Gli scorpioni appartengono alla classe:
A29: A | B29: L'Uomo Vitruviano di Leonardo Da Vinci | C29: B | D29: A | E29: Francesi | F29: B | G29: A | H29: Degli insetti | I29: B
A30: B | B30: Il ritratto di Dante Alighieri | D30: B | E30: Italiani | G30: B | H30: Degli aracnidi
A31: C | B31: Un particolare della "Venere" di Sandro Botticelli | D31: C | E31: Nepalesi | G31: C | H31: Dei rettili
A33: A7 | B33: L'attore Massimo Troisi esordì in televisione nel programma Non Stop, con il suo gruppo che si chiamava: | D33: B7 | E33: La Costituzione della Repubblica Italiana è entrata in vigore: | G33: C7 | H33: In quale Piazza di Roma si trova la Fontana dei Quattro Fiumi?
A34: A | B34: La Smorfia | C34: A | D34: A | E34: Il 1° gennaio 1948 | F34: A | G34: A | H34: Piazza Navona | I34: A
A35: B | B35: I Gatti di Vicolo Miracoli | D35: B | E35: Il 22 dicembre1947 | G35: B | H35: Piazza di Spagna
A36: C | B36: I Giancattivi | D36: C | E36: L'8 settembre 1943 | G36: C | H36: Piazza di Trevi
A38: A8 | B38: In quale città straniera si rifugiò Giuseppe Mazzini tra il 1837 e, a più riprese, fino al 1868? | D38: B8 | E38: Quale salsa a base di pesce nell'antica Roma si usava per insaporire i piatti? | G38: C8 | H38: Che differenza c'è tra domicilio e residenza?
A39: A | B39: Parigi | C39: B | D39: A | E39: Sartramone | F39: B | G39: A | H39: Il domicilio è il luogo in cui si vive di solito e la residenza è la sede ufficiale in cui si svolgono anche i propri affari | I39: B
A40: B | B40: Londra | D40: B | E40: Garum | G40: B | H40: La residenza è il luogo in cui si vive di solito ed il domicilio è il luogo dove si tengono i propri affari
A41: C | B41: Losanna | D41: C | E41: Edes Anna | G41: C | H41: Sono sinonimi e differiscono semmai soltanto in alcuni statuti comunali
A43: A9 | B43: Quale grande sfida si svolse a Reykjavik, in Islanda, nel 1972? | D43: B9 | E43: Nella scherma, quali armi possono colpire in modo valido soltanto di punta? | G43: C9 | H43: La Stella Polare appartiene alla Costellazione:
A44: A | B44: L'incontro di pugilato tra Muhammad Alì (Cassisu Clay) e Gheorge Foreman, valido per il titolo mondiale dei Pesi Massimi | C44: B | D44: A | E44: Spada e sciabola | F44: B | G44: A | H44: Dell'Orsa Maggiore | I44: B
A45: B | B45: Il Campionato del Mondo di Scacchi, tra lo statunitense Bobby Fischer e il sovietico Boris Spassky | D45: B | E45: Fioretto e spada | G45: B | H45: Dell'Orsa Minore
A46: C | B46: L'unica regata con cui si aggiudicò la prima America,s Cup, che contrapponeva gli equipaggi degli Stati Uniti e della Gran Bretagna | D46: C | E46: Sciabola e fioretto | G46: C | H46: Della Lira
A48: A10 | B48: Nella scala periodica, tra Elio e Berillio, si colloca il: | D48: B10 | E48: Quale tra i seguenti personaggi di nazionalità statunitense è figlio di madre di origini italiane? | G48: C10 | H48: In edilizia, l'uso del calcestruzzo risale a quale epoca?
A49: A | B49: Carbonio | C49: C | D49: A | E49: Jennifer Aniston | F49: C | G49: A | H49: Alla seconda metà del Settecento, in corrispondenza della rivoluzione industriale | I49: C
A50: B | B50: Sodio | D50: B | E50: Cher | G50: B | H50: All'Alto Medioevo
A51: C | B51: Litio | D51: C | E51: Bruce Springsteen | G51: C | H51: Intorno al II secolo a.C.
A53: A11 | B53: Il muscolo più lungo del corpo umano è: | D53: B11 | E53: La prima edizione del Giro d'Italia è stata quella del: | G53: C11 | H53: Heathcliff e Catherine sono protagonisti di quale romanzo?
A54: A | B54: Il Bicipite Femorale | C54: C | D54: A | E54: 1933 | F54: C | G54: A | H54: Orgoglio e Pregiudizio | I54: C
A55: B | B55: Il Grande Pettorale | D55: B | E55: 1921 | G55: B | H55: Al Faro
A56: C | B56: Il Sartorio | D56: C | E56: 1909 | G56: C | H56: Cime Tempestose
A58: A12 | B58: Nei ritratti del Bronzino possiamo rinvenire una caratteristica che lo rende peculiare. Quale? | D58: B12 | E58: L'impero africano che nacque come regno intorno al 40 a.C., che fu considerato impero da quando, nel XV secolo, estese di molto il proprio territorio ed è durato fino al 1897, fu quello: | G58: C12 | H58: Fino al Gran Premio del Sudafrica del 1993, fu gareggiato in questo Paese per diverse volte in Formula 1, nel circuito di:
A59: A | B59: Lo sguardo sempre rivolto a destra | C59: B | D59: A | E59: Del Mali | F59: B | G59: A | H59: Bloemfontein
A60: B | B60: Lo strabismo dello sguardo | D60: B | E60: Del Benin | G60: B | H60: Kyalami
A61: C | B61: Gli immancabili drappi sullo sfondo | D61: C | E61: Zulu | G61: C | H61: Phakisa
