Workbook

Sheet Schema
D2: Cruciverba 12X12 n. 23 | S2: =IF(Foglio1!Z25>0,Foglio1!A27," ")
D4: 1 | E4: 2 | F4: 3 | G4: 4 | H4: 5 | I4: 6 | J4: 7 | L4: n | M4: 8 | N4: 9 | O4: 10 | S4: - 16. Andate - 17. Orribili, terrificanti - 18. La si fa alzando la voce - 20. Col-
S6: lina di Gerusalemme - 22. Le vocali in meno - 23. Colui che risolse l'enig-
D7: 11 | K7: n | L7: 12
S8: ma della Sfinge - 26. Li esplode la pistola - 28. Sigla di Siracusa - 29. Il Gra-
D10: 13 | I10: n | J10: 14 | K10: 15 | S10: ziani che canta Pigro - 32. Inserito nelle vie aeree - 34. Capaci di atti stra-
S12: ordinari - 36. Istituto Nazionale di Urbanistica - 37. Rendono speciale Sa-
D13: n | E13: 16 | H13: n | I13: 17 | O13: n
S14: turno - 38. Quello Grande è a Venezia - 40. Il nostro satellite - 41. Effet-
D16: 18 | H16: 19 | K16: n | L16: 20 | O16: 21 | S16: tuare un contatto - 43. Il nome dell'attrice Miranda - 44. Li si incontra per
S18: strada.
D19: 22 | F19: n | G19: 23 | K19: 24 | L19: n | N19: n
S20: Verticali | W20: 1. Una tassa che in genere è al 22% - 2. Così un
E22: n | F22: 25 | G22: n | H22: 26 | L22: 27 | M22: n | N22: 28 | S22: fan definisce spesso il proprio idolo - 3. La studia l'attore - 4. La si cura pu-
S24: lendo a fondo - 5. Ha la cruna - 6. Né sì né no - 7. Elettrodomestici da cu-
D25: 29 | E25: 30 | G25: 31 | H25: n | I25: 32 | M25: 33
S26: cina, per preparare spuntini veloci - 8. Antica regione storica balcanica - 9.
D28: n | E28: 34 | H28: 35 | K28: n | L28: 36 | O28: n | S28: Si usa a spicchi - 10. Costruì l'arca - 12. Il nome di Ramazzotti - 15. Inizia-
S30: li del cantante Ruggeri - 17. Particolarità di un fenomeno che lo rende dif-
D31: 37 | J31: n | K31: 38 | O31: 39
S32: ficilmente comprensibile -18. Ne ha molte la grande azienda - 19. Ammi-
D34: 40 | H34: n | I34: 41 | J34: 42 | S34: nistratore di Sostegno - 21. Il colore del buio - 24. Si scruta sul polso - 25.
S36: È la parte immersa della nave - 27. La fossa delimitata dall'omonimo osso
D37: 43 | G37: n | H37: 44
S38: - 28. Il Little, topolino intraprendente - 30. Una delle Williams - 31. Città
S40: della Campania in cui nacque Giordano Bruno - 33. Kofi… ex Segretario
F41: DEFINIZIONI
S42: Generale delle Nazioni Unite - 35. In mezzo alla fila - 37. Fanno volare -
D44: Orizzontali | H44: 1. C'è quello elettrico e quello idraulico - 8.Tasso | S44: 38. Centro Coordinamento dei Soccorsi - 39. A fianco a lui - 42. Principio
D46: Annuo Nominale - 11. In genere si fa in vacanza - 12. Dunque, perciò - 13. | S46: di ospitalità.
D48: La prima parte di un edificio importante - 14. Della parte finale del giorno - 16. Andate - 17. Orribili, terrificanti - 18. La

Sheet Foglio1
A1: 1 | B1: 2 | C1: 3 | D1: 4 | E1: 5 | F1: 6 | G1: 7 | I1: n | J1: 8 | K1: 9 | L1: 10
A2: =Schema!D4 -> 1 | B2: =Schema!E4 -> 2 | C2: =Schema!F4 -> 3 | D2: =Schema!G4 -> 4 | E2: =Schema!H4 -> 5 | F2: =Schema!I4 -> 6 | G2: =Schema!J4 -> 7 | H2: =Schema!K4 -> 0 | ... L2: =Schema!O4 -> 10 | N2: =IF(A2=A1,"A","B") -> A | O2: =IF(B2=B1,"A","B") -> A | P2: =IF(C2=C1,"A","B") -> A | Q2: =IF(D2=D1,"A","B") -> A | R2: =IF(E2=E1,"A","B") -> A | S2: =IF(F2=F1,"A","B") -> A | T2: =IF(G2=G1,"A","B") -> A | U2: =IF(H2=H1,"A","B") -> A | ... Y2: =IF(L2=L1,"A","B") -> A | Z2: =COUNTIF(N2:Y2,"B") -> 0
A3: 11 | H3: n | I3: 12
A4: =Schema!D7 -> 11 | B4: =Schema!E7 -> 0 | C4: =Schema!F7 -> 0 | D4: =Schema!G7 -> 0 | E4: =Schema!H7 -> 0 | F4: =Schema!I7 -> 0 | G4: =Schema!J7 -> 0 | H4: =Schema!K7 -> n | ... L4: =Schema!O7 -> 0 | N4: =IF(A4=A3,"A","B") -> A | O4: =IF(B4=B3,"A","B") -> A | P4: =IF(C4=C3,"A","B") -> A | Q4: =IF(D4=D3,"A","B") -> A | R4: =IF(E4=E3,"A","B") -> A | S4: =IF(F4=F3,"A","B") -> A | T4: =IF(G4=G3,"A","B") -> A | U4: =IF(H4=H3,"A","B") -> A | ... Y4: =IF(L4=L3,"A","B") -> A | Z4: =COUNTIF(N4:Y4,"B") -> 0
A5: 13 | F5: n | G5: 14 | H5: 15
A6: =Schema!D10 -> 13 | B6: =Schema!E10 -> 0 | C6: =Schema!F10 -> 0 | D6: =Schema!G10 -> 0 | E6: =Schema!H10 -> 0 | F6: =Schema!I10 -> n | G6: =Schema!J10 -> 14 | H6: =Schema!K10 -> 15 | ... L6: =Schema!O10 -> 0 | N6: =IF(A6=A5,"A","B") -> A | O6: =IF(B6=B5,"A","B") -> A | P6: =IF(C6=C5,"A","B") -> A | Q6: =IF(D6=D5,"A","B") -> A | R6: =IF(E6=E5,"A","B") -> A | S6: =IF(F6=F5,"A","B") -> A | T6: =IF(G6=G5,"A","B") -> A | U6: =IF(H6=H5,"A","B") -> A | ... Y6: =IF(L6=L5,"A","B") -> A | Z6: =COUNTIF(N6:Y6,"B") -> 0
A7: n | B7: 16 | E7: n | F7: 17 | L7: n
A8: =Schema!D13 -> n | B8: =Schema!E13 -> 16 | C8: =Schema!F13 -> 0 | D8: =Schema!G13 -> 0 | E8: =Schema!H13 -> n | F8: =Schema!I13 -> 17 | G8: =Schema!J13 -> 0 | H8: =Schema!K13 -> 0 | ... L8: =Schema!O13 -> n | N8: =IF(A8=A7,"A","B") -> A | O8: =IF(B8=B7,"A","B") -> A | P8: =IF(C8=C7,"A","B") -> A | Q8: =IF(D8=D7,"A","B") -> A | R8: =IF(E8=E7,"A","B") -> A | S8: =IF(F8=F7,"A","B") -> A | T8: =IF(G8=G7,"A","B") -> A | U8: =IF(H8=H7,"A","B") -> A | ... Y8: =IF(L8=L7,"A","B") -> A | Z8: =COUNTIF(N8:Y8,"B") -> 0
A9: 18 | E9: 19 | H9: n | I9: 20 | L9: 21
A10: =Schema!D16 -> 18 | B10: =Schema!E16 -> 0 | C10: =Schema!F16 -> 0 | D10: =Schema!G16 -> 0 | E10: =Schema!H16 -> 19 | F10: =Schema!I16 -> 0 | G10: =Schema!J16 -> 0 | H10: =Schema!K16 -> n | ... L10: =Schema!O16 -> 21 | N10: =IF(A10=A9,"A","B") -> A | O10: =IF(B10=B9,"A","B") -> A | P10: =IF(C10=C9,"A","B") -> A | Q10: =IF(D10=D9,"A","B") -> A | R10: =IF(E10=E9,"A","B") -> A | S10: =IF(F10=F9,"A","B") -> A | T10: =IF(G10=G9,"A","B") -> A | U10: =IF(H10=H9,"A","B") -> A | ... Y10: =IF(L10=L9,"A","B") -> A | Z10: =COUNTIF(N10:Y10,"B") -> 0
A11: 22 | C11: n | D11: 23 | H11: 24 | I11: n | K11: n
A12: =Schema!D19 -> 22 | B12: =Schema!E19 -> 0 | C12: =Schema!F19 -> n | D12: =Schema!G19 -> 23 | E12: =Schema!H19 -> 0 | F12: =Schema!I19 -> 0 | G12: =Schema!J19 -> 0 | H12: =Schema!K19 -> 24 | ... L12: =Schema!O19 -> 0 | N12: =IF(A12=A11,"A","B") -> A | O12: =IF(B12=B11,"A","B") -> A | P12: =IF(C12=C11,"A","B") -> A | Q12: =IF(D12=D11,"A","B") -> A | R12: =IF(E12=E11,"A","B") -> A | S12: =IF(F12=F11,"A","B") -> A | T12: =IF(G12=G11,"A","B") -> A | U12: =IF(H12=H11,"A","B") -> A | ... Y12: =IF(L12=L11,"A","B") -> A | Z12: =COUNTIF(N12:Y12,"B") -> 0
B13: n | C13: 25 | D13: n | E13: 26 | I13: 27 | J13: n | K13: 28
A14: =Schema!D22 -> 0 | B14: =Schema!E22 -> n | C14: =Schema!F22 -> 25 | D14: =Schema!G22 -> n | E14: =Schema!H22 -> 26 | F14: =Schema!I22 -> 0 | G14: =Schema!J22 -> 0 | H14: =Schema!K22 -> 0 | ... L14: =Schema!O22 -> 0 | N14: =IF(A14=A13,"A","B") -> A | O14: =IF(B14=B13,"A","B") -> A | P14: =IF(C14=C13,"A","B") -> A | Q14: =IF(D14=D13,"A","B") -> A | R14: =IF(E14=E13,"A","B") -> A | S14: =IF(F14=F13,"A","B") -> A | T14: =IF(G14=G13,"A","B") -> A | U14: =IF(H14=H13,"A","B") -> A | ... Y14: =IF(L14=L13,"A","B") -> A | Z14: =COUNTIF(N14:Y14,"B") -> 0
A15: 29 | B15: 30 | D15: 31 | E15: n | F15: 32 | J15: 33
A16: =Schema!D25 -> 29 | B16: =Schema!E25 -> 30 | C16: =Schema!F25 -> 0 | D16: =Schema!G25 -> 31 | E16: =Schema!H25 -> n | F16: =Schema!I25 -> 32 | G16: =Schema!J25 -> 0 | H16: =Schema!K25 -> 0 | ... L16: =Schema!O25 -> 0 | N16: =IF(A16=A15,"A","B") -> A | O16: =IF(B16=B15,"A","B") -> A | P16: =IF(C16=C15,"A","B") -> A | Q16: =IF(D16=D15,"A","B") -> A | R16: =IF(E16=E15,"A","B") -> A | S16: =IF(F16=F15,"A","B") -> A | T16: =IF(G16=G15,"A","B") -> A | U16: =IF(H16=H15,"A","B") -> A | ... Y16: =IF(L16=L15,"A","B") -> A | Z16: =COUNTIF(N16:Y16,"B") -> 0
A17: n | B17: 34 | E17: 35 | H17: n | I17: 36 | L17: n
A18: =Schema!D28 -> n | B18: =Schema!E28 -> 34 | C18: =Schema!F28 -> 0 | D18: =Schema!G28 -> 0 | E18: =Schema!H28 -> 35 | F18: =Schema!I28 -> 0 | G18: =Schema!J28 -> 0 | H18: =Schema!K28 -> n | ... L18: =Schema!O28 -> n | N18: =IF(A18=A17,"A","B") -> A | O18: =IF(B18=B17,"A","B") -> A | P18: =IF(C18=C17,"A","B") -> A | Q18: =IF(D18=D17,"A","B") -> A | R18: =IF(E18=E17,"A","B") -> A | S18: =IF(F18=F17,"A","B") -> A | T18: =IF(G18=G17,"A","B") -> A | U18: =IF(H18=H17,"A","B") -> A | ... Y18: =IF(L18=L17,"A","B") -> A | Z18: =COUNTIF(N18:Y18,"B") -> 0
A19: 37 | G19: n | H19: 38 | L19: 39
A20: =Schema!D31 -> 37 | B20: =Schema!E31 -> 0 | C20: =Schema!F31 -> 0 | D20: =Schema!G31 -> 0 | E20: =Schema!H31 -> 0 | F20: =Schema!I31 -> 0 | G20: =Schema!J31 -> n | H20: =Schema!K31 -> 38 | ... L20: =Schema!O31 -> 39 | N20: =IF(A20=A19,"A","B") -> A | O20: =IF(B20=B19,"A","B") -> A | P20: =IF(C20=C19,"A","B") -> A | Q20: =IF(D20=D19,"A","B") -> A | R20: =IF(E20=E19,"A","B") -> A | S20: =IF(F20=F19,"A","B") -> A | T20: =IF(G20=G19,"A","B") -> A | U20: =IF(H20=H19,"A","B") -> A | ... Y20: =IF(L20=L19,"A","B") -> A | Z20: =COUNTIF(N20:Y20,"B") -> 0
A21: 40 | E21: n | F21: 41 | G21: 42
A22: =Schema!D34 -> 40 | B22: =Schema!E34 -> 0 | C22: =Schema!F34 -> 0 | D22: =Schema!G34 -> 0 | E22: =Schema!H34 -> n | F22: =Schema!I34 -> 41 | G22: =Schema!J34 -> 42 | H22: =Schema!K34 -> 0 | ... L22: =Schema!O34 -> 0 | N22: =IF(A22=A21,"A","B") -> A | O22: =IF(B22=B21,"A","B") -> A | P22: =IF(C22=C21,"A","B") -> A | Q22: =IF(D22=D21,"A","B") -> A | R22: =IF(E22=E21,"A","B") -> A | S22: =IF(F22=F21,"A","B") -> A | T22: =IF(G22=G21,"A","B") -> A | U22: =IF(H22=H21,"A","B") -> A | ... Y22: =IF(L22=L21,"A","B") -> A | Z22: =COUNTIF(N22:Y22,"B") -> 0
A23: 43 | D23: n | E23: 44
A24: =Schema!D37 -> 43 | B24: =Schema!E37 -> 0 | C24: =Schema!F37 -> 0 | D24: =Schema!G37 -> n | E24: =Schema!H37 -> 44 | F24: =Schema!I37 -> 0 | G24: =Schema!J37 -> 0 | H24: =Schema!K37 -> 0 | ... L24: =Schema!O37 -> 0 | N24: =IF(A24=A23,"A","B") -> A | O24: =IF(B24=B23,"A","B") -> A | P24: =IF(C24=C23,"A","B") -> A | Q24: =IF(D24=D23,"A","B") -> A | R24: =IF(E24=E23,"A","B") -> A | S24: =IF(F24=F23,"A","B") -> A | T24: =IF(G24=G23,"A","B") -> A | U24: =IF(H24=H23,"A","B") -> A | ... Y24: =IF(L24=L23,"A","B") -> A | Z24: =COUNTIF(N24:Y24,"B") -> 0
Z25: =SUM(Z2:Z24) -> 0
A27: =IF(M16=1," ","Non sovrascrivere sulla riga dei numeri") -> Non sovrascrivere sulla riga dei numeri
A29: Attenzione a cambiare ogni volta i riferimenti di cella, perché hanno numeri diversi da schema a schema
