Workbook

Sheet Kronos Quigma 5 n4
C2: Kronos n. 4
C4: Indovina la sequenza cronologica di questi eventi. Nello spazio bianco indicato dalla freccia, scrivi la lettera corrispondente all'evento che va collocato in quella posizione temporale, dal 1° al 5°. L'evento apparirà in automatico. Se la sequenza è corretta ti verrà confermato nelle caselle in fondo
C8: L'imperatore Tito inaugura a Roma il Colosseo | E8: 1° | G8: =VLOOKUP(G9,Formule!$E$2:$F$6,2,FALSE) -> #N/A
C9: A | E9: è
C13: Viene consacrata, a Ravenna, la Basilica di San Vitale | E13: 2° | G13: =VLOOKUP(G14,Formule!$E$2:$F$6,2,FALSE) -> #N/A
C14: B | E14: è
C18: Giulio Cesare, con le sue truppe, attraversa il Rubicone, all'epoca limite oltre il quale non si poteva guidare un esercito senza l'autorizzazione del Senato | E18: 3° | G18: =VLOOKUP(G19,Formule!$E$2:$F$6,2,FALSE) -> #N/A
C19: C | E19: è
C23: Secondo la tradizione è in questo anno che viene edificata Cartagine, dai Fenici, e dalla loro principessa Elissa (nota anche come Didone) | E23: 4° | G23: =VLOOKUP(G24,Formule!$E$2:$F$6,2,FALSE) -> #N/A
C24: D | E24: è
C28: Maometto inizia la sua predicazione nella città della Mecca | E28: 5° | G28: =VLOOKUP(G29,Formule!$E$2:$F$6,2,FALSE) -> #N/A
C29: E | E29: è
C32: =Formule!B10
E33: =Formule!D12
E34: =Formule!D13
E35: =Formule!D14
E36: =Formule!D15
E37: =Formule!D16

Sheet Formule
A1: Sequenza esatta
A2: D | B2: anno 814 a.C. | C2: ='Kronos Quigma 5 n4'!G9 -> 0 | D2: =IF(A2=C2,1,0) -> 0 | E2: A | F2: ='Kronos Quigma 5 n4'!C8 -> L'imperatore Tito inaugura a Roma il Colosseo
A3: C | B3: Tra il 10 e l'11/01/49 a.C. | C3: ='Kronos Quigma 5 n4'!G14 -> 0 | D3: =IF(A3=C3,1,0) -> 0 | E3: B | F3: ='Kronos Quigma 5 n4'!C13 -> Viene consacrata, a Ravenna, la Basilica di San Vitale
A4: A | B4: anno 80 d.C. | C4: ='Kronos Quigma 5 n4'!G19 -> 0 | D4: =IF(A4=C4,1,0) -> 0 | E4: C | F4: ='Kronos Quigma 5 n4'!C18 -> Giulio Cesare, con le sue truppe, attraversa il Rubicone, all'epoca limite oltre il quale non si poteva guidare un esercito senza l'autorizzazione del Senato
A5: B | B5: anno 547 d.C. | C5: ='Kronos Quigma 5 n4'!G24 -> 0 | D5: =IF(A5=C5,1,0) -> 0 | E5: D | F5: ='Kronos Quigma 5 n4'!C23 -> Secondo la tradizione è in questo anno che viene edificata Cartagine, dai Fenici, e dalla loro principessa Elissa (nota anche come Didone)
A6: E | B6: anno 610 d.C. | C6: ='Kronos Quigma 5 n4'!G29 -> 0 | D6: =IF(A6=C6,1,0) -> 0 | E6: E | F6: ='Kronos Quigma 5 n4'!C28 -> Maometto inizia la sua predicazione nella città della Mecca
A7: Totale corrispondenti | D7: =SUM(D2:D6) -> 0
B10: =IF(D7=5,"Perfetto: sequenza corretta! Ora puoi controllare le date degli eventi qui di fianco"," ")
A12: =IF(D$7=5,A2," ") | B12: =IF(D$7=5,") "," ") | C12: =IF(D$7=5,B2," ") | D12: =CONCATENATE(A12,B12,C12)
A13: =IF(D$7=5,A3," ") | B13: =IF(D$7=5,") "," ") | C13: =IF(D$7=5,B3," ") | D13: =CONCATENATE(A13,B13,C13)
A14: =IF(D$7=5,A4," ") | B14: =IF(D$7=5,") "," ") | C14: =IF(D$7=5,B4," ") | D14: =CONCATENATE(A14,B14,C14)
A15: =IF(D$7=5,A5," ") | B15: =IF(D$7=5,") "," ") | C15: =IF(D$7=5,B5," ") | D15: =CONCATENATE(A15,B15,C15) | E15: =IF(C7<7," ","Risposta sbagliata")
A16: =IF(D$7=5,A6," ") | B16: =IF(D$7=5,") "," ") | C16: =IF(D$7=5,B6," ") | D16: =CONCATENATE(A16,B16,C16)
