Workbook

Sheet Crescendo n3
A1: CRESCENDO
A2: Gioco a Quiz
A3: Rispondi alle domande negli scacchi indicati. Si genera automaticamente la domanda successiva, in un crescendo di difficoltà
A4: Viene attribuito 1 punto per una risposta esatta, dimezzato se la risposta precedente era errata
A6: 1 | B6: ='Archivio domande'!B3 -> Il "Quarto uomo": | C6: ê | D6: =IF(COUNTBLANK(C10)=0,1,0) -> 0
A10: A | B10: ='Archivio domande'!B4 -> È un gioco a carte in cui le Donne devono catturare il Re o il Fante nascosto
A12: B | B12: ='Archivio domande'!B5 -> È un modo popolare di definire il Giudice di Pace
A14: C | B14: ='Archivio domande'!B6 -> Si trova a bordo campo nelle partite di calcio
A17: 2 | B17: =IF(COUNTBLANK(C10)=0,Formule!K4," ") | C17: =IF(COUNTBLANK(C10)=0,"ê"," ") | D17: =IF(COUNTBLANK(C21)=0,1,0) -> 0
A21: A | B21: =IF(COUNTBLANK(C10)=0,Formule!K5," ")
A23: B | B23: =IF(COUNTBLANK(C10)=0,Formule!K6," ")
A25: C | B25: =IF(COUNTBLANK(C10)=0,Formule!K7," ")
A28: 3 | B28: =IF(COUNTBLANK(C21)=0,Formule!K9," ") | C28: =IF(COUNTBLANK(C21)=0,"ê"," ") | D28: =IF(COUNTBLANK(C32)=0,1,0) -> 0
A32: A | B32: =IF(COUNTBLANK(C21)=0,Formule!K10," ")
A34: B | B34: =IF(COUNTBLANK(C21)=0,Formule!K11," ")
A36: C | B36: =IF(COUNTBLANK(C21)=0,Formule!K12," ")
A39: 4 | B39: =IF(COUNTBLANK(C32)=0,Formule!K14," ") | C39: =IF(COUNTBLANK(C32)=0,"ê"," ") | D39: =IF(COUNTBLANK(C43)=0,1,0) -> 0
A43: A | B43: =IF(COUNTBLANK(C32)=0,Formule!K15," ")
A45: B | B45: =IF(COUNTBLANK(C32)=0,Formule!K16," ")
A47: C | B47: =IF(COUNTBLANK(C32)=0,Formule!K17," ")
A50: 5 | B50: =IF(COUNTBLANK(C43)=0,Formule!K19," ") | C50: =IF(COUNTBLANK(C43)=0,"ê"," ") | D50: =IF(COUNTBLANK(C54)=0,1,0) -> 0
A54: A | B54: =IF(COUNTBLANK(C43)=0,Formule!K20," ")
A56: B | B56: =IF(COUNTBLANK(C43)=0,Formule!K21," ")
A58: C | B58: =IF(COUNTBLANK(C43)=0,Formule!K22," ")
A61: 6 | B61: =IF(COUNTBLANK(C54)=0,Formule!K24," ") | C61: =IF(COUNTBLANK(C54)=0,"ê"," ") | D61: =IF(COUNTBLANK(C65)=0,1,0) -> 0
A65: A | B65: =IF(COUNTBLANK(C54)=0,Formule!K25," ")
A67: B | B67: =IF(COUNTBLANK(C54)=0,Formule!K26," ")
A69: C | B69: =IF(COUNTBLANK(C54)=0,Formule!K27," ")
A72: 7 | B72: =IF(COUNTBLANK(C65)=0,Formule!K29," ") | C72: =IF(COUNTBLANK(C65)=0,"ê"," ") | D72: =IF(COUNTBLANK(C76)=0,1,0) -> 0
A76: A | B76: =IF(COUNTBLANK(C65)=0,Formule!K30," ")
A78: B | B78: =IF(COUNTBLANK(C65)=0,Formule!K31," ")
A80: C | B80: =IF(COUNTBLANK(C65)=0,Formule!K32," ")
A83: 8 | B83: =IF(COUNTBLANK(C76)=0,Formule!K34," ") | C83: =IF(COUNTBLANK(C76)=0,"ê"," ") | D83: =IF(COUNTBLANK(C87)=0,1,0) -> 0
A87: A | B87: =IF(COUNTBLANK(C76)=0,Formule!K35," ")
A89: B | B89: =IF(COUNTBLANK(C76)=0,Formule!K36," ")
A91: C | B91: =IF(COUNTBLANK(C76)=0,Formule!K37," ")
A94: 9 | B94: =IF(COUNTBLANK(C87)=0,Formule!K39," ") | C94: =IF(COUNTBLANK(C87)=0,"ê"," ") | D94: =IF(COUNTBLANK(C98)=0,1,0) -> 0
A98: A | B98: =IF(COUNTBLANK(C87)=0,Formule!K40," ")
A100: B | B100: =IF(COUNTBLANK(C87)=0,Formule!K41," ")
A102: C | B102: =IF(COUNTBLANK(C87)=0,Formule!K42," ")
A105: 10 | B105: =IF(COUNTBLANK(C98)=0,Formule!K44," ") | C105: =IF(COUNTBLANK(C98)=0,"ê"," ") | D105: =IF(COUNTBLANK(C109)=0,1,0) -> 0
A109: A | B109: =IF(COUNTBLANK(C98)=0,Formule!K45," ")
A111: B | B111: =IF(COUNTBLANK(C98)=0,Formule!K46," ")
A113: C | B113: =IF(COUNTBLANK(C98)=0,Formule!K47," ")
A116: 11 | B116: =IF(COUNTBLANK(C109)=0,Formule!K49," ") | C116: =IF(COUNTBLANK(C109)=0,"ê"," ") | D116: =IF(COUNTBLANK(C120)=0,1,0) -> 0
A120: A | B120: =IF(COUNTBLANK(C109)=0,Formule!K50," ")
A122: B | B122: =IF(COUNTBLANK(C109)=0,Formule!K51," ")
A124: C | B124: =IF(COUNTBLANK(C109)=0,Formule!K52," ")
A127: 12 | B127: =IF(COUNTBLANK(C120)=0,Formule!K54," ") | C127: =IF(COUNTBLANK(C120)=0,"ê"," ") | D127: =IF(COUNTBLANK(C131)=0,1,0) -> 0
A131: A | B131: =IF(COUNTBLANK(C120)=0,Formule!K55," ")
A133: B | B133: =IF(COUNTBLANK(C120)=0,Formule!K56," ")
A135: C | B135: =IF(COUNTBLANK(C120)=0,Formule!K57," ")
B138: Punteggio finale: | C138: =Formule!C73 | D138: =SUM(D6:D137) -> 0
B140: (appare solo dopo aver risposto a tutte le domande)

Sheet Formule
B1: Sequenza principale | D1: Risp esatte (N.B. non sono allineate con le domande di fianco) | F1: La risposta esatta deve sempre essere della stessa lettera per ogni numero di domanda, a prescindere che sia della seq princ o no. Es.: se la risposta è B per la dom n 2, deve esserlo anche per le n. 2 della sequenza secondaria. Altrimenti sballa le formule o occorre aggiungerne troppe | G1: Risposte esatte
B2: (si attiva in seguito a risposte esatte alle domande della colonna B nel foglio di gioco) | L2: A-A | N2: A-B | P2: A-C | R2: B-A | T2: B-B | V2: B-C | X2: C-A | Z2: C-B | AB2: C-C
A4: A2 | B4: ='Archivio domande'!B8 -> Se ti trovi a Giardini Naxos sei in provincia di: | D4: C | E4: B2 | F4: ='Archivio domande'!E8 -> Nel gioco degli Scacchi l'arrocco è una mossa che coinvolge: | H4: C2 | I4: ='Archivio domande'!H8 -> Il "flute" è: | K4: =IF(L4=TRUE,B4,M4) -> Se ti trovi a Giardini Naxos sei in provincia di: | L4: =AND(Formule!$D$4="A",'Crescendo n3'!$C$10="A") -> FALSE | M4: =IF(N4=TRUE,F4,O4) -> Se ti trovi a Giardini Naxos sei in provincia di: | N4: =AND(Formule!$D$4="A",'Crescendo n3'!$C$10="B") -> FALSE | O4: =IF(P4=TRUE,I4,Q4) -> Se ti trovi a Giardini Naxos sei in provincia di: | P4: =AND(Formule!$D$4="A",'Crescendo n3'!$C$10="C") -> FALSE | Q4: =IF(R4=TRUE,I4,S4) -> Se ti trovi a Giardini Naxos sei in provincia di: | R4: =AND(Formule!$D$4="B",'Crescendo n3'!$C$10="A") -> FALSE | S4: =IF(T4=TRUE,B4,U4) -> Se ti trovi a Giardini Naxos sei in provincia di: | T4: =AND(Formule!$D$4="B",'Crescendo n3'!$C$10="B") -> FALSE | U4: =IF(V4=TRUE,F4,W4) -> Se ti trovi a Giardini Naxos sei in provincia di: | V4: =AND(Formule!$D$4="B",'Crescendo n3'!$C$10="C") -> FALSE | W4: =IF(X4=TRUE,F4,Y4) -> Se ti trovi a Giardini Naxos sei in provincia di: | X4: =AND(Formule!$D$4="C",'Crescendo n3'!$C$10="A") -> FALSE | Y4: =IF(Z4=TRUE,I4,AA4) -> Se ti trovi a Giardini Naxos sei in provincia di: | Z4: =AND(Formule!$D$4="C",'Crescendo n3'!$C$10="B") -> FALSE | AA4: =IF(AB4=TRUE,B4,AC4) -> Se ti trovi a Giardini Naxos sei in provincia di: | AB4: =AND(Formule!$D$4="C",'Crescendo n3'!$C10="C") -> FALSE | AC4: =B4 -> Se ti trovi a Giardini Naxos sei in provincia di:
B5: ='Archivio domande'!B9 -> La Spezia | E5: A | F5: ='Archivio domande'!E9 -> Regina e Cavallo | G5: C | H5: A | I5: ='Archivio domande'!H9 -> Un bicchiere stretto e slanciato che si usa per bere spumante o champagne | K5: =IF(L5=TRUE,B5,M5) -> La Spezia | L5: =AND(Formule!$D$4="A",'Crescendo n3'!$C$10="A") -> FALSE | M5: =IF(N5=TRUE,F5,O5) -> La Spezia | N5: =AND(Formule!$D$4="A",'Crescendo n3'!$C$10="B") -> FALSE | O5: =IF(P5=TRUE,I5,Q5) -> La Spezia | P5: =AND(Formule!$D$4="A",'Crescendo n3'!$C$10="C") -> FALSE | Q5: =IF(R5=TRUE,I5,S5) -> La Spezia | R5: =AND(Formule!$D$4="B",'Crescendo n3'!$C$10="A") -> FALSE | S5: =IF(T5=TRUE,B5,U5) -> La Spezia | T5: =AND(Formule!$D$4="B",'Crescendo n3'!$C$10="B") -> FALSE | U5: =IF(V5=TRUE,F5,W5) -> La Spezia | V5: =AND(Formule!$D$4="B",'Crescendo n3'!$C$10="C") -> FALSE | W5: =IF(X5=TRUE,F5,Y5) -> La Spezia | X5: =AND(Formule!$D$4="C",'Crescendo n3'!$C$10="A") -> FALSE | Y5: =IF(Z5=TRUE,I5,AA5) -> La Spezia | Z5: =AND(Formule!$D$4="C",'Crescendo n3'!$C$10="B") -> FALSE | AA5: =IF(AB5=TRUE,B5,AC5) -> La Spezia | AB5: =AND(Formule!$D$4="C",'Crescendo n3'!$C12="C") -> FALSE | AC5: =B5 -> La Spezia
B6: ='Archivio domande'!B10 -> Roma | E6: B | F6: ='Archivio domande'!E10 -> Due Pedoni | H6: B | I6: ='Archivio domande'!H10 -> Un tipo d contratto di lavoro intermedio tra quello a chiamata e quello stagionale, prevedendo una durata minima ma anche una flessibilità sul numero di ore giornaliere | K6: =IF(L6=TRUE,B6,M6) -> Roma | L6: =AND(Formule!$D$4="A",'Crescendo n3'!$C$10="A") -> FALSE | M6: =IF(N6=TRUE,F6,O6) -> Roma | N6: =AND(Formule!$D$4="A",'Crescendo n3'!$C$10="B") -> FALSE | O6: =IF(P6=TRUE,I6,Q6) -> Roma | P6: =AND(Formule!$D$4="A",'Crescendo n3'!$C$10="C") -> FALSE | Q6: =IF(R6=TRUE,I6,S6) -> Roma | R6: =AND(Formule!$D$4="B",'Crescendo n3'!$C$10="A") -> FALSE | S6: =IF(T6=TRUE,B6,U6) -> Roma | T6: =AND(Formule!$D$4="B",'Crescendo n3'!$C$10="B") -> FALSE | U6: =IF(V6=TRUE,F6,W6) -> Roma | V6: =AND(Formule!$D$4="B",'Crescendo n3'!$C$10="C") -> FALSE | W6: =IF(X6=TRUE,F6,Y6) -> Roma | X6: =AND(Formule!$D$4="C",'Crescendo n3'!$C$10="A") -> FALSE | Y6: =IF(Z6=TRUE,I6,AA6) -> Roma | Z6: =AND(Formule!$D$4="C",'Crescendo n3'!$C$10="B") -> FALSE | AA6: =IF(AB6=TRUE,B6,AC6) -> Roma | AB6: =AND(Formule!$D$4="C",'Crescendo n3'!$C14="C") -> FALSE | AC6: =B6 -> Roma
B7: ='Archivio domande'!B11 -> Messina | E7: C | F7: ='Archivio domande'!E11 -> Re e Torre | H7: C | I7: ='Archivio domande'!H11 -> Una particolare telaio per bicicletta da corsa, adatto a fare a cronometro o prove di record dell'ora | K7: =IF(L7=TRUE,B7,M7) -> Messina | L7: =AND(Formule!$D$4="A",'Crescendo n3'!$C$10="A") -> FALSE | M7: =IF(N7=TRUE,F7,O7) -> Messina | N7: =AND(Formule!$D$4="A",'Crescendo n3'!$C$10="B") -> FALSE | O7: =IF(P7=TRUE,I7,Q7) -> Messina | P7: =AND(Formule!$D$4="A",'Crescendo n3'!$C$10="C") -> FALSE | Q7: =IF(R7=TRUE,I7,S7) -> Messina | R7: =AND(Formule!$D$4="B",'Crescendo n3'!$C$10="A") -> FALSE | S7: =IF(T7=TRUE,B7,U7) -> Messina | T7: =AND(Formule!$D$4="B",'Crescendo n3'!$C$10="B") -> FALSE | U7: =IF(V7=TRUE,F7,W7) -> Messina | V7: =AND(Formule!$D$4="B",'Crescendo n3'!$C$10="C") -> FALSE | W7: =IF(X7=TRUE,F7,Y7) -> Messina | X7: =AND(Formule!$D$4="C",'Crescendo n3'!$C$10="A") -> FALSE | Y7: =IF(Z7=TRUE,I7,AA7) -> Messina | Z7: =AND(Formule!$D$4="C",'Crescendo n3'!$C$10="B") -> FALSE | AA7: =IF(AB7=TRUE,B7,AC7) -> Messina | AB7: =AND(Formule!$D$4="C",'Crescendo n3'!$C16="C") -> FALSE | AC7: =B7 -> Messina
A9: A3 | B9: ='Archivio domande'!B13 -> Quale tra i seguenti, è un numero primo? | D9: C | E9: B3 | F9: ='Archivio domande'!E13 -> "Effetto Notte" è | H9: C3 | I9: ='Archivio domande'!H13 -> A distribuire l'alta tensione alle candele, nel motore, è: | K9: =IF(L9=TRUE,B9,M9) -> Quale tra i seguenti, è un numero primo? | L9: =AND(Formule!$D$9="A",'Crescendo n3'!$C$21="A") -> FALSE | M9: =IF(N9=TRUE,F9,O9) -> Quale tra i seguenti, è un numero primo? | N9: =AND(Formule!$D$9="A",'Crescendo n3'!$C$21="B") -> FALSE | O9: =IF(P9=TRUE,I9,Q9) -> Quale tra i seguenti, è un numero primo? | P9: =AND(Formule!$D$9="A",'Crescendo n3'!$C$21="C") -> FALSE | Q9: =IF(R9=TRUE,I9,S9) -> Quale tra i seguenti, è un numero primo? | R9: =AND(Formule!$D$9="B",'Crescendo n3'!$C$21="A") -> FALSE | S9: =IF(T9=TRUE,B9,U9) -> Quale tra i seguenti, è un numero primo? | T9: =AND(Formule!$D$9="B",'Crescendo n3'!$C$21="B") -> FALSE | U9: =IF(V9=TRUE,F9,W9) -> Quale tra i seguenti, è un numero primo? | V9: =AND(Formule!$D$9="B",'Crescendo n3'!$C$21="C") -> FALSE | W9: =IF(X9=TRUE,F9,Y9) -> Quale tra i seguenti, è un numero primo? | X9: =AND(Formule!$D$9="C",'Crescendo n3'!$C$21="A") -> FALSE | Y9: =IF(Z9=TRUE,I9,AA9) -> Quale tra i seguenti, è un numero primo? | Z9: =AND(Formule!$D$9="C",'Crescendo n3'!$C$21="B") -> FALSE | AA9: =IF(AB9=TRUE,B9,AC9) -> Quale tra i seguenti, è un numero primo? | AB9: =AND(Formule!$D$9="C",'Crescendo n3'!$C21="C") -> FALSE | AC9: =B9 -> Quale tra i seguenti, è un numero primo?
B10: ='Archivio domande'!B14 -> 57 | F10: ='Archivio domande'!E14 -> Un inconveniente che può capitare alla guida quando si passa improvvisamente dalla luce al buio | I10: ='Archivio domande'!H14 -> La bobina | K10: =IF(L10=TRUE,B10,M10) -> 57 | L10: =AND(Formule!$D$9="A",'Crescendo n3'!$C$21="A") -> FALSE | M10: =IF(N10=TRUE,F10,O10) -> 57 | N10: =AND(Formule!$D$9="A",'Crescendo n3'!$C$21="B") -> FALSE | O10: =IF(P10=TRUE,I10,Q10) -> 57 | P10: =AND(Formule!$D$9="A",'Crescendo n3'!$C$21="C") -> FALSE | Q10: =IF(R10=TRUE,I10,S10) -> 57 | R10: =AND(Formule!$D$9="B",'Crescendo n3'!$C$21="A") -> FALSE | S10: =IF(T10=TRUE,B10,U10) -> 57 | T10: =AND(Formule!$D$9="B",'Crescendo n3'!$C$21="B") -> FALSE | U10: =IF(V10=TRUE,F10,W10) -> 57 | V10: =AND(Formule!$D$9="B",'Crescendo n3'!$C$21="C") -> FALSE | W10: =IF(X10=TRUE,F10,Y10) -> 57 | X10: =AND(Formule!$D$9="C",'Crescendo n3'!$C$21="A") -> FALSE | Y10: =IF(Z10=TRUE,I10,AA10) -> 57 | Z10: =AND(Formule!$D$9="C",'Crescendo n3'!$C$21="B") -> FALSE | AA10: =IF(AB10=TRUE,B10,AC10) -> 57 | AB10: =AND(Formule!$D$9="C",'Crescendo n3'!$C23="C") -> FALSE | AC10: =B10 -> 57
B11: ='Archivio domande'!B15 -> 83 | F11: ='Archivio domande'!E15 -> Una tecnica che si usa al cinema | I11: ='Archivio domande'!H15 -> Lo spinterogeno | K11: =IF(L11=TRUE,B11,M11) -> 83 | L11: =AND(Formule!$D$9="A",'Crescendo n3'!$C$21="A") -> FALSE | M11: =IF(N11=TRUE,F11,O11) -> 83 | N11: =AND(Formule!$D$9="A",'Crescendo n3'!$C$21="B") -> FALSE | O11: =IF(P11=TRUE,I11,Q11) -> 83 | P11: =AND(Formule!$D$9="A",'Crescendo n3'!$C$21="C") -> FALSE | Q11: =IF(R11=TRUE,I11,S11) -> 83 | R11: =AND(Formule!$D$9="B",'Crescendo n3'!$C$21="A") -> FALSE | S11: =IF(T11=TRUE,B11,U11) -> 83 | T11: =AND(Formule!$D$9="B",'Crescendo n3'!$C$21="B") -> FALSE | U11: =IF(V11=TRUE,F11,W11) -> 83 | V11: =AND(Formule!$D$9="B",'Crescendo n3'!$C$21="C") -> FALSE | W11: =IF(X11=TRUE,F11,Y11) -> 83 | X11: =AND(Formule!$D$9="C",'Crescendo n3'!$C$21="A") -> FALSE | Y11: =IF(Z11=TRUE,I11,AA11) -> 83 | Z11: =AND(Formule!$D$9="C",'Crescendo n3'!$C$21="B") -> FALSE | AA11: =IF(AB11=TRUE,B11,AC11) -> 83 | AB11: =AND(Formule!$D$9="C",'Crescendo n3'!$C25="C") -> FALSE | AC11: =B11 -> 83
B12: ='Archivio domande'!B16 -> 91 | F12: ='Archivio domande'!E16 -> Una soluzione adottata nel truccarsi gli occhi per dare un particolare tono tra l'azzurro, il blu e il nero | I12: ='Archivio domande'!H16 -> L'albero a camme | K12: =IF(L12=TRUE,B12,M12) -> 91 | L12: =AND(Formule!$D$9="A",'Crescendo n3'!$C$21="A") -> FALSE | M12: =IF(N12=TRUE,F12,O12) -> 91 | N12: =AND(Formule!$D$9="A",'Crescendo n3'!$C$21="B") -> FALSE | O12: =IF(P12=TRUE,I12,Q12) -> 91 | P12: =AND(Formule!$D$9="A",'Crescendo n3'!$C$21="C") -> FALSE | Q12: =IF(R12=TRUE,I12,S12) -> 91 | R12: =AND(Formule!$D$9="B",'Crescendo n3'!$C$21="A") -> FALSE | S12: =IF(T12=TRUE,B12,U12) -> 91 | T12: =AND(Formule!$D$9="B",'Crescendo n3'!$C$21="B") -> FALSE | U12: =IF(V12=TRUE,F12,W12) -> 91 | V12: =AND(Formule!$D$9="B",'Crescendo n3'!$C$21="C") -> FALSE | W12: =IF(X12=TRUE,F12,Y12) -> 91 | X12: =AND(Formule!$D$9="C",'Crescendo n3'!$C$21="A") -> FALSE | Y12: =IF(Z12=TRUE,I12,AA12) -> 91 | Z12: =AND(Formule!$D$9="C",'Crescendo n3'!$C$21="B") -> FALSE | AA12: =IF(AB12=TRUE,B12,AC12) -> 91 | AB12: =AND(Formule!$D$9="C",'Crescendo n3'!$C27="C") -> FALSE | AC12: =B12 -> 91
A14: A4 | B14: ='Archivio domande'!B18 -> Dante, nel canto V dell' Inferno, incontra chi? | D14: B | E14: B4 | F14: ='Archivio domande'!E18 -> "Draisina" è stato il nome del prototipo di quale sucessiva invenzione? | H14: C4 | I14: ='Archivio domande'!H18 -> Le colonne che recano foglie sui capitelli sono quelle di ordine: | K14: =IF(L14=TRUE,B14,M14) -> Dante, nel canto V dell' Inferno, incontra chi? | L14: =AND(Formule!$D$14="A",'Crescendo n3'!$C$32="A") -> FALSE | M14: =IF(N14=TRUE,F14,O14) -> Dante, nel canto V dell' Inferno, incontra chi? | N14: =AND(Formule!$D$14="A",'Crescendo n3'!$C$32="B") -> FALSE | O14: =IF(P14=TRUE,H14,Q14) -> Dante, nel canto V dell' Inferno, incontra chi? | P14: =AND(Formule!$D$14="A",'Crescendo n3'!$C$32="C") -> FALSE | Q14: =IF(R14=TRUE,I14,S14) -> Dante, nel canto V dell' Inferno, incontra chi? | R14: =AND(Formule!$D$14="B",'Crescendo n3'!$C$32="A") -> FALSE | S14: =IF(T14=TRUE,B14,U14) -> Dante, nel canto V dell' Inferno, incontra chi? | T14: =AND(Formule!$D$14="B",'Crescendo n3'!$C$32="B") -> FALSE | U14: =IF(V14=TRUE,F14,W14) -> Dante, nel canto V dell' Inferno, incontra chi? | V14: =AND(Formule!$D$14="B",'Crescendo n3'!$C$32="C") -> FALSE | W14: =IF(X14=TRUE,F14,Y14) -> Dante, nel canto V dell' Inferno, incontra chi? | X14: =AND(Formule!$D$14="C",'Crescendo n3'!$C$32="A") -> FALSE | Y14: =IF(Z14=TRUE,I14,AA14) -> Dante, nel canto V dell' Inferno, incontra chi? | Z14: =AND(Formule!$D$14="C",'Crescendo n3'!$C$32="B") -> FALSE | AA14: =IF(AB14=TRUE,B14,AC14) -> Dante, nel canto V dell' Inferno, incontra chi? | AB14: =AND(Formule!$D$14="C",'Crescendo n3'!$C26="C") -> FALSE | AC14: =B14 -> Dante, nel canto V dell' Inferno, incontra chi?
B15: ='Archivio domande'!B19 -> Paolo e Francesca | F15: ='Archivio domande'!E19 -> Bicicletta | I15: ='Archivio domande'!H19 -> Corinzio | K15: =IF(L15=TRUE,B15,M15) -> Paolo e Francesca | L15: =AND(Formule!$D$14="A",'Crescendo n3'!$C$32="A") -> FALSE | M15: =IF(N15=TRUE,F15,O15) -> Paolo e Francesca | N15: =AND(Formule!$D$14="A",'Crescendo n3'!$C$32="B") -> FALSE | O15: =IF(P15=TRUE,I15,Q15) -> Paolo e Francesca | P15: =AND(Formule!$D$14="A",'Crescendo n3'!$C$32="C") -> FALSE | Q15: =IF(R15=TRUE,I15,S15) -> Paolo e Francesca | R15: =AND(Formule!$D$14="B",'Crescendo n3'!$C$32="A") -> FALSE | S15: =IF(T15=TRUE,B15,U15) -> Paolo e Francesca | T15: =AND(Formule!$D$14="B",'Crescendo n3'!$C$32="B") -> FALSE | U15: =IF(V15=TRUE,F15,W15) -> Paolo e Francesca | V15: =AND(Formule!$D$14="B",'Crescendo n3'!$C$32="C") -> FALSE | W15: =IF(X15=TRUE,F15,Y15) -> Paolo e Francesca | X15: =AND(Formule!$D$14="C",'Crescendo n3'!$C$32="A") -> FALSE | Y15: =IF(Z15=TRUE,I15,AA15) -> Paolo e Francesca | Z15: =AND(Formule!$D$14="C",'Crescendo n3'!$C$32="B") -> FALSE | AA15: =IF(AB15=TRUE,B15,AC15) -> Paolo e Francesca | AB15: =AND(Formule!$D$14="C",'Crescendo n3'!$C28="C") -> FALSE | AC15: =B15 -> Paolo e Francesca
B16: ='Archivio domande'!B20 -> Il conte Ugolino | F16: ='Archivio domande'!E20 -> Sommergibile | I16: ='Archivio domande'!H20 -> Ionico | K16: =IF(L16=TRUE,B16,M16) -> Il conte Ugolino | L16: =AND(Formule!$D$14="A",'Crescendo n3'!$C$32="A") -> FALSE | M16: =IF(N16=TRUE,F16,O16) -> Il conte Ugolino | N16: =AND(Formule!$D$14="A",'Crescendo n3'!$C$32="B") -> FALSE | O16: =IF(P16=TRUE,I16,Q16) -> Il conte Ugolino | P16: =AND(Formule!$D$14="A",'Crescendo n3'!$C$32="C") -> FALSE | Q16: =IF(R16=TRUE,I16,S16) -> Il conte Ugolino | R16: =AND(Formule!$D$14="B",'Crescendo n3'!$C$32="A") -> FALSE | S16: =IF(T16=TRUE,B16,U16) -> Il conte Ugolino | T16: =AND(Formule!$D$14="B",'Crescendo n3'!$C$32="B") -> FALSE | U16: =IF(V16=TRUE,F16,W16) -> Il conte Ugolino | V16: =AND(Formule!$D$14="B",'Crescendo n3'!$C$32="C") -> FALSE | W16: =IF(X16=TRUE,F16,Y16) -> Il conte Ugolino | X16: =AND(Formule!$D$14="C",'Crescendo n3'!$C$32="A") -> FALSE | Y16: =IF(Z16=TRUE,I16,AA16) -> Il conte Ugolino | Z16: =AND(Formule!$D$14="C",'Crescendo n3'!$C$32="B") -> FALSE | AA16: =IF(AB16=TRUE,B16,AC16) -> Il conte Ugolino | AB16: =AND(Formule!$D$14="C",'Crescendo n3'!$C30="C") -> FALSE | AC16: =B16 -> Il conte Ugolino
B17: ='Archivio domande'!B21 -> Virgilio | F17: ='Archivio domande'!E21 -> Macchina da scrivere | I17: ='Archivio domande'!H21 -> Dorico | K17: =IF(L17=TRUE,B17,M17) -> Virgilio | L17: =AND(Formule!$D$14="A",'Crescendo n3'!$C$32="A") -> FALSE | M17: =IF(N17=TRUE,F17,O17) -> Virgilio | N17: =AND(Formule!$D$14="A",'Crescendo n3'!$C$32="B") -> FALSE | O17: =IF(P17=TRUE,I17,Q17) -> Virgilio | P17: =AND(Formule!$D$14="A",'Crescendo n3'!$C$32="C") -> FALSE | Q17: =IF(R17=TRUE,I17,S17) -> Virgilio | R17: =AND(Formule!$D$14="B",'Crescendo n3'!$C$32="A") -> FALSE | S17: =IF(T17=TRUE,B17,U17) -> Virgilio | T17: =AND(Formule!$D$14="B",'Crescendo n3'!$C$32="B") -> FALSE | U17: =IF(V17=TRUE,F17,W17) -> Virgilio | V17: =AND(Formule!$D$14="B",'Crescendo n3'!$C$32="C") -> FALSE | W17: =IF(X17=TRUE,F17,Y17) -> Virgilio | X17: =AND(Formule!$D$14="C",'Crescendo n3'!$C$32="A") -> FALSE | Y17: =IF(Z17=TRUE,I17,AA17) -> Virgilio | Z17: =AND(Formule!$D$14="C",'Crescendo n3'!$C$32="B") -> FALSE | AA17: =IF(AB17=TRUE,B17,AC17) -> Virgilio | AB17: =AND(Formule!$D$14="C",'Crescendo n3'!$C32="C") -> FALSE | AC17: =B17 -> Virgilio
A19: A5 | B19: ='Archivio domande'!B23 -> Oltre ad Anthony Hopkins, chi vinse l'Oscar come migliore interprete pe ril film "Il Silenzio degli Innocenti"? | D19: A | E19: B5 | F19: ='Archivio domande'!E23 -> Le prime Olimpiadi moderne si tennero ad Atene in che anno? | H19: C5 | I19: ='Archivio domande'!H23 -> Il Pubblico Ministero: | K19: =IF(L19=TRUE,B19,M19) -> Oltre ad Anthony Hopkins, chi vinse l'Oscar come migliore interprete pe ril film "Il Silenzio degli Innocenti"? | L19: =AND(Formule!$D$19="A",'Crescendo n3'!$C$43="A") -> FALSE | M19: =IF(N19=TRUE,F19,O19) -> Oltre ad Anthony Hopkins, chi vinse l'Oscar come migliore interprete pe ril film "Il Silenzio degli Innocenti"? | N19: =AND(Formule!$D$19="A",'Crescendo n3'!$C$43="B") -> FALSE | O19: =IF(P19=TRUE,I19,Q19) -> Oltre ad Anthony Hopkins, chi vinse l'Oscar come migliore interprete pe ril film "Il Silenzio degli Innocenti"? | P19: =AND(Formule!$D$19="A",'Crescendo n3'!$C$43="C") -> FALSE | Q19: =IF(R19=TRUE,I19,S19) -> Oltre ad Anthony Hopkins, chi vinse l'Oscar come migliore interprete pe ril film "Il Silenzio degli Innocenti"? | R19: =AND(Formule!$D$19="B",'Crescendo n3'!$C$43="A") -> FALSE | S19: =IF(T19=TRUE,B19,U19) -> Oltre ad Anthony Hopkins, chi vinse l'Oscar come migliore interprete pe ril film "Il Silenzio degli Innocenti"? | T19: =AND(Formule!$D$19="B",'Crescendo n3'!$C$43="B") -> FALSE | U19: =IF(V19=TRUE,F19,W19) -> Oltre ad Anthony Hopkins, chi vinse l'Oscar come migliore interprete pe ril film "Il Silenzio degli Innocenti"? | V19: =AND(Formule!$D$19="B",'Crescendo n3'!$C$43="C") -> FALSE | W19: =IF(X19=TRUE,F19,Y19) -> Oltre ad Anthony Hopkins, chi vinse l'Oscar come migliore interprete pe ril film "Il Silenzio degli Innocenti"? | X19: =AND(Formule!$D$19="C",'Crescendo n3'!$C$43="A") -> FALSE | Y19: =IF(Z19=TRUE,I19,AA19) -> Oltre ad Anthony Hopkins, chi vinse l'Oscar come migliore interprete pe ril film "Il Silenzio degli Innocenti"? | Z19: =AND(Formule!$D$19="C",'Crescendo n3'!$C$43="B") -> FALSE | AA19: =IF(AB19=TRUE,B19,AC19) -> Oltre ad Anthony Hopkins, chi vinse l'Oscar come migliore interprete pe ril film "Il Silenzio degli Innocenti"? | AB19: =AND(Formule!$D$19="C",'Crescendo n3'!$C43="C") -> FALSE | AC19: =B19 -> Oltre ad Anthony Hopkins, chi vinse l'Oscar come migliore interprete pe ril film "Il Silenzio degli Innocenti"?
B20: ='Archivio domande'!B24 -> Bette Midler | F20: ='Archivio domande'!E24 -> 1884 | I20: ='Archivio domande'!H24 -> Prende parte alle sole cause civili | K20: =IF(L20=TRUE,B20,M20) -> Bette Midler | L20: =AND(Formule!$D$19="A",'Crescendo n3'!$C$43="A") -> FALSE | M20: =IF(N20=TRUE,F20,O20) -> Bette Midler | N20: =AND(Formule!$D$19="A",'Crescendo n3'!$C$43="B") -> FALSE | O20: =IF(P20=TRUE,I20,Q20) -> Bette Midler | P20: =AND(Formule!$D$19="A",'Crescendo n3'!$C$43="C") -> FALSE | Q20: =IF(R20=TRUE,I20,S20) -> Bette Midler | R20: =AND(Formule!$D$19="B",'Crescendo n3'!$C$43="A") -> FALSE | S20: =IF(T20=TRUE,B20,U20) -> Bette Midler | T20: =AND(Formule!$D$19="B",'Crescendo n3'!$C$43="B") -> FALSE | U20: =IF(V20=TRUE,F20,W20) -> Bette Midler | V20: =AND(Formule!$D$19="B",'Crescendo n3'!$C$43="C") -> FALSE | W20: =IF(X20=TRUE,F20,Y20) -> Bette Midler | X20: =AND(Formule!$D$19="C",'Crescendo n3'!$C$43="A") -> FALSE | Y20: =IF(Z20=TRUE,I20,AA20) -> Bette Midler | Z20: =AND(Formule!$D$19="C",'Crescendo n3'!$C$43="B") -> FALSE | AA20: =IF(AB20=TRUE,B20,AC20) -> Bette Midler | AB20: =AND(Formule!$D$19="C",'Crescendo n3'!$C45="C") -> FALSE | AC20: =B20 -> Bette Midler
B21: ='Archivio domande'!B25 -> Jodie Foster | F21: ='Archivio domande'!E25 -> 1896 | I21: ='Archivio domande'!H25 -> Prende parte a cause penali, ma ha facoltà di aver parte in cause civili in cui ravvisi un interesse pubblico, mentre entra d'obbligo in alcune cause civili come quelle che decidono sulla capacità di agire | K21: =IF(L21=TRUE,B21,M21) -> Jodie Foster | L21: =AND(Formule!$D$19="A",'Crescendo n3'!$C$43="A") -> FALSE | M21: =IF(N21=TRUE,F21,O21) -> Jodie Foster | N21: =AND(Formule!$D$19="A",'Crescendo n3'!$C$43="B") -> FALSE | O21: =IF(P21=TRUE,I21,Q21) -> Jodie Foster | P21: =AND(Formule!$D$19="A",'Crescendo n3'!$C$43="C") -> FALSE | Q21: =IF(R21=TRUE,I21,S21) -> Jodie Foster | R21: =AND(Formule!$D$19="B",'Crescendo n3'!$C$43="A") -> FALSE | S21: =IF(T21=TRUE,B21,U21) -> Jodie Foster | T21: =AND(Formule!$D$19="B",'Crescendo n3'!$C$43="B") -> FALSE | U21: =IF(V21=TRUE,F21,W21) -> Jodie Foster | V21: =AND(Formule!$D$19="B",'Crescendo n3'!$C$43="C") -> FALSE | W21: =IF(X21=TRUE,F21,Y21) -> Jodie Foster | X21: =AND(Formule!$D$19="C",'Crescendo n3'!$C$43="A") -> FALSE | Y21: =IF(Z21=TRUE,I21,AA21) -> Jodie Foster | Z21: =AND(Formule!$D$19="C",'Crescendo n3'!$C$43="B") -> FALSE | AA21: =IF(AB21=TRUE,B21,AC21) -> Jodie Foster | AB21: =AND(Formule!$D$19="C",'Crescendo n3'!$C47="C") -> FALSE | AC21: =B21 -> Jodie Foster
B22: ='Archivio domande'!B26 -> Meryl Streep | F22: ='Archivio domande'!E26 -> 1904 | I22: ='Archivio domande'!H26 -> Prende parte alle sole cause penali | K22: =IF(L22=TRUE,B22,M22) -> Meryl Streep | L22: =AND(Formule!$D$19="A",'Crescendo n3'!$C$43="A") -> FALSE | M22: =IF(N22=TRUE,F22,O22) -> Meryl Streep | N22: =AND(Formule!$D$19="A",'Crescendo n3'!$C$43="B") -> FALSE | O22: =IF(P22=TRUE,I22,Q22) -> Meryl Streep | P22: =AND(Formule!$D$19="A",'Crescendo n3'!$C$43="C") -> FALSE | Q22: =IF(R22=TRUE,I22,S22) -> Meryl Streep | R22: =AND(Formule!$D$19="B",'Crescendo n3'!$C$43="A") -> FALSE | S22: =IF(T22=TRUE,B22,U22) -> Meryl Streep | T22: =AND(Formule!$D$19="B",'Crescendo n3'!$C$43="B") -> FALSE | U22: =IF(V22=TRUE,F22,W22) -> Meryl Streep | V22: =AND(Formule!$D$19="B",'Crescendo n3'!$C$43="C") -> FALSE | W22: =IF(X22=TRUE,F22,Y22) -> Meryl Streep | X22: =AND(Formule!$D$19="C",'Crescendo n3'!$C$43="A") -> FALSE | Y22: =IF(Z22=TRUE,I22,AA22) -> Meryl Streep | Z22: =AND(Formule!$D$19="C",'Crescendo n3'!$C$43="B") -> FALSE | AA22: =IF(AB22=TRUE,B22,AC22) -> Meryl Streep | AB22: =AND(Formule!$D$19="C",'Crescendo n3'!$C49="C") -> FALSE | AC22: =B22 -> Meryl Streep
A24: A6 | B24: ='Archivio domande'!B28 -> Il frutto del kiwi viene classificato come: | D24: B | E24: B6 | F24: ='Archivio domande'!E28 -> Il Ghibli è un vento tipico: | H24: C6 | I24: ='Archivio domande'!H28 -> Il Joule è una unità di misura: | K24: =IF(L24=TRUE,B24,M24) -> Il frutto del kiwi viene classificato come: | L24: =AND(Formule!$D$24="A",'Crescendo n3'!$C$54="A") -> FALSE | M24: =IF(N24=TRUE,F24,O24) -> Il frutto del kiwi viene classificato come: | N24: =AND(Formule!$D$24="A",'Crescendo n3'!$C$54="B") -> FALSE | O24: =IF(P24=TRUE,I24,Q24) -> Il frutto del kiwi viene classificato come: | P24: =AND(Formule!$D$24="A",'Crescendo n3'!$C$54="C") -> FALSE | Q24: =IF(R24=TRUE,I24,S24) -> Il frutto del kiwi viene classificato come: | R24: =AND(Formule!$D$24="B",'Crescendo n3'!$C$54="A") -> FALSE | S24: =IF(T24=TRUE,B24,U24) -> Il frutto del kiwi viene classificato come: | T24: =AND(Formule!$D$24="B",'Crescendo n3'!$C$54="B") -> FALSE | U24: =IF(V24=TRUE,F24,W24) -> Il frutto del kiwi viene classificato come: | V24: =AND(Formule!$D$24="B",'Crescendo n3'!$C$54="C") -> FALSE | W24: =IF(X24=TRUE,F24,Y24) -> Il frutto del kiwi viene classificato come: | X24: =AND(Formule!$D$24="C",'Crescendo n3'!$C$54="A") -> FALSE | Y24: =IF(Z24=TRUE,I24,AA24) -> Il frutto del kiwi viene classificato come: | Z24: =AND(Formule!$D$24="C",'Crescendo n3'!$C$54="B") -> FALSE | AA24: =IF(AB24=TRUE,B24,AC24) -> Il frutto del kiwi viene classificato come: | AB24: =AND(Formule!$D$24="C",'Crescendo n3'!$C54="C") -> FALSE | AC24: =B24 -> Il frutto del kiwi viene classificato come:
B25: ='Archivio domande'!B29 -> Bacca | F25: ='Archivio domande'!E29 -> Del deserto del Sahara | I25: ='Archivio domande'!H29 -> Dell'energia | K25: =IF(L25=TRUE,B25,M25) -> Bacca | L25: =AND(Formule!$D$24="A",'Crescendo n3'!$C$54="A") -> FALSE | M25: =IF(N25=TRUE,F25,O25) -> Bacca | N25: =AND(Formule!$D$24="A",'Crescendo n3'!$C$54="B") -> FALSE | O25: =IF(P25=TRUE,I25,Q25) -> Bacca | P25: =AND(Formule!$D$24="A",'Crescendo n3'!$C$54="C") -> FALSE | Q25: =IF(R25=TRUE,I25,S25) -> Bacca | R25: =AND(Formule!$D$24="B",'Crescendo n3'!$C$54="A") -> FALSE | S25: =IF(T25=TRUE,B25,U25) -> Bacca | T25: =AND(Formule!$D$24="B",'Crescendo n3'!$C$54="B") -> FALSE | U25: =IF(V25=TRUE,F25,W25) -> Bacca | V25: =AND(Formule!$D$24="B",'Crescendo n3'!$C$54="C") -> FALSE | W25: =IF(X25=TRUE,F25,Y25) -> Bacca | X25: =AND(Formule!$D$24="C",'Crescendo n3'!$C$54="A") -> FALSE | Y25: =IF(Z25=TRUE,I25,AA25) -> Bacca | Z25: =AND(Formule!$D$24="C",'Crescendo n3'!$C$54="B") -> FALSE | AA25: =IF(AB25=TRUE,B25,AC25) -> Bacca | AB25: =AND(Formule!$D$24="C",'Crescendo n3'!$C56="C") -> FALSE | AC25: =B25 -> Bacca
B26: ='Archivio domande'!B30 -> Drupa | F26: ='Archivio domande'!E30 -> Delle montagne himalayane | I26: ='Archivio domande'!H30 -> Della velocità del suono | K26: =IF(L26=TRUE,B26,M26) -> Drupa | L26: =AND(Formule!$D$24="A",'Crescendo n3'!$C$54="A") -> FALSE | M26: =IF(N26=TRUE,F26,O26) -> Drupa | N26: =AND(Formule!$D$24="A",'Crescendo n3'!$C$54="B") -> FALSE | O26: =IF(P26=TRUE,I26,Q26) -> Drupa | P26: =AND(Formule!$D$24="A",'Crescendo n3'!$C$54="C") -> FALSE | Q26: =IF(R26=TRUE,I26,S26) -> Drupa | R26: =AND(Formule!$D$24="B",'Crescendo n3'!$C$54="A") -> FALSE | S26: =IF(T26=TRUE,B26,U26) -> Drupa | T26: =AND(Formule!$D$24="B",'Crescendo n3'!$C$54="B") -> FALSE | U26: =IF(V26=TRUE,F26,W26) -> Drupa | V26: =AND(Formule!$D$24="B",'Crescendo n3'!$C$54="C") -> FALSE | W26: =IF(X26=TRUE,F26,Y26) -> Drupa | X26: =AND(Formule!$D$24="C",'Crescendo n3'!$C$54="A") -> FALSE | Y26: =IF(Z26=TRUE,I26,AA26) -> Drupa | Z26: =AND(Formule!$D$24="C",'Crescendo n3'!$C$54="B") -> FALSE | AA26: =IF(AB26=TRUE,B26,AC26) -> Drupa | AB26: =AND(Formule!$D$24="C",'Crescendo n3'!$C58="C") -> FALSE | AC26: =B26 -> Drupa
B27: ='Archivio domande'!B31 -> Pomo | F27: ='Archivio domande'!E31 -> Del mar Egeo | I27: ='Archivio domande'!H31 -> Dell'acidità delle sostanze | K27: =IF(L27=TRUE,B27,M27) -> Pomo | L27: =AND(Formule!$D$24="A",'Crescendo n3'!$C$54="A") -> FALSE | M27: =IF(N27=TRUE,F27,O27) -> Pomo | N27: =AND(Formule!$D$24="A",'Crescendo n3'!$C$54="B") -> FALSE | O27: =IF(P27=TRUE,I27,Q27) -> Pomo | P27: =AND(Formule!$D$24="A",'Crescendo n3'!$C$54="C") -> FALSE | Q27: =IF(R27=TRUE,I27,S27) -> Pomo | R27: =AND(Formule!$D$24="B",'Crescendo n3'!$C$54="A") -> FALSE | S27: =IF(T27=TRUE,B27,U27) -> Pomo | T27: =AND(Formule!$D$24="B",'Crescendo n3'!$C$54="B") -> FALSE | U27: =IF(V27=TRUE,F27,W27) -> Pomo | V27: =AND(Formule!$D$24="B",'Crescendo n3'!$C$54="C") -> FALSE | W27: =IF(X27=TRUE,F27,Y27) -> Pomo | X27: =AND(Formule!$D$24="C",'Crescendo n3'!$C$54="A") -> FALSE | Y27: =IF(Z27=TRUE,I27,AA27) -> Pomo | Z27: =AND(Formule!$D$24="C",'Crescendo n3'!$C$54="B") -> FALSE | AA27: =IF(AB27=TRUE,B27,AC27) -> Pomo | AB27: =AND(Formule!$D$24="C",'Crescendo n3'!$C60="C") -> FALSE | AC27: =B27 -> Pomo
A29: A7 | B29: ='Archivio domande'!B33 -> Il cantautore Rino Gaetano scomparse prematuramente nel 1981 a causa di: | D29: A | E29: B7 | F29: ='Archivio domande'!E33 -> La RAI ha iniziato a trasmettere ufficialmente a colori a partire da che anno? | H29: C7 | I29: ='Archivio domande'!H33 -> Il feltro è una stoffa che si ottiene trattando: | K29: =IF(L29=TRUE,B29,M29) -> Il cantautore Rino Gaetano scomparse prematuramente nel 1981 a causa di: | L29: =AND(Formule!$D$29="A",'Crescendo n3'!$C$65="A") -> FALSE | M29: =IF(N29=TRUE,F29,O29) -> Il cantautore Rino Gaetano scomparse prematuramente nel 1981 a causa di: | N29: =AND(Formule!$D$29="A",'Crescendo n3'!$C$65="B") -> FALSE | O29: =IF(P29=TRUE,I29,Q29) -> Il cantautore Rino Gaetano scomparse prematuramente nel 1981 a causa di: | P29: =AND(Formule!$D$29="A",'Crescendo n3'!$C$65="C") -> FALSE | Q29: =IF(R29=TRUE,I29,S29) -> Il cantautore Rino Gaetano scomparse prematuramente nel 1981 a causa di: | R29: =AND(Formule!$D$29="B",'Crescendo n3'!$C$65="A") -> FALSE | S29: =IF(T29=TRUE,B29,U29) -> Il cantautore Rino Gaetano scomparse prematuramente nel 1981 a causa di: | T29: =AND(Formule!$D$29="B",'Crescendo n3'!$C$65="B") -> FALSE | U29: =IF(V29=TRUE,F29,W29) -> Il cantautore Rino Gaetano scomparse prematuramente nel 1981 a causa di: | V29: =AND(Formule!$D$29="B",'Crescendo n3'!$C$65="C") -> FALSE | W29: =IF(X29=TRUE,F29,Y29) -> Il cantautore Rino Gaetano scomparse prematuramente nel 1981 a causa di: | X29: =AND(Formule!$D$29="C",'Crescendo n3'!$C$65="A") -> FALSE | Y29: =IF(Z29=TRUE,I29,AA29) -> Il cantautore Rino Gaetano scomparse prematuramente nel 1981 a causa di: | Z29: =AND(Formule!$D$29="C",'Crescendo n3'!$C$65="B") -> FALSE | AA29: =IF(AB29=TRUE,B29,AC29) -> Il cantautore Rino Gaetano scomparse prematuramente nel 1981 a causa di: | AB29: =AND(Formule!$D$29="C",'Crescendo n3'!$C65="C") -> FALSE | AC29: =B29 -> Il cantautore Rino Gaetano scomparse prematuramente nel 1981 a causa di:
B30: ='Archivio domande'!B34 -> Una malattia neoplastica | F30: ='Archivio domande'!E34 -> 1964 | I30: ='Archivio domande'!H34 -> Il cotone | K30: =IF(L30=TRUE,B30,M30) -> Una malattia neoplastica | L30: =AND(Formule!$D$29="A",'Crescendo n3'!$C$65="A") -> FALSE | M30: =IF(N30=TRUE,F30,O30) -> Una malattia neoplastica | N30: =AND(Formule!$D$29="A",'Crescendo n3'!$C$65="B") -> FALSE | O30: =IF(P30=TRUE,I30,Q30) -> Una malattia neoplastica | P30: =AND(Formule!$D$29="A",'Crescendo n3'!$C$65="C") -> FALSE | Q30: =IF(R30=TRUE,I30,S30) -> Una malattia neoplastica | R30: =AND(Formule!$D$29="B",'Crescendo n3'!$C$65="A") -> FALSE | S30: =IF(T30=TRUE,B30,U30) -> Una malattia neoplastica | T30: =AND(Formule!$D$29="B",'Crescendo n3'!$C$65="B") -> FALSE | U30: =IF(V30=TRUE,F30,W30) -> Una malattia neoplastica | V30: =AND(Formule!$D$29="B",'Crescendo n3'!$C$65="C") -> FALSE | W30: =IF(X30=TRUE,F30,Y30) -> Una malattia neoplastica | X30: =AND(Formule!$D$29="C",'Crescendo n3'!$C$65="A") -> FALSE | Y30: =IF(Z30=TRUE,I30,AA30) -> Una malattia neoplastica | Z30: =AND(Formule!$D$29="C",'Crescendo n3'!$C$65="B") -> FALSE | AA30: =IF(AB30=TRUE,B30,AC30) -> Una malattia neoplastica | AB30: =AND(Formule!$D$29="C",'Crescendo n3'!$C67="C") -> FALSE | AC30: =B30 -> Una malattia neoplastica
B31: ='Archivio domande'!B35 -> Uno shock anafilattico | F31: ='Archivio domande'!E35 -> 1971 | I31: ='Archivio domande'!H35 -> Fibre vegetali tratte da graminacee | K31: =IF(L31=TRUE,B31,M31) -> Uno shock anafilattico | L31: =AND(Formule!$D$29="A",'Crescendo n3'!$C$65="A") -> FALSE | M31: =IF(N31=TRUE,F31,O31) -> Uno shock anafilattico | N31: =AND(Formule!$D$29="A",'Crescendo n3'!$C$65="B") -> FALSE | O31: =IF(P31=TRUE,I31,Q31) -> Uno shock anafilattico | P31: =AND(Formule!$D$29="A",'Crescendo n3'!$C$65="C") -> FALSE | Q31: =IF(R31=TRUE,I31,S31) -> Uno shock anafilattico | R31: =AND(Formule!$D$29="B",'Crescendo n3'!$C$65="A") -> FALSE | S31: =IF(T31=TRUE,B31,U31) -> Uno shock anafilattico | T31: =AND(Formule!$D$29="B",'Crescendo n3'!$C$65="B") -> FALSE | U31: =IF(V31=TRUE,F31,W31) -> Uno shock anafilattico | V31: =AND(Formule!$D$29="B",'Crescendo n3'!$C$65="C") -> FALSE | W31: =IF(X31=TRUE,F31,Y31) -> Uno shock anafilattico | X31: =AND(Formule!$D$29="C",'Crescendo n3'!$C$65="A") -> FALSE | Y31: =IF(Z31=TRUE,I31,AA31) -> Uno shock anafilattico | Z31: =AND(Formule!$D$29="C",'Crescendo n3'!$C$65="B") -> FALSE | AA31: =IF(AB31=TRUE,B31,AC31) -> Uno shock anafilattico | AB31: =AND(Formule!$D$29="C",'Crescendo n3'!$C69="C") -> FALSE | AC31: =B31 -> Uno shock anafilattico
B32: ='Archivio domande'!B36 -> Un incidente stradale | F32: ='Archivio domande'!E36 -> 1977 | I32: ='Archivio domande'!H36 -> Pelo di animale | K32: =IF(L32=TRUE,B32,M32) -> Un incidente stradale | L32: =AND(Formule!$D$29="A",'Crescendo n3'!$C$65="A") -> FALSE | M32: =IF(N32=TRUE,F32,O32) -> Un incidente stradale | N32: =AND(Formule!$D$29="A",'Crescendo n3'!$C$65="B") -> FALSE | O32: =IF(P32=TRUE,I32,Q32) -> Un incidente stradale | P32: =AND(Formule!$D$29="A",'Crescendo n3'!$C$65="C") -> FALSE | Q32: =IF(R32=TRUE,I32,S32) -> Un incidente stradale | R32: =AND(Formule!$D$29="B",'Crescendo n3'!$C$65="A") -> FALSE | S32: =IF(T32=TRUE,B32,U32) -> Un incidente stradale | T32: =AND(Formule!$D$29="B",'Crescendo n3'!$C$65="B") -> FALSE | U32: =IF(V32=TRUE,F32,W32) -> Un incidente stradale | V32: =AND(Formule!$D$29="B",'Crescendo n3'!$C$65="C") -> FALSE | W32: =IF(X32=TRUE,F32,Y32) -> Un incidente stradale | X32: =AND(Formule!$D$29="C",'Crescendo n3'!$C$65="A") -> FALSE | Y32: =IF(Z32=TRUE,I32,AA32) -> Un incidente stradale | Z32: =AND(Formule!$D$29="C",'Crescendo n3'!$C$65="B") -> FALSE | AA32: =IF(AB32=TRUE,B32,AC32) -> Un incidente stradale | AB32: =AND(Formule!$D$29="C",'Crescendo n3'!$C71="C") -> FALSE | AC32: =B32 -> Un incidente stradale
A34: A8 | B34: ='Archivio domande'!B38 -> Perché, secondo la leggenda, il vino "Est Est Est" di Montefiascone ha questo nome? | D34: C | E34: B8 | F34: ='Archivio domande'!E38 -> "Rood Blauwe" è il nome della realizzazione senz'altro più celebre dell'architetto e designer olandese Gerrit Rietveld. Si tratta di: | H34: C8 | I34: ='Archivio domande'!H38 -> Di quali due Paesi è originaria l'etnia Tamil? | K34: =IF(L34=TRUE,B34,M34) -> Perché, secondo la leggenda, il vino "Est Est Est" di Montefiascone ha questo nome? | L34: =AND(Formule!$D$34="A",'Crescendo n3'!$C$76="A") -> FALSE | M34: =IF(N34=TRUE,F34,O34) -> Perché, secondo la leggenda, il vino "Est Est Est" di Montefiascone ha questo nome? | N34: =AND(Formule!$D$34="A",'Crescendo n3'!$C$76="B") -> FALSE | O34: =IF(P34=TRUE,I34,Q34) -> Perché, secondo la leggenda, il vino "Est Est Est" di Montefiascone ha questo nome? | P34: =AND(Formule!$D$34="A",'Crescendo n3'!$C$76="C") -> FALSE | Q34: =IF(R34=TRUE,I34,S34) -> Perché, secondo la leggenda, il vino "Est Est Est" di Montefiascone ha questo nome? | R34: =AND(Formule!$D$34="B",'Crescendo n3'!$C$76="A") -> FALSE | S34: =IF(T34=TRUE,B34,U34) -> Perché, secondo la leggenda, il vino "Est Est Est" di Montefiascone ha questo nome? | T34: =AND(Formule!$D$34="B",'Crescendo n3'!$C$76="B") -> FALSE | U34: =IF(V34=TRUE,F34,W34) -> Perché, secondo la leggenda, il vino "Est Est Est" di Montefiascone ha questo nome? | V34: =AND(Formule!$D$34="B",'Crescendo n3'!$C$76="C") -> FALSE | W34: =IF(X34=TRUE,F34,Y34) -> Perché, secondo la leggenda, il vino "Est Est Est" di Montefiascone ha questo nome? | X34: =AND(Formule!$D$34="C",'Crescendo n3'!$C$76="A") -> FALSE | Y34: =IF(Z34=TRUE,I34,AA34) -> Perché, secondo la leggenda, il vino "Est Est Est" di Montefiascone ha questo nome? | Z34: =AND(Formule!$D$34="C",'Crescendo n3'!$C$76="B") -> FALSE | AA34: =IF(AB34=TRUE,B34,AC34) -> Perché, secondo la leggenda, il vino "Est Est Est" di Montefiascone ha questo nome? | AB34: =AND(Formule!$D$34="C",'Crescendo n3'!$C76="C") -> FALSE | AC34: =B34 -> Perché, secondo la leggenda, il vino "Est Est Est" di Montefiascone ha questo nome?
B35: ='Archivio domande'!B39 -> Il viticoltore che lo produsse per primo utilizzò l'uva di tre vigneti tutti rivolti ad oriente. Pienamente soddisfatto del risultato finale sottolineò nel nome quella scelta | F35: ='Archivio domande'!E39 -> Un grattacielo | I35: ='Archivio domande'!H39 -> Vietnam e Cambogia | K35: =IF(L35=TRUE,B35,M35) -> Il viticoltore che lo produsse per primo utilizzò l'uva di tre vigneti tutti rivolti ad oriente. Pienamente soddisfatto del risultato finale sottolineò nel nome quella scelta | L35: =AND(Formule!$D$34="A",'Crescendo n3'!$C$76="A") -> FALSE | M35: =IF(N35=TRUE,F35,O35) -> Il viticoltore che lo produsse per primo utilizzò l'uva di tre vigneti tutti rivolti ad oriente. Pienamente soddisfatto del risultato finale sottolineò nel nome quella scelta | N35: =AND(Formule!$D$34="A",'Crescendo n3'!$C$76="B") -> FALSE | O35: =IF(P35=TRUE,I35,Q35) -> Il viticoltore che lo produsse per primo utilizzò l'uva di tre vigneti tutti rivolti ad oriente. Pienamente soddisfatto del risultato finale sottolineò nel nome quella scelta | P35: =AND(Formule!$D$34="A",'Crescendo n3'!$C$76="C") -> FALSE | Q35: =IF(R35=TRUE,I35,S35) -> Il viticoltore che lo produsse per primo utilizzò l'uva di tre vigneti tutti rivolti ad oriente. Pienamente soddisfatto del risultato finale sottolineò nel nome quella scelta | R35: =AND(Formule!$D$34="B",'Crescendo n3'!$C$76="A") -> FALSE | S35: =IF(T35=TRUE,B35,U35) -> Il viticoltore che lo produsse per primo utilizzò l'uva di tre vigneti tutti rivolti ad oriente. Pienamente soddisfatto del risultato finale sottolineò nel nome quella scelta | T35: =AND(Formule!$D$34="B",'Crescendo n3'!$C$76="B") -> FALSE | U35: =IF(V35=TRUE,F35,W35) -> Il viticoltore che lo produsse per primo utilizzò l'uva di tre vigneti tutti rivolti ad oriente. Pienamente soddisfatto del risultato finale sottolineò nel nome quella scelta | V35: =AND(Formule!$D$34="B",'Crescendo n3'!$C$76="C") -> FALSE | W35: =IF(X35=TRUE,F35,Y35) -> Il viticoltore che lo produsse per primo utilizzò l'uva di tre vigneti tutti rivolti ad oriente. Pienamente soddisfatto del risultato finale sottolineò nel nome quella scelta | X35: =AND(Formule!$D$34="C",'Crescendo n3'!$C$76="A") -> FALSE | Y35: =IF(Z35=TRUE,I35,AA35) -> Il viticoltore che lo produsse per primo utilizzò l'uva di tre vigneti tutti rivolti ad oriente. Pienamente soddisfatto del risultato finale sottolineò nel nome quella scelta | Z35: =AND(Formule!$D$34="C",'Crescendo n3'!$C$76="B") -> FALSE | AA35: =IF(AB35=TRUE,B35,AC35) -> Il viticoltore che lo produsse per primo utilizzò l'uva di tre vigneti tutti rivolti ad oriente. Pienamente soddisfatto del risultato finale sottolineò nel nome quella scelta | AB35: =AND(Formule!$D$34="C",'Crescendo n3'!$C78="C") -> FALSE | AC35: =B35 -> Il viticoltore che lo produsse per primo utilizzò l'uva di tre vigneti tutti rivolti ad oriente. Pienamente soddisfatto del risultato finale sottolineò nel nome quella scelta
B36: ='Archivio domande'!B40 -> Un vescovo amante di vini, aveva incaricato un servo di scovare il vino migliore in zona, indicandone la locanda con la parola "Est". Quando assaggiò questo vino ne confermò la bontà ripetendo la parola per tre volte | F36: ='Archivio domande'!E40 -> Una sedia | I36: ='Archivio domande'!H40 -> India e Sri Lanka | K36: =IF(L36=TRUE,B36,M36) -> Un vescovo amante di vini, aveva incaricato un servo di scovare il vino migliore in zona, indicandone la locanda con la parola "Est". Quando assaggiò questo vino ne confermò la bontà ripetendo la parola per tre volte | L36: =AND(Formule!$D$34="A",'Crescendo n3'!$C$76="A") -> FALSE | M36: =IF(N36=TRUE,F36,O36) -> Un vescovo amante di vini, aveva incaricato un servo di scovare il vino migliore in zona, indicandone la locanda con la parola "Est". Quando assaggiò questo vino ne confermò la bontà ripetendo la parola per tre volte | N36: =AND(Formule!$D$34="A",'Crescendo n3'!$C$76="B") -> FALSE | O36: =IF(P36=TRUE,I36,Q36) -> Un vescovo amante di vini, aveva incaricato un servo di scovare il vino migliore in zona, indicandone la locanda con la parola "Est". Quando assaggiò questo vino ne confermò la bontà ripetendo la parola per tre volte | P36: =AND(Formule!$D$34="A",'Crescendo n3'!$C$76="C") -> FALSE | Q36: =IF(R36=TRUE,I36,S36) -> Un vescovo amante di vini, aveva incaricato un servo di scovare il vino migliore in zona, indicandone la locanda con la parola "Est". Quando assaggiò questo vino ne confermò la bontà ripetendo la parola per tre volte | R36: =AND(Formule!$D$34="B",'Crescendo n3'!$C$76="A") -> FALSE | S36: =IF(T36=TRUE,B36,U36) -> Un vescovo amante di vini, aveva incaricato un servo di scovare il vino migliore in zona, indicandone la locanda con la parola "Est". Quando assaggiò questo vino ne confermò la bontà ripetendo la parola per tre volte | T36: =AND(Formule!$D$34="B",'Crescendo n3'!$C$76="B") -> FALSE | U36: =IF(V36=TRUE,F36,W36) -> Un vescovo amante di vini, aveva incaricato un servo di scovare il vino migliore in zona, indicandone la locanda con la parola "Est". Quando assaggiò questo vino ne confermò la bontà ripetendo la parola per tre volte | V36: =AND(Formule!$D$34="B",'Crescendo n3'!$C$76="C") -> FALSE | W36: =IF(X36=TRUE,F36,Y36) -> Un vescovo amante di vini, aveva incaricato un servo di scovare il vino migliore in zona, indicandone la locanda con la parola "Est". Quando assaggiò questo vino ne confermò la bontà ripetendo la parola per tre volte | X36: =AND(Formule!$D$34="C",'Crescendo n3'!$C$76="A") -> FALSE | Y36: =IF(Z36=TRUE,I36,AA36) -> Un vescovo amante di vini, aveva incaricato un servo di scovare il vino migliore in zona, indicandone la locanda con la parola "Est". Quando assaggiò questo vino ne confermò la bontà ripetendo la parola per tre volte | Z36: =AND(Formule!$D$34="C",'Crescendo n3'!$C$76="B") -> FALSE | AA36: =IF(AB36=TRUE,B36,AC36) -> Un vescovo amante di vini, aveva incaricato un servo di scovare il vino migliore in zona, indicandone la locanda con la parola "Est". Quando assaggiò questo vino ne confermò la bontà ripetendo la parola per tre volte | AB36: =AND(Formule!$D$34="C",'Crescendo n3'!$C80="C") -> FALSE | AC36: =B36 -> Un vescovo amante di vini, aveva incaricato un servo di scovare il vino migliore in zona, indicandone la locanda con la parola "Est". Quando assaggiò questo vino ne confermò la bontà ripetendo la parola per tre volte
B37: ='Archivio domande'!B41 -> Nel 1111 era Papa Pasquale II e il suo fornitore di fiducia gli recò in assaggio questo vino. Allo stupore del Papa il fornitore voleva sottolineare "Est bonus!", ma era balbuziente e ripetè tre volte la prima parola | F37: ='Archivio domande'!E41 -> Un padiglione di mostra | I37: ='Archivio domande'!H41 -> Siria e Giordania | K37: =IF(L37=TRUE,B37,M37) -> Nel 1111 era Papa Pasquale II e il suo fornitore di fiducia gli recò in assaggio questo vino. Allo stupore del Papa il fornitore voleva sottolineare "Est bonus!", ma era balbuziente e ripetè tre volte la prima parola | L37: =AND(Formule!$D$34="A",'Crescendo n3'!$C$76="A") -> FALSE | M37: =IF(N37=TRUE,F37,O37) -> Nel 1111 era Papa Pasquale II e il suo fornitore di fiducia gli recò in assaggio questo vino. Allo stupore del Papa il fornitore voleva sottolineare "Est bonus!", ma era balbuziente e ripetè tre volte la prima parola | N37: =AND(Formule!$D$34="A",'Crescendo n3'!$C$76="B") -> FALSE | O37: =IF(P37=TRUE,I37,Q37) -> Nel 1111 era Papa Pasquale II e il suo fornitore di fiducia gli recò in assaggio questo vino. Allo stupore del Papa il fornitore voleva sottolineare "Est bonus!", ma era balbuziente e ripetè tre volte la prima parola | P37: =AND(Formule!$D$34="A",'Crescendo n3'!$C$76="C") -> FALSE | Q37: =IF(R37=TRUE,I37,S37) -> Nel 1111 era Papa Pasquale II e il suo fornitore di fiducia gli recò in assaggio questo vino. Allo stupore del Papa il fornitore voleva sottolineare "Est bonus!", ma era balbuziente e ripetè tre volte la prima parola | R37: =AND(Formule!$D$34="B",'Crescendo n3'!$C$76="A") -> FALSE | S37: =IF(T37=TRUE,B37,U37) -> Nel 1111 era Papa Pasquale II e il suo fornitore di fiducia gli recò in assaggio questo vino. Allo stupore del Papa il fornitore voleva sottolineare "Est bonus!", ma era balbuziente e ripetè tre volte la prima parola | T37: =AND(Formule!$D$34="B",'Crescendo n3'!$C$76="B") -> FALSE | U37: =IF(V37=TRUE,F37,W37) -> Nel 1111 era Papa Pasquale II e il suo fornitore di fiducia gli recò in assaggio questo vino. Allo stupore del Papa il fornitore voleva sottolineare "Est bonus!", ma era balbuziente e ripetè tre volte la prima parola | V37: =AND(Formule!$D$34="B",'Crescendo n3'!$C$76="C") -> FALSE | W37: =IF(X37=TRUE,F37,Y37) -> Nel 1111 era Papa Pasquale II e il suo fornitore di fiducia gli recò in assaggio questo vino. Allo stupore del Papa il fornitore voleva sottolineare "Est bonus!", ma era balbuziente e ripetè tre volte la prima parola | X37: =AND(Formule!$D$34="C",'Crescendo n3'!$C$76="A") -> FALSE | Y37: =IF(Z37=TRUE,I37,AA37) -> Nel 1111 era Papa Pasquale II e il suo fornitore di fiducia gli recò in assaggio questo vino. Allo stupore del Papa il fornitore voleva sottolineare "Est bonus!", ma era balbuziente e ripetè tre volte la prima parola | Z37: =AND(Formule!$D$34="C",'Crescendo n3'!$C$76="B") -> FALSE | AA37: =IF(AB37=TRUE,B37,AC37) -> Nel 1111 era Papa Pasquale II e il suo fornitore di fiducia gli recò in assaggio questo vino. Allo stupore del Papa il fornitore voleva sottolineare "Est bonus!", ma era balbuziente e ripetè tre volte la prima parola | AB37: =AND(Formule!$D$34="C",'Crescendo n3'!$C82="C") -> FALSE | AC37: =B37 -> Nel 1111 era Papa Pasquale II e il suo fornitore di fiducia gli recò in assaggio questo vino. Allo stupore del Papa il fornitore voleva sottolineare "Est bonus!", ma era balbuziente e ripetè tre volte la prima parola
A39: A9 | B39: ='Archivio domande'!B43 -> Non è stato esponente dell'Impressionismo il pittore: | D39: B | E39: B9 | F39: ='Archivio domande'!E43 -> Ha un accesso da due rampe elicoidali a senso unico, è profondo 54 metri ed è opera dell'architetto Antonio da Sangallo. Il Pozzo di San Patrizio è un capolavoro che si può visitare a: | H39: C9 | I39: ='Archivio domande'!H43 -> 2 La portanza, in un aereo, è: | K39: =IF(L39=TRUE,B39,M39) -> Non è stato esponente dell'Impressionismo il pittore: | L39: =AND(Formule!$D$39="A",'Crescendo n3'!$C$87="A") -> FALSE | M39: =IF(N39=TRUE,F39,O39) -> Non è stato esponente dell'Impressionismo il pittore: | N39: =AND(Formule!$D$39="A",'Crescendo n3'!$C$87="B") -> FALSE | O39: =IF(P39=TRUE,I39,Q39) -> Non è stato esponente dell'Impressionismo il pittore: | P39: =AND(Formule!$D$39="A",'Crescendo n3'!$C$87="C") -> FALSE | Q39: =IF(R39=TRUE,I39,S39) -> Non è stato esponente dell'Impressionismo il pittore: | R39: =AND(Formule!$D$39="B",'Crescendo n3'!$C$87="A") -> FALSE | S39: =IF(T39=TRUE,B39,U39) -> Non è stato esponente dell'Impressionismo il pittore: | T39: =AND(Formule!$D$39="B",'Crescendo n3'!$C$87="B") -> FALSE | U39: =IF(V39=TRUE,F39,W39) -> Non è stato esponente dell'Impressionismo il pittore: | V39: =AND(Formule!$D$39="B",'Crescendo n3'!$C$87="C") -> FALSE | W39: =IF(X39=TRUE,F39,Y39) -> Non è stato esponente dell'Impressionismo il pittore: | X39: =AND(Formule!$D$39="C",'Crescendo n3'!$C$87="A") -> FALSE | Y39: =IF(Z39=TRUE,I39,AA39) -> Non è stato esponente dell'Impressionismo il pittore: | Z39: =AND(Formule!$D$39="C",'Crescendo n3'!$C$87="B") -> FALSE | AA39: =IF(AB39=TRUE,B39,AC39) -> Non è stato esponente dell'Impressionismo il pittore: | AB39: =AND(Formule!$D$39="C",'Crescendo n3'!$C87="C") -> FALSE | AC39: =B39 -> Non è stato esponente dell'Impressionismo il pittore:
B40: ='Archivio domande'!B44 -> Pierre-Auguste Renoir | F40: ='Archivio domande'!E44 -> Frascati | I40: ='Archivio domande'!H44 -> La capacità, in quantità di ore, di restare in volo in base al carburante caricato e alla portata del peso complessivo, carico compreso | K40: =IF(L40=TRUE,B40,M40) -> Pierre-Auguste Renoir | L40: =AND(Formule!$D$39="A",'Crescendo n3'!$C$87="A") -> FALSE | M40: =IF(N40=TRUE,F40,O40) -> Pierre-Auguste Renoir | N40: =AND(Formule!$D$39="A",'Crescendo n3'!$C$87="B") -> FALSE | O40: =IF(P40=TRUE,I40,Q40) -> Pierre-Auguste Renoir | P40: =AND(Formule!$D$39="A",'Crescendo n3'!$C$87="C") -> FALSE | Q40: =IF(R40=TRUE,I40,S40) -> Pierre-Auguste Renoir | R40: =AND(Formule!$D$39="B",'Crescendo n3'!$C$87="A") -> FALSE | S40: =IF(T40=TRUE,B40,U40) -> Pierre-Auguste Renoir | T40: =AND(Formule!$D$39="B",'Crescendo n3'!$C$87="B") -> FALSE | U40: =IF(V40=TRUE,F40,W40) -> Pierre-Auguste Renoir | V40: =AND(Formule!$D$39="B",'Crescendo n3'!$C$87="C") -> FALSE | W40: =IF(X40=TRUE,F40,Y40) -> Pierre-Auguste Renoir | X40: =AND(Formule!$D$39="C",'Crescendo n3'!$C$87="A") -> FALSE | Y40: =IF(Z40=TRUE,I40,AA40) -> Pierre-Auguste Renoir | Z40: =AND(Formule!$D$39="C",'Crescendo n3'!$C$87="B") -> FALSE | AA40: =IF(AB40=TRUE,B40,AC40) -> Pierre-Auguste Renoir | AB40: =AND(Formule!$D$39="C",'Crescendo n3'!$C89="C") -> FALSE | AC40: =B40 -> Pierre-Auguste Renoir
B41: ='Archivio domande'!B45 -> Claude Monet | F41: ='Archivio domande'!E45 -> Volterra | I41: ='Archivio domande'!H45 -> La capacità di carico calcolata in proporzione alla potenza del motore | K41: =IF(L41=TRUE,B41,M41) -> Claude Monet | L41: =AND(Formule!$D$39="A",'Crescendo n3'!$C$87="A") -> FALSE | M41: =IF(N41=TRUE,F41,O41) -> Claude Monet | N41: =AND(Formule!$D$39="A",'Crescendo n3'!$C$87="B") -> FALSE | O41: =IF(P41=TRUE,I41,Q41) -> Claude Monet | P41: =AND(Formule!$D$39="A",'Crescendo n3'!$C$87="C") -> FALSE | Q41: =IF(R41=TRUE,I41,S41) -> Claude Monet | R41: =AND(Formule!$D$39="B",'Crescendo n3'!$C$87="A") -> FALSE | S41: =IF(T41=TRUE,B41,U41) -> Claude Monet | T41: =AND(Formule!$D$39="B",'Crescendo n3'!$C$87="B") -> FALSE | U41: =IF(V41=TRUE,F41,W41) -> Claude Monet | V41: =AND(Formule!$D$39="B",'Crescendo n3'!$C$87="C") -> FALSE | W41: =IF(X41=TRUE,F41,Y41) -> Claude Monet | X41: =AND(Formule!$D$39="C",'Crescendo n3'!$C$87="A") -> FALSE | Y41: =IF(Z41=TRUE,I41,AA41) -> Claude Monet | Z41: =AND(Formule!$D$39="C",'Crescendo n3'!$C$87="B") -> FALSE | AA41: =IF(AB41=TRUE,B41,AC41) -> Claude Monet | AB41: =AND(Formule!$D$39="C",'Crescendo n3'!$C91="C") -> FALSE | AC41: =B41 -> Claude Monet
B42: ='Archivio domande'!B46 -> Georges Braque | F42: ='Archivio domande'!E46 -> Orvieto | I42: ='Archivio domande'!H46 -> La spinta perpendicolare al moto dell'aereo che fa sì che l'aria spinga l'aereo verso l'alto | K42: =IF(L42=TRUE,B42,M42) -> Georges Braque | L42: =AND(Formule!$D$39="A",'Crescendo n3'!$C$87="A") -> FALSE | M42: =IF(N42=TRUE,F42,O42) -> Georges Braque | N42: =AND(Formule!$D$39="A",'Crescendo n3'!$C$87="B") -> FALSE | O42: =IF(P42=TRUE,I42,Q42) -> Georges Braque | P42: =AND(Formule!$D$39="A",'Crescendo n3'!$C$87="C") -> FALSE | Q42: =IF(R42=TRUE,I42,S42) -> Georges Braque | R42: =AND(Formule!$D$39="B",'Crescendo n3'!$C$87="A") -> FALSE | S42: =IF(T42=TRUE,B42,U42) -> Georges Braque | T42: =AND(Formule!$D$39="B",'Crescendo n3'!$C$87="B") -> FALSE | U42: =IF(V42=TRUE,F42,W42) -> Georges Braque | V42: =AND(Formule!$D$39="B",'Crescendo n3'!$C$87="C") -> FALSE | W42: =IF(X42=TRUE,F42,Y42) -> Georges Braque | X42: =AND(Formule!$D$39="C",'Crescendo n3'!$C$87="A") -> FALSE | Y42: =IF(Z42=TRUE,I42,AA42) -> Georges Braque | Z42: =AND(Formule!$D$39="C",'Crescendo n3'!$C$87="B") -> FALSE | AA42: =IF(AB42=TRUE,B42,AC42) -> Georges Braque | AB42: =AND(Formule!$D$39="C",'Crescendo n3'!$C93="C") -> FALSE | AC42: =B42 -> Georges Braque
A44: A10 | B44: ='Archivio domande'!B48 -> Le sinapsi permettono: | D44: C | E44: B10 | F44: ='Archivio domande'!E48 -> In quali casi si effettua il ballottaggio tra due candidati sindaci in un Comune? | H44: C10 | I44: ='Archivio domande'!H48 -> In alcuni centri del Molise e della Puglia viene parlata una lingua che deriva da: | K44: =IF(L44=TRUE,B44,M44) -> Le sinapsi permettono: | L44: =AND(Formule!$D$44="A",'Crescendo n3'!$C$98="A") -> FALSE | M44: =IF(N44=TRUE,F44,O44) -> Le sinapsi permettono: | N44: =AND(Formule!$D$44="A",'Crescendo n3'!$C$98="B") -> FALSE | O44: =IF(P44=TRUE,I44,Q44) -> Le sinapsi permettono: | P44: =AND(Formule!$D$44="A",'Crescendo n3'!$C$98="C") -> FALSE | Q44: =IF(R44=TRUE,I44,S44) -> Le sinapsi permettono: | R44: =AND(Formule!$D$44="B",'Crescendo n3'!$C$98="A") -> FALSE | S44: =IF(T44=TRUE,B44,U44) -> Le sinapsi permettono: | T44: =AND(Formule!$D$44="B",'Crescendo n3'!$C$98="B") -> FALSE | U44: =IF(V44=TRUE,F44,W44) -> Le sinapsi permettono: | V44: =AND(Formule!$D$44="B",'Crescendo n3'!$C$98="C") -> FALSE | W44: =IF(X44=TRUE,F44,Y44) -> Le sinapsi permettono: | X44: =AND(Formule!$D$44="C",'Crescendo n3'!$C$98="A") -> FALSE | Y44: =IF(Z44=TRUE,I44,AA44) -> Le sinapsi permettono: | Z44: =AND(Formule!$D$44="C",'Crescendo n3'!$C$98="B") -> FALSE | AA44: =IF(AB44=TRUE,B44,AC44) -> Le sinapsi permettono: | AB44: =AND(Formule!$D$44="C",'Crescendo n3'!$C98="C") -> FALSE | AC44: =B44 -> Le sinapsi permettono:
B45: ='Archivio domande'!B49 -> Di gestire le comunicazioni all'interno del corpo calloso dell'encefalo | F45: ='Archivio domande'!E49 -> Nel caso di Comuni con popolazione superiore ai 15.000 abitanti | I45: ='Archivio domande'!H49 -> L'arabo | K45: =IF(L45=TRUE,B45,M45) -> Di gestire le comunicazioni all'interno del corpo calloso dell'encefalo | L45: =AND(Formule!$D$44="A",'Crescendo n3'!$C$98="A") -> FALSE | M45: =IF(N45=TRUE,F45,O45) -> Di gestire le comunicazioni all'interno del corpo calloso dell'encefalo | N45: =AND(Formule!$D$44="A",'Crescendo n3'!$C$98="B") -> FALSE | O45: =IF(P45=TRUE,I45,Q45) -> Di gestire le comunicazioni all'interno del corpo calloso dell'encefalo | P45: =AND(Formule!$D$44="A",'Crescendo n3'!$C$98="C") -> FALSE | Q45: =IF(R45=TRUE,I45,S45) -> Di gestire le comunicazioni all'interno del corpo calloso dell'encefalo | R45: =AND(Formule!$D$44="B",'Crescendo n3'!$C$98="A") -> FALSE | S45: =IF(T45=TRUE,B45,U45) -> Di gestire le comunicazioni all'interno del corpo calloso dell'encefalo | T45: =AND(Formule!$D$44="B",'Crescendo n3'!$C$98="B") -> FALSE | U45: =IF(V45=TRUE,F45,W45) -> Di gestire le comunicazioni all'interno del corpo calloso dell'encefalo | V45: =AND(Formule!$D$44="B",'Crescendo n3'!$C$98="C") -> FALSE | W45: =IF(X45=TRUE,F45,Y45) -> Di gestire le comunicazioni all'interno del corpo calloso dell'encefalo | X45: =AND(Formule!$D$44="C",'Crescendo n3'!$C$98="A") -> FALSE | Y45: =IF(Z45=TRUE,I45,AA45) -> Di gestire le comunicazioni all'interno del corpo calloso dell'encefalo | Z45: =AND(Formule!$D$44="C",'Crescendo n3'!$C$98="B") -> FALSE | AA45: =IF(AB45=TRUE,B45,AC45) -> Di gestire le comunicazioni all'interno del corpo calloso dell'encefalo | AB45: =AND(Formule!$D$44="C",'Crescendo n3'!$C100="C") -> FALSE | AC45: =B45 -> Di gestire le comunicazioni all'interno del corpo calloso dell'encefalo
B46: ='Archivio domande'!B50 -> La trasmissione di impulsi nervosi tra neuroni o tra neuroni e fibre | F46: ='Archivio domande'!E50 -> Nel caso di Comuni con popolazione superiore ai 15.000 abitanti oppure, per Comuni con popolazione inferiore, qualora i due candidati più votati abbiano ottenuto pari numero di preferenze | I46: ='Archivio domande'!H50 -> L'albanese | K46: =IF(L46=TRUE,B46,M46) -> La trasmissione di impulsi nervosi tra neuroni o tra neuroni e fibre | L46: =AND(Formule!$D$44="A",'Crescendo n3'!$C$98="A") -> FALSE | M46: =IF(N46=TRUE,F46,O46) -> La trasmissione di impulsi nervosi tra neuroni o tra neuroni e fibre | N46: =AND(Formule!$D$44="A",'Crescendo n3'!$C$98="B") -> FALSE | O46: =IF(P46=TRUE,I46,Q46) -> La trasmissione di impulsi nervosi tra neuroni o tra neuroni e fibre | P46: =AND(Formule!$D$44="A",'Crescendo n3'!$C$98="C") -> FALSE | Q46: =IF(R46=TRUE,I46,S46) -> La trasmissione di impulsi nervosi tra neuroni o tra neuroni e fibre | R46: =AND(Formule!$D$44="B",'Crescendo n3'!$C$98="A") -> FALSE | S46: =IF(T46=TRUE,B46,U46) -> La trasmissione di impulsi nervosi tra neuroni o tra neuroni e fibre | T46: =AND(Formule!$D$44="B",'Crescendo n3'!$C$98="B") -> FALSE | U46: =IF(V46=TRUE,F46,W46) -> La trasmissione di impulsi nervosi tra neuroni o tra neuroni e fibre | V46: =AND(Formule!$D$44="B",'Crescendo n3'!$C$98="C") -> FALSE | W46: =IF(X46=TRUE,F46,Y46) -> La trasmissione di impulsi nervosi tra neuroni o tra neuroni e fibre | X46: =AND(Formule!$D$44="C",'Crescendo n3'!$C$98="A") -> FALSE | Y46: =IF(Z46=TRUE,I46,AA46) -> La trasmissione di impulsi nervosi tra neuroni o tra neuroni e fibre | Z46: =AND(Formule!$D$44="C",'Crescendo n3'!$C$98="B") -> FALSE | AA46: =IF(AB46=TRUE,B46,AC46) -> La trasmissione di impulsi nervosi tra neuroni o tra neuroni e fibre | AB46: =AND(Formule!$D$44="C",'Crescendo n3'!$C102="C") -> FALSE | AC46: =B46 -> La trasmissione di impulsi nervosi tra neuroni o tra neuroni e fibre
B47: ='Archivio domande'!B51 -> Lo scorrimento senza attrito di due ossa in una articolazione | F47: ='Archivio domande'!E51 -> Sempre | I47: ='Archivio domande'!H51 -> Lo spagnolo | K47: =IF(L47=TRUE,B47,M47) -> Lo scorrimento senza attrito di due ossa in una articolazione | L47: =AND(Formule!$D$44="A",'Crescendo n3'!$C$98="A") -> FALSE | M47: =IF(N47=TRUE,F47,O47) -> Lo scorrimento senza attrito di due ossa in una articolazione | N47: =AND(Formule!$D$44="A",'Crescendo n3'!$C$98="B") -> FALSE | O47: =IF(P47=TRUE,I47,Q47) -> Lo scorrimento senza attrito di due ossa in una articolazione | P47: =AND(Formule!$D$44="A",'Crescendo n3'!$C$98="C") -> FALSE | Q47: =IF(R47=TRUE,I47,S47) -> Lo scorrimento senza attrito di due ossa in una articolazione | R47: =AND(Formule!$D$44="B",'Crescendo n3'!$C$98="A") -> FALSE | S47: =IF(T47=TRUE,B47,U47) -> Lo scorrimento senza attrito di due ossa in una articolazione | T47: =AND(Formule!$D$44="B",'Crescendo n3'!$C$98="B") -> FALSE | U47: =IF(V47=TRUE,F47,W47) -> Lo scorrimento senza attrito di due ossa in una articolazione | V47: =AND(Formule!$D$44="B",'Crescendo n3'!$C$98="C") -> FALSE | W47: =IF(X47=TRUE,F47,Y47) -> Lo scorrimento senza attrito di due ossa in una articolazione | X47: =AND(Formule!$D$44="C",'Crescendo n3'!$C$98="A") -> FALSE | Y47: =IF(Z47=TRUE,I47,AA47) -> Lo scorrimento senza attrito di due ossa in una articolazione | Z47: =AND(Formule!$D$44="C",'Crescendo n3'!$C$98="B") -> FALSE | AA47: =IF(AB47=TRUE,B47,AC47) -> Lo scorrimento senza attrito di due ossa in una articolazione | AB47: =AND(Formule!$D$44="C",'Crescendo n3'!$C104="C") -> FALSE | AC47: =B47 -> Lo scorrimento senza attrito di due ossa in una articolazione
A49: A11 | B49: ='Archivio domande'!B53 -> Il Global Compact delle Nazioni Unite: | D49: B | E49: B11 | F49: ='Archivio domande'!E53 -> Il Lago Gatún, che si attraversa lungo il percorso del Canale di Panama, si trova: | H49: C11 | I49: ='Archivio domande'!H53 -> Tra i linguaggi di programmazione ce n'è uno creato nel 1959 ed utilizzato ancora oggi al fine di gestire calcoli ed elaborazioni di carattere commerciale e finanziario. Si tratta del: | K49: =IF(L49=TRUE,B49,M49) -> Il Global Compact delle Nazioni Unite: | L49: =AND(Formule!$D$49="A",'Crescendo n3'!$C$109="A") -> FALSE | M49: =IF(N49=TRUE,F49,O49) -> Il Global Compact delle Nazioni Unite: | N49: =AND(Formule!$D$49="A",'Crescendo n3'!$C$109="B") -> FALSE | O49: =IF(P49=TRUE,I49,Q49) -> Il Global Compact delle Nazioni Unite: | P49: =AND(Formule!$D$49="A",'Crescendo n3'!$C$109="C") -> FALSE | Q49: =IF(R49=TRUE,I49,S49) -> Il Global Compact delle Nazioni Unite: | R49: =AND(Formule!$D$49="B",'Crescendo n3'!$C$109="A") -> FALSE | S49: =IF(T49=TRUE,B49,U49) -> Il Global Compact delle Nazioni Unite: | T49: =AND(Formule!$D$49="B",'Crescendo n3'!$C$109="B") -> FALSE | U49: =IF(V49=TRUE,F49,W49) -> Il Global Compact delle Nazioni Unite: | V49: =AND(Formule!$D$49="B",'Crescendo n3'!$C$109="C") -> FALSE | W49: =IF(X49=TRUE,F49,Y49) -> Il Global Compact delle Nazioni Unite: | X49: =AND(Formule!$D$49="C",'Crescendo n3'!$C$109="A") -> FALSE | Y49: =IF(Z49=TRUE,I49,AA49) -> Il Global Compact delle Nazioni Unite: | Z49: =AND(Formule!$D$49="C",'Crescendo n3'!$C$109="B") -> FALSE | AA49: =IF(AB49=TRUE,B49,AC49) -> Il Global Compact delle Nazioni Unite: | AB49: =AND(Formule!$D$49="C",'Crescendo n3'!$C109="C") -> FALSE | AC49: =B49 -> Il Global Compact delle Nazioni Unite:
B50: ='Archivio domande'!B54 -> Incoraggia le imprese ad aderire a principi fondamentali relativi a diritti umani, standard lavorativi, tutela dell'ambiente e lotta alla corruzione | F50: ='Archivio domande'!E54 -> A 26 metri sul livello del mare | I50: ='Archivio domande'!H54 -> Cobol | K50: =IF(L50=TRUE,B50,M50) -> Incoraggia le imprese ad aderire a principi fondamentali relativi a diritti umani, standard lavorativi, tutela dell'ambiente e lotta alla corruzione | L50: =AND(Formule!$D$49="A",'Crescendo n3'!$C$109="A") -> FALSE | M50: =IF(N50=TRUE,F50,O50) -> Incoraggia le imprese ad aderire a principi fondamentali relativi a diritti umani, standard lavorativi, tutela dell'ambiente e lotta alla corruzione | N50: =AND(Formule!$D$49="A",'Crescendo n3'!$C$109="B") -> FALSE | O50: =IF(P50=TRUE,I50,Q50) -> Incoraggia le imprese ad aderire a principi fondamentali relativi a diritti umani, standard lavorativi, tutela dell'ambiente e lotta alla corruzione | P50: =AND(Formule!$D$49="A",'Crescendo n3'!$C$109="C") -> FALSE | Q50: =IF(R50=TRUE,I50,S50) -> Incoraggia le imprese ad aderire a principi fondamentali relativi a diritti umani, standard lavorativi, tutela dell'ambiente e lotta alla corruzione | R50: =AND(Formule!$D$49="B",'Crescendo n3'!$C$109="A") -> FALSE | S50: =IF(T50=TRUE,B50,U50) -> Incoraggia le imprese ad aderire a principi fondamentali relativi a diritti umani, standard lavorativi, tutela dell'ambiente e lotta alla corruzione | T50: =AND(Formule!$D$49="B",'Crescendo n3'!$C$109="B") -> FALSE | U50: =IF(V50=TRUE,F50,W50) -> Incoraggia le imprese ad aderire a principi fondamentali relativi a diritti umani, standard lavorativi, tutela dell'ambiente e lotta alla corruzione | V50: =AND(Formule!$D$49="B",'Crescendo n3'!$C$109="C") -> FALSE | W50: =IF(X50=TRUE,F50,Y50) -> Incoraggia le imprese ad aderire a principi fondamentali relativi a diritti umani, standard lavorativi, tutela dell'ambiente e lotta alla corruzione | X50: =AND(Formule!$D$49="C",'Crescendo n3'!$C$109="A") -> FALSE | Y50: =IF(Z50=TRUE,I50,AA50) -> Incoraggia le imprese ad aderire a principi fondamentali relativi a diritti umani, standard lavorativi, tutela dell'ambiente e lotta alla corruzione | Z50: =AND(Formule!$D$49="C",'Crescendo n3'!$C$109="B") -> FALSE | AA50: =IF(AB50=TRUE,B50,AC50) -> Incoraggia le imprese ad aderire a principi fondamentali relativi a diritti umani, standard lavorativi, tutela dell'ambiente e lotta alla corruzione | AB50: =AND(Formule!$D$49="C",'Crescendo n3'!$C111="C") -> FALSE | AC50: =B50 -> Incoraggia le imprese ad aderire a principi fondamentali relativi a diritti umani, standard lavorativi, tutela dell'ambiente e lotta alla corruzione
B51: ='Archivio domande'!B55 -> Istituisce un programma di finanziamenti a progetti per la salvaguardia dell'ambiente e la lotta ai cambiamenti climatici | F51: ='Archivio domande'!E55 -> Allo stesso livello di entrambi gli oceani che il Canale collega | I51: ='Archivio domande'!H55 -> Pascal | K51: =IF(L51=TRUE,B51,M51) -> Istituisce un programma di finanziamenti a progetti per la salvaguardia dell'ambiente e la lotta ai cambiamenti climatici | L51: =AND(Formule!$D$49="A",'Crescendo n3'!$C$109="A") -> FALSE | M51: =IF(N51=TRUE,F51,O51) -> Istituisce un programma di finanziamenti a progetti per la salvaguardia dell'ambiente e la lotta ai cambiamenti climatici | N51: =AND(Formule!$D$49="A",'Crescendo n3'!$C$109="B") -> FALSE | O51: =IF(P51=TRUE,I51,Q51) -> Istituisce un programma di finanziamenti a progetti per la salvaguardia dell'ambiente e la lotta ai cambiamenti climatici | P51: =AND(Formule!$D$49="A",'Crescendo n3'!$C$109="C") -> FALSE | Q51: =IF(R51=TRUE,I51,S51) -> Istituisce un programma di finanziamenti a progetti per la salvaguardia dell'ambiente e la lotta ai cambiamenti climatici | R51: =AND(Formule!$D$49="B",'Crescendo n3'!$C$109="A") -> FALSE | S51: =IF(T51=TRUE,B51,U51) -> Istituisce un programma di finanziamenti a progetti per la salvaguardia dell'ambiente e la lotta ai cambiamenti climatici | T51: =AND(Formule!$D$49="B",'Crescendo n3'!$C$109="B") -> FALSE | U51: =IF(V51=TRUE,F51,W51) -> Istituisce un programma di finanziamenti a progetti per la salvaguardia dell'ambiente e la lotta ai cambiamenti climatici | V51: =AND(Formule!$D$49="B",'Crescendo n3'!$C$109="C") -> FALSE | W51: =IF(X51=TRUE,F51,Y51) -> Istituisce un programma di finanziamenti a progetti per la salvaguardia dell'ambiente e la lotta ai cambiamenti climatici | X51: =AND(Formule!$D$49="C",'Crescendo n3'!$C$109="A") -> FALSE | Y51: =IF(Z51=TRUE,I51,AA51) -> Istituisce un programma di finanziamenti a progetti per la salvaguardia dell'ambiente e la lotta ai cambiamenti climatici | Z51: =AND(Formule!$D$49="C",'Crescendo n3'!$C$109="B") -> FALSE | AA51: =IF(AB51=TRUE,B51,AC51) -> Istituisce un programma di finanziamenti a progetti per la salvaguardia dell'ambiente e la lotta ai cambiamenti climatici | AB51: =AND(Formule!$D$49="C",'Crescendo n3'!$C113="C") -> FALSE | AC51: =B51 -> Istituisce un programma di finanziamenti a progetti per la salvaguardia dell'ambiente e la lotta ai cambiamenti climatici
B52: ='Archivio domande'!B56 -> Promuove tavoli per la soluzione dei conflitti tra Paesi o guerre civili al loro interno | F52: ='Archivio domande'!E56 -> Allo stesso livello dell'Oceano Pacifico che è di 20-30 cm più elevato dell'Atlantico | I52: ='Archivio domande'!H56 -> Fortran | K52: =IF(L52=TRUE,B52,M52) -> Promuove tavoli per la soluzione dei conflitti tra Paesi o guerre civili al loro interno | L52: =AND(Formule!$D$49="A",'Crescendo n3'!$C$109="A") -> FALSE | M52: =IF(N52=TRUE,F52,O52) -> Promuove tavoli per la soluzione dei conflitti tra Paesi o guerre civili al loro interno | N52: =AND(Formule!$D$49="A",'Crescendo n3'!$C$109="B") -> FALSE | O52: =IF(P52=TRUE,I52,Q52) -> Promuove tavoli per la soluzione dei conflitti tra Paesi o guerre civili al loro interno | P52: =AND(Formule!$D$49="A",'Crescendo n3'!$C$109="C") -> FALSE | Q52: =IF(R52=TRUE,I52,S52) -> Promuove tavoli per la soluzione dei conflitti tra Paesi o guerre civili al loro interno | R52: =AND(Formule!$D$49="B",'Crescendo n3'!$C$109="A") -> FALSE | S52: =IF(T52=TRUE,B52,U52) -> Promuove tavoli per la soluzione dei conflitti tra Paesi o guerre civili al loro interno | T52: =AND(Formule!$D$49="B",'Crescendo n3'!$C$109="B") -> FALSE | U52: =IF(V52=TRUE,F52,W52) -> Promuove tavoli per la soluzione dei conflitti tra Paesi o guerre civili al loro interno | V52: =AND(Formule!$D$49="B",'Crescendo n3'!$C$109="C") -> FALSE | W52: =IF(X52=TRUE,F52,Y52) -> Promuove tavoli per la soluzione dei conflitti tra Paesi o guerre civili al loro interno | X52: =AND(Formule!$D$49="C",'Crescendo n3'!$C$109="A") -> FALSE | Y52: =IF(Z52=TRUE,I52,AA52) -> Promuove tavoli per la soluzione dei conflitti tra Paesi o guerre civili al loro interno | Z52: =AND(Formule!$D$49="C",'Crescendo n3'!$C$109="B") -> FALSE | AA52: =IF(AB52=TRUE,B52,AC52) -> Promuove tavoli per la soluzione dei conflitti tra Paesi o guerre civili al loro interno | AB52: =AND(Formule!$D$49="C",'Crescendo n3'!$C115="C") -> FALSE | AC52: =B52 -> Promuove tavoli per la soluzione dei conflitti tra Paesi o guerre civili al loro interno
A54: A12 | B54: ='Archivio domande'!B58 -> Il giornalista francese Paul Birault divenne famoso per: | D54: A | E54: B12 | F54: ='Archivio domande'!E58 -> La Grotta di Altamira, in Spagna, è famosa per: | H54: C12 | I54: ='Archivio domande'!H58 -> La dinastia Ming fu quella, in Cina, tra le più famose. Durò dal 1368 al 1644. Fu preceduta da quale altra dinastia, che dominò dal 1271? | K54: =IF(L54=TRUE,B54,M54) -> Il giornalista francese Paul Birault divenne famoso per: | L54: =AND(Formule!$D$54="A",'Crescendo n3'!$C$120="A") -> FALSE | M54: =IF(N54=TRUE,F54,O54) -> Il giornalista francese Paul Birault divenne famoso per: | N54: =AND(Formule!$D$54="A",'Crescendo n3'!$C$120="B") -> FALSE | O54: =IF(P54=TRUE,I54,Q54) -> Il giornalista francese Paul Birault divenne famoso per: | P54: =AND(Formule!$D$54="A",'Crescendo n3'!$C$120="C") -> FALSE | Q54: =IF(R54=TRUE,I54,S54) -> Il giornalista francese Paul Birault divenne famoso per: | R54: =AND(Formule!$D$54="B",'Crescendo n3'!$C$120="A") -> FALSE | S54: =IF(T54=TRUE,B54,U54) -> Il giornalista francese Paul Birault divenne famoso per: | T54: =AND(Formule!$D$54="B",'Crescendo n3'!$C$120="B") -> FALSE | U54: =IF(V54=TRUE,F54,W54) -> Il giornalista francese Paul Birault divenne famoso per: | V54: =AND(Formule!$D$54="B",'Crescendo n3'!$C$120="C") -> FALSE | W54: =IF(X54=TRUE,F54,Y54) -> Il giornalista francese Paul Birault divenne famoso per: | X54: =AND(Formule!$D$54="C",'Crescendo n3'!$C$120="A") -> FALSE | Y54: =IF(Z54=TRUE,I54,AA54) -> Il giornalista francese Paul Birault divenne famoso per: | Z54: =AND(Formule!$D$54="C",'Crescendo n3'!$C$120="B") -> FALSE | AA54: =IF(AB54=TRUE,B54,AC54) -> Il giornalista francese Paul Birault divenne famoso per: | AB54: =AND(Formule!$D$54="C",'Crescendo n3'!$C120="C") -> FALSE | AC54: =B54 -> Il giornalista francese Paul Birault divenne famoso per:
B55: ='Archivio domande'!B59 -> Aver ingannato con uno scherzo, agli inizi del secolo scorso, i poltici francesi smascherando la loro ipocrisia | F55: ='Archivio domande'!E59 -> Conservare notevoli pitture parietali risalenti al Paleolitico superiore | I55: ='Archivio domande'!H59 -> Yuan | K55: =IF(L55=TRUE,B55,M55) -> Aver ingannato con uno scherzo, agli inizi del secolo scorso, i poltici francesi smascherando la loro ipocrisia | L55: =AND(Formule!$D$54="A",'Crescendo n3'!$C$120="A") -> FALSE | M55: =IF(N55=TRUE,F55,O55) -> Aver ingannato con uno scherzo, agli inizi del secolo scorso, i poltici francesi smascherando la loro ipocrisia | N55: =AND(Formule!$D$54="A",'Crescendo n3'!$C$120="B") -> FALSE | O55: =IF(P55=TRUE,I55,Q55) -> Aver ingannato con uno scherzo, agli inizi del secolo scorso, i poltici francesi smascherando la loro ipocrisia | P55: =AND(Formule!$D$54="A",'Crescendo n3'!$C$120="C") -> FALSE | Q55: =IF(R55=TRUE,I55,S55) -> Aver ingannato con uno scherzo, agli inizi del secolo scorso, i poltici francesi smascherando la loro ipocrisia | R55: =AND(Formule!$D$54="B",'Crescendo n3'!$C$120="A") -> FALSE | S55: =IF(T55=TRUE,B55,U55) -> Aver ingannato con uno scherzo, agli inizi del secolo scorso, i poltici francesi smascherando la loro ipocrisia | T55: =AND(Formule!$D$54="B",'Crescendo n3'!$C$120="B") -> FALSE | U55: =IF(V55=TRUE,F55,W55) -> Aver ingannato con uno scherzo, agli inizi del secolo scorso, i poltici francesi smascherando la loro ipocrisia | V55: =AND(Formule!$D$54="B",'Crescendo n3'!$C$120="C") -> FALSE | W55: =IF(X55=TRUE,F55,Y55) -> Aver ingannato con uno scherzo, agli inizi del secolo scorso, i poltici francesi smascherando la loro ipocrisia | X55: =AND(Formule!$D$54="C",'Crescendo n3'!$C$120="A") -> FALSE | Y55: =IF(Z55=TRUE,I55,AA55) -> Aver ingannato con uno scherzo, agli inizi del secolo scorso, i poltici francesi smascherando la loro ipocrisia | Z55: =AND(Formule!$D$54="C",'Crescendo n3'!$C$120="B") -> FALSE | AA55: =IF(AB55=TRUE,B55,AC55) -> Aver ingannato con uno scherzo, agli inizi del secolo scorso, i poltici francesi smascherando la loro ipocrisia | AB55: =AND(Formule!$D$54="C",'Crescendo n3'!$C122="C") -> FALSE | AC55: =B55 -> Aver ingannato con uno scherzo, agli inizi del secolo scorso, i poltici francesi smascherando la loro ipocrisia
B56: ='Archivio domande'!B60 -> Aver suggerito, durante la 1° Guerra Mondiale, di utilizzare la Torre Eiffel come supporto di un'antenna che permettesse di ascoltare le comunicazioni dell'esercito nemico | F56: ='Archivio domande'!E60 -> Essere il luogo dove la leggenda vuole che si collocò il corpo del Paladino Orlando, morto a Roncisvalle | I56: ='Archivio domande'!H60 -> Qing | K56: =IF(L56=TRUE,B56,M56) -> Aver suggerito, durante la 1° Guerra Mondiale, di utilizzare la Torre Eiffel come supporto di un'antenna che permettesse di ascoltare le comunicazioni dell'esercito nemico | L56: =AND(Formule!$D$54="A",'Crescendo n3'!$C$120="A") -> FALSE | M56: =IF(N56=TRUE,F56,O56) -> Aver suggerito, durante la 1° Guerra Mondiale, di utilizzare la Torre Eiffel come supporto di un'antenna che permettesse di ascoltare le comunicazioni dell'esercito nemico | N56: =AND(Formule!$D$54="A",'Crescendo n3'!$C$120="B") -> FALSE | O56: =IF(P56=TRUE,I56,Q56) -> Aver suggerito, durante la 1° Guerra Mondiale, di utilizzare la Torre Eiffel come supporto di un'antenna che permettesse di ascoltare le comunicazioni dell'esercito nemico | P56: =AND(Formule!$D$54="A",'Crescendo n3'!$C$120="C") -> FALSE | Q56: =IF(R56=TRUE,I56,S56) -> Aver suggerito, durante la 1° Guerra Mondiale, di utilizzare la Torre Eiffel come supporto di un'antenna che permettesse di ascoltare le comunicazioni dell'esercito nemico | R56: =AND(Formule!$D$54="B",'Crescendo n3'!$C$120="A") -> FALSE | S56: =IF(T56=TRUE,B56,U56) -> Aver suggerito, durante la 1° Guerra Mondiale, di utilizzare la Torre Eiffel come supporto di un'antenna che permettesse di ascoltare le comunicazioni dell'esercito nemico | T56: =AND(Formule!$D$54="B",'Crescendo n3'!$C$120="B") -> FALSE | U56: =IF(V56=TRUE,F56,W56) -> Aver suggerito, durante la 1° Guerra Mondiale, di utilizzare la Torre Eiffel come supporto di un'antenna che permettesse di ascoltare le comunicazioni dell'esercito nemico | V56: =AND(Formule!$D$54="B",'Crescendo n3'!$C$120="C") -> FALSE | W56: =IF(X56=TRUE,F56,Y56) -> Aver suggerito, durante la 1° Guerra Mondiale, di utilizzare la Torre Eiffel come supporto di un'antenna che permettesse di ascoltare le comunicazioni dell'esercito nemico | X56: =AND(Formule!$D$54="C",'Crescendo n3'!$C$120="A") -> FALSE | Y56: =IF(Z56=TRUE,I56,AA56) -> Aver suggerito, durante la 1° Guerra Mondiale, di utilizzare la Torre Eiffel come supporto di un'antenna che permettesse di ascoltare le comunicazioni dell'esercito nemico | Z56: =AND(Formule!$D$54="C",'Crescendo n3'!$C$120="B") -> FALSE | AA56: =IF(AB56=TRUE,B56,AC56) -> Aver suggerito, durante la 1° Guerra Mondiale, di utilizzare la Torre Eiffel come supporto di un'antenna che permettesse di ascoltare le comunicazioni dell'esercito nemico | AB56: =AND(Formule!$D$54="C",'Crescendo n3'!$C124="C") -> FALSE | AC56: =B56 -> Aver suggerito, durante la 1° Guerra Mondiale, di utilizzare la Torre Eiffel come supporto di un'antenna che permettesse di ascoltare le comunicazioni dell'esercito nemico
B57: ='Archivio domande'!B61 -> Aver codificato la regola delle 5 domande fondamentali cui rispondere ai lettori quando si parla di un fatto (che gli anglosassoni chiamano "regola delle 5 W") | F57: ='Archivio domande'!E61 -> Essere stata l'unico giacimento di smeraldi in tutta l'Europa | I57: ='Archivio domande'!H61 -> Liao | K57: =IF(L57=TRUE,B57,M57) -> Aver codificato la regola delle 5 domande fondamentali cui rispondere ai lettori quando si parla di un fatto (che gli anglosassoni chiamano "regola delle 5 W") | L57: =AND(Formule!$D$54="A",'Crescendo n3'!$C$120="A") -> FALSE | M57: =IF(N57=TRUE,F57,O57) -> Aver codificato la regola delle 5 domande fondamentali cui rispondere ai lettori quando si parla di un fatto (che gli anglosassoni chiamano "regola delle 5 W") | N57: =AND(Formule!$D$54="A",'Crescendo n3'!$C$120="B") -> FALSE | O57: =IF(P57=TRUE,I57,Q57) -> Aver codificato la regola delle 5 domande fondamentali cui rispondere ai lettori quando si parla di un fatto (che gli anglosassoni chiamano "regola delle 5 W") | P57: =AND(Formule!$D$54="A",'Crescendo n3'!$C$120="C") -> FALSE | Q57: =IF(R57=TRUE,I57,S57) -> Aver codificato la regola delle 5 domande fondamentali cui rispondere ai lettori quando si parla di un fatto (che gli anglosassoni chiamano "regola delle 5 W") | R57: =AND(Formule!$D$54="B",'Crescendo n3'!$C$120="A") -> FALSE | S57: =IF(T57=TRUE,B57,U57) -> Aver codificato la regola delle 5 domande fondamentali cui rispondere ai lettori quando si parla di un fatto (che gli anglosassoni chiamano "regola delle 5 W") | T57: =AND(Formule!$D$54="B",'Crescendo n3'!$C$120="B") -> FALSE | U57: =IF(V57=TRUE,F57,W57) -> Aver codificato la regola delle 5 domande fondamentali cui rispondere ai lettori quando si parla di un fatto (che gli anglosassoni chiamano "regola delle 5 W") | V57: =AND(Formule!$D$54="B",'Crescendo n3'!$C$120="C") -> FALSE | W57: =IF(X57=TRUE,F57,Y57) -> Aver codificato la regola delle 5 domande fondamentali cui rispondere ai lettori quando si parla di un fatto (che gli anglosassoni chiamano "regola delle 5 W") | X57: =AND(Formule!$D$54="C",'Crescendo n3'!$C$120="A") -> FALSE | Y57: =IF(Z57=TRUE,I57,AA57) -> Aver codificato la regola delle 5 domande fondamentali cui rispondere ai lettori quando si parla di un fatto (che gli anglosassoni chiamano "regola delle 5 W") | Z57: =AND(Formule!$D$54="C",'Crescendo n3'!$C$120="B") -> FALSE | AA57: =IF(AB57=TRUE,B57,AC57) -> Aver codificato la regola delle 5 domande fondamentali cui rispondere ai lettori quando si parla di un fatto (che gli anglosassoni chiamano "regola delle 5 W") | AB57: =AND(Formule!$D$54="C",'Crescendo n3'!$C126="C") -> FALSE | AC57: =B57 -> Aver codificato la regola delle 5 domande fondamentali cui rispondere ai lettori quando si parla di un fatto (che gli anglosassoni chiamano "regola delle 5 W")
D59: A
D61: =IF('Crescendo n3'!C10=Formule!D4,1,0) -> 0 | E61: =D61 -> 0
C62: =AND(D61=1,D62=1) -> FALSE | D62: =IF('Crescendo n3'!C21=Formule!D9,1,0) -> 0 | E62: =IF(C62=FALSE,D62/2,D62) -> 0
C63: =AND(D62=1,D63=1) -> FALSE | D63: =IF('Crescendo n3'!C32=Formule!D14,1,0) -> 0 | E63: =IF(C63=FALSE,D63/2,D63) -> 0
C64: =AND(D63=1,D64=1) -> FALSE | D64: =IF('Crescendo n3'!C43=Formule!D19,1,0) -> 0 | E64: =IF(C64=FALSE,D64/2,D64) -> 0
C65: =AND(D64=1,D65=1) -> FALSE | D65: =IF('Crescendo n3'!C54=Formule!D24,1,0) -> 0 | E65: =IF(C65=FALSE,D65/2,D65) -> 0
C66: =AND(D65=1,D66=1) -> FALSE | D66: =IF('Crescendo n3'!C65=Formule!D29,1,0) -> 0 | E66: =IF(C66=FALSE,D66/2,D66) -> 0
C67: =AND(D66=1,D67=1) -> FALSE | D67: =IF('Crescendo n3'!C76=Formule!D34,1,0) -> 0 | E67: =IF(C67=FALSE,D67/2,D67) -> 0
C68: =AND(D67=1,D68=1) -> FALSE | D68: =IF('Crescendo n3'!C87=Formule!D39,1,0) -> 0 | E68: =IF(C68=FALSE,D68/2,D68) -> 0
C69: =AND(D68=1,D69=1) -> FALSE | D69: =IF('Crescendo n3'!C98=Formule!D44,1,0) -> 0 | E69: =IF(C69=FALSE,D69/2,D69) -> 0
C70: =AND(D69=1,D70=1) -> FALSE | D70: =IF('Crescendo n3'!C109=Formule!D49,1,0) -> 0 | E70: =IF(C70=FALSE,D70/2,D70) -> 0
C71: =AND(D70=1,D71=1) -> FALSE | D71: =IF('Crescendo n3'!C120=Formule!D54,1,0) -> 0 | E71: =IF(C71=FALSE,D71/2,D71) -> 0
C72: =AND(D71=1,D72=1) -> FALSE | D72: =IF('Crescendo n3'!C131=Formule!D59,1,0) -> 0 | E72: =IF(C72=FALSE,D72/2,D72) -> 0
B73: Calcolo punteggio finale | C73: =IF('Crescendo n3'!D138=12,E73," ") | E73: =SUM(E61:E72) -> 0

Sheet Archivio domande
A3: A1 | B3: Il "Quarto uomo":
A4: A | B4: È un gioco a carte in cui le Donne devono catturare il Re o il Fante nascosto | C4: C
A5: B | B5: È un modo popolare di definire il Giudice di Pace
A6: C | B6: Si trova a bordo campo nelle partite di calcio
A8: A2 | B8: Se ti trovi a Giardini Naxos sei in provincia di: | D8: B2 | E8: Nel gioco degli Scacchi l'arrocco è una mossa che coinvolge: | G8: C2 | H8: Il "flute" è:
A9: A | B9: La Spezia | C9: C | D9: A | E9: Regina e Cavallo | F9: C | G9: A | H9: Un bicchiere stretto e slanciato che si usa per bere spumante o champagne | I9: C
A10: B | B10: Roma | D10: B | E10: Due Pedoni | G10: B | H10: Un tipo d contratto di lavoro intermedio tra quello a chiamata e quello stagionale, prevedendo una durata minima ma anche una flessibilità sul numero di ore giornaliere
A11: C | B11: Messina | D11: C | E11: Re e Torre | G11: C | H11: Una particolare telaio per bicicletta da corsa, adatto a fare a cronometro o prove di record dell'ora
A13: A3 | B13: Quale tra i seguenti, è un numero primo? | D13: B3 | E13: "Effetto Notte" è | G13: C3 | H13: A distribuire l'alta tensione alle candele, nel motore, è:
A14: A | B14: 57 | C14: B | D14: A | E14: Un inconveniente che può capitare alla guida quando si passa improvvisamente dalla luce al buio | G14: A | H14: La bobina
A15: B | B15: 83 | D15: B | E15: Una tecnica che si usa al cinema | G15: B | H15: Lo spinterogeno
A16: C | B16: 91 | D16: C | E16: Una soluzione adottata nel truccarsi gli occhi per dare un particolare tono tra l'azzurro, il blu e il nero | G16: C | H16: L'albero a camme
A18: A4 | B18: Dante, nel canto V dell' Inferno, incontra chi? | D18: B4 | E18: "Draisina" è stato il nome del prototipo di quale sucessiva invenzione? | G18: C4 | H18: Le colonne che recano foglie sui capitelli sono quelle di ordine:
A19: A | B19: Paolo e Francesca | C19: A | D19: A | E19: Bicicletta | G19: A | H19: Corinzio
A20: B | B20: Il conte Ugolino | D20: B | E20: Sommergibile | G20: B | H20: Ionico
A21: C | B21: Virgilio | D21: C | E21: Macchina da scrivere | G21: C | H21: Dorico
A23: A5 | B23: Oltre ad Anthony Hopkins, chi vinse l'Oscar come migliore interprete pe ril film "Il Silenzio degli Innocenti"? | D23: B5 | E23: Le prime Olimpiadi moderne si tennero ad Atene in che anno? | G23: C5 | H23: Il Pubblico Ministero:
A24: A | B24: Bette Midler | C24: B | D24: A | E24: 1884 | G24: A | H24: Prende parte alle sole cause civili
A25: B | B25: Jodie Foster | D25: B | E25: 1896 | G25: B | H25: Prende parte a cause penali, ma ha facoltà di aver parte in cause civili in cui ravvisi un interesse pubblico, mentre entra d'obbligo in alcune cause civili come quelle che decidono sulla capacità di agire
A26: C | B26: Meryl Streep | D26: C | E26: 1904 | G26: C | H26: Prende parte alle sole cause penali
A28: A6 | B28: Il frutto del kiwi viene classificato come: | D28: B6 | E28: Il Ghibli è un vento tipico: | G28: C6 | H28: Il Joule è una unità di misura:
A29: A | B29: Bacca | C29: A | D29: A | E29: Del deserto del Sahara | F29: A | G29: A | H29: Dell'energia | I29: A
A30: B | B30: Drupa | D30: B | E30: Delle montagne himalayane | G30: B | H30: Della velocità del suono
A31: C | B31: Pomo | D31: C | E31: Del mar Egeo | G31: C | H31: Dell'acidità delle sostanze
A33: A7 | B33: Il cantautore Rino Gaetano scomparse prematuramente nel 1981 a causa di: | D33: B7 | E33: La RAI ha iniziato a trasmettere ufficialmente a colori a partire da che anno? | G33: C7 | H33: Il feltro è una stoffa che si ottiene trattando:
A34: A | B34: Una malattia neoplastica | C34: C | D34: A | E34: 1964 | F34: C | G34: A | H34: Il cotone | I34: C
A35: B | B35: Uno shock anafilattico | D35: B | E35: 1971 | G35: B | H35: Fibre vegetali tratte da graminacee
A36: C | B36: Un incidente stradale | D36: C | E36: 1977 | G36: C | H36: Pelo di animale
A38: A8 | B38: Perché, secondo la leggenda, il vino "Est Est Est" di Montefiascone ha questo nome? | D38: B8 | E38: "Rood Blauwe" è il nome della realizzazione senz'altro più celebre dell'architetto e designer olandese Gerrit Rietveld. Si tratta di: | G38: C8 | H38: Di quali due Paesi è originaria l'etnia Tamil?
A39: A | B39: Il viticoltore che lo produsse per primo utilizzò l'uva di tre vigneti tutti rivolti ad oriente. Pienamente soddisfatto del risultato finale sottolineò nel nome quella scelta | C39: B | D39: A | E39: Un grattacielo | F39: B | G39: A | H39: Vietnam e Cambogia | I39: B
A40: B | B40: Un vescovo amante di vini, aveva incaricato un servo di scovare il vino migliore in zona, indicandone la locanda con la parola "Est". Quando assaggiò questo vino ne confermò la bontà ripetendo la parola per tre volte | D40: B | E40: Una sedia | G40: B | H40: India e Sri Lanka
A41: C | B41: Nel 1111 era Papa Pasquale II e il suo fornitore di fiducia gli recò in assaggio questo vino. Allo stupore del Papa il fornitore voleva sottolineare "Est bonus!", ma era balbuziente e ripetè tre volte la prima parola | D41: C | E41: Un padiglione di mostra | G41: C | H41: Siria e Giordania
A43: A9 | B43: Non è stato esponente dell'Impressionismo il pittore: | D43: B9 | E43: Ha un accesso da due rampe elicoidali a senso unico, è profondo 54 metri ed è opera dell'architetto Antonio da Sangallo. Il Pozzo di San Patrizio è un capolavoro che si può visitare a: | G43: C9 | H43: 2 La portanza, in un aereo, è:
A44: A | B44: Pierre-Auguste Renoir | C44: C | D44: A | E44: Frascati | F44: C | G44: A | H44: La capacità, in quantità di ore, di restare in volo in base al carburante caricato e alla portata del peso complessivo, carico compreso | I44: A
A45: B | B45: Claude Monet | D45: B | E45: Volterra | G45: B | H45: La capacità di carico calcolata in proporzione alla potenza del motore
A46: C | B46: Georges Braque | D46: C | E46: Orvieto | G46: C | H46: La spinta perpendicolare al moto dell'aereo che fa sì che l'aria spinga l'aereo verso l'alto
A48: A10 | B48: Le sinapsi permettono: | D48: B10 | E48: In quali casi si effettua il ballottaggio tra due candidati sindaci in un Comune? | G48: C10 | H48: In alcuni centri del Molise e della Puglia viene parlata una lingua che deriva da:
A49: A | B49: Di gestire le comunicazioni all'interno del corpo calloso dell'encefalo | C49: B | D49: A | E49: Nel caso di Comuni con popolazione superiore ai 15.000 abitanti | F49: C | G49: A | H49: L'arabo | I49: B
A50: B | B50: La trasmissione di impulsi nervosi tra neuroni o tra neuroni e fibre | D50: B | E50: Nel caso di Comuni con popolazione superiore ai 15.000 abitanti oppure, per Comuni con popolazione inferiore, qualora i due candidati più votati abbiano ottenuto pari numero di preferenze | G50: B | H50: L'albanese
A51: C | B51: Lo scorrimento senza attrito di due ossa in una articolazione | D51: C | E51: Sempre | G51: C | H51: Lo spagnolo
A53: A11 | B53: Il Global Compact delle Nazioni Unite: | D53: B11 | E53: Il Lago Gatún, che si attraversa lungo il percorso del Canale di Panama, si trova: | G53: C11 | H53: Tra i linguaggi di programmazione ce n'è uno creato nel 1959 ed utilizzato ancora oggi al fine di gestire calcoli ed elaborazioni di carattere commerciale e finanziario. Si tratta del:
A54: A | B54: Incoraggia le imprese ad aderire a principi fondamentali relativi a diritti umani, standard lavorativi, tutela dell'ambiente e lotta alla corruzione | C54: A | D54: A | E54: A 26 metri sul livello del mare | F54: C | G54: A | H54: Cobol | I54: C
A55: B | B55: Istituisce un programma di finanziamenti a progetti per la salvaguardia dell'ambiente e la lotta ai cambiamenti climatici | D55: B | E55: Allo stesso livello di entrambi gli oceani che il Canale collega | G55: B | H55: Pascal
A56: C | B56: Promuove tavoli per la soluzione dei conflitti tra Paesi o guerre civili al loro interno | D56: C | E56: Allo stesso livello dell'Oceano Pacifico che è di 20-30 cm più elevato dell'Atlantico | G56: C | H56: Fortran
A58: A12 | B58: Il giornalista francese Paul Birault divenne famoso per: | D58: B12 | E58: La Grotta di Altamira, in Spagna, è famosa per: | G58: C12 | H58: La dinastia Ming fu quella, in Cina, tra le più famose. Durò dal 1368 al 1644. Fu preceduta da quale altra dinastia, che dominò dal 1271?
A59: A | B59: Aver ingannato con uno scherzo, agli inizi del secolo scorso, i poltici francesi smascherando la loro ipocrisia | C59: A | D59: A | E59: Conservare notevoli pitture parietali risalenti al Paleolitico superiore | F59: B | G59: A | H59: Yuan
A60: B | B60: Aver suggerito, durante la 1° Guerra Mondiale, di utilizzare la Torre Eiffel come supporto di un'antenna che permettesse di ascoltare le comunicazioni dell'esercito nemico | D60: B | E60: Essere il luogo dove la leggenda vuole che si collocò il corpo del Paladino Orlando, morto a Roncisvalle | G60: B | H60: Qing
A61: C | B61: Aver codificato la regola delle 5 domande fondamentali cui rispondere ai lettori quando si parla di un fatto (che gli anglosassoni chiamano "regola delle 5 W") | D61: C | E61: Essere stata l'unico giacimento di smeraldi in tutta l'Europa | G61: C | H61: Liao
