Workbook

Sheet Crescendo n3
A1: CRESCENDO
A2: Gioco a Quiz
A3: Rispondi alle domande negli scacchi indicati. Si genera automaticamente la domanda successiva, in un crescendo di difficoltà
A4: Viene attribuito 1 punto per una risposta esatta, dimezzato se la risposta precedente era errata
A6: 1 | B6: ='Archivio domande'!B3 -> Il "Quarto uomo": | C6: ê | D6: =IF(COUNTBLANK(C10)=0,1,0) -> 0
A10: A | B10: ='Archivio domande'!B4 -> È un gioco a carte in cui le Donne devono catturare il Re o il Fante nascosto
A12: B | B12: ='Archivio domande'!B5 -> È un modo popolare di definire il Giudice di Pace
A14: C | B14: ='Archivio domande'!B6 -> Si trova a bordo campo nelle partite di calcio
A17: 2 | B17: =IF(COUNTBLANK(C10)=0,Formule!K4," ") | C17: =IF(COUNTBLANK(C10)=0,"ê"," ") | D17: =IF(COUNTBLANK(C21)=0,1,0) -> 0
A21: A | B21: =IF(COUNTBLANK(C10)=0,Formule!K5," ")
A23: B | B23: =IF(COUNTBLANK(C10)=0,Formule!K6," ")
A25: C | B25: =IF(COUNTBLANK(C10)=0,Formule!K7," ")
A28: 3 | B28: =IF(COUNTBLANK(C21)=0,Formule!K9," ") | C28: =IF(COUNTBLANK(C21)=0,"ê"," ") | D28: =IF(COUNTBLANK(C32)=0,1,0) -> 0
A32: A | B32: =IF(COUNTBLANK(C21)=0,Formule!K10," ")
A34: B | B34: =IF(COUNTBLANK(C21)=0,Formule!K11," ")
A36: C | B36: =IF(COUNTBLANK(C21)=0,Formule!K12," ")
A39: 4 | B39: =IF(COUNTBLANK(C32)=0,Formule!K14," ") | C39: =IF(COUNTBLANK(C32)=0,"ê"," ") | D39: =IF(COUNTBLANK(C43)=0,1,0) -> 0
A43: A | B43: =IF(COUNTBLANK(C32)=0,Formule!K15," ")
A45: B | B45: =IF(COUNTBLANK(C32)=0,Formule!K16," ")
A47: C | B47: =IF(COUNTBLANK(C32)=0,Formule!K17," ")
A50: 5 | B50: =IF(COUNTBLANK(C43)=0,Formule!K19," ") | C50: =IF(COUNTBLANK(C43)=0,"ê"," ") | D50: =IF(COUNTBLANK(C54)=0,1,0) -> 0
A54: A | B54: =IF(COUNTBLANK(C43)=0,Formule!K20," ")
A56: B | B56: =IF(COUNTBLANK(C43)=0,Formule!K21," ")
A58: C | B58: =IF(COUNTBLANK(C43)=0,Formule!K22," ")
A61: 6 | B61: =IF(COUNTBLANK(C54)=0,Formule!K24," ") | C61: =IF(COUNTBLANK(C54)=0,"ê"," ") | D61: =IF(COUNTBLANK(C65)=0,1,0) -> 0
A65: A | B65: =IF(COUNTBLANK(C54)=0,Formule!K25," ")
A67: B | B67: =IF(COUNTBLANK(C54)=0,Formule!K26," ")
A69: C | B69: =IF(COUNTBLANK(C54)=0,Formule!K27," ")
A72: 7 | B72: =IF(COUNTBLANK(C65)=0,Formule!K29," ") | C72: =IF(COUNTBLANK(C65)=0,"ê"," ") | D72: =IF(COUNTBLANK(C76)=0,1,0) -> 0
A76: A | B76: =IF(COUNTBLANK(C65)=0,Formule!K30," ")
A78: B | B78: =IF(COUNTBLANK(C65)=0,Formule!K31," ")
A80: C | B80: =IF(COUNTBLANK(C65)=0,Formule!K32," ")
A83: 8 | B83: =IF(COUNTBLANK(C76)=0,Formule!K34," ") | C83: =IF(COUNTBLANK(C76)=0,"ê"," ") | D83: =IF(COUNTBLANK(C87)=0,1,0) -> 0
A87: A | B87: =IF(COUNTBLANK(C76)=0,Formule!K35," ")
A89: B | B89: =IF(COUNTBLANK(C76)=0,Formule!K36," ")
A91: C | B91: =IF(COUNTBLANK(C76)=0,Formule!K37," ")
A94: 9 | B94: =IF(COUNTBLANK(C87)=0,Formule!K39," ") | C94: =IF(COUNTBLANK(C87)=0,"ê"," ") | D94: =IF(COUNTBLANK(C98)=0,1,0) -> 0
A98: A | B98: =IF(COUNTBLANK(C87)=0,Formule!K40," ")
A100: B | B100: =IF(COUNTBLANK(C87)=0,Formule!K41," ")
A102: C | B102: =IF(COUNTBLANK(C87)=0,Formule!K42," ")
...

Sheet Formule
B1: Sequenza principale | D1: Risp esatte (N.B. non sono allineate con le domande di fianco) | F1: La risposta esatta deve sempre essere della stessa lettera per ogni numero di domanda, a prescindere che sia della seq princ o no. Es.: se la risposta è B per la dom n 2, deve esserlo anche per le n. 2 della sequenza secondaria. Altrimenti sballa le formule o occorre aggiungerne troppe | G1: Risposte esatte
B2: (si attiva in seguito a risposte esatte alle domande della colonna B nel foglio di gioco) | L2: A-A | N2: A-B | P2: A-C | R2: B-A | T2: B-B | V2: B-C | X2: C-A | Z2: C-B | AB2: C-C
A4: A2 | B4: ='Archivio domande'!B8 -> Se ti trovi a Giardini Naxos sei in provincia di: | D4: C | E4: B2 | F4: ='Archivio domande'!E8 -> Nel gioco degli Scacchi l'arrocco è una mossa che coinvolge: | H4: C2 | I4: ='Archivio domande'!H8 -> Il "flute" è: | K4: =IF(L4=TRUE,B4,M4) -> Se ti trovi a Giardini Naxos sei in provincia di: | L4: =AND(Formule!$D$4="A",'Crescendo n3'!$C$10="A") -> FALSE | M4: =IF(N4=TRUE,F4,O4) -> Se ti trovi a Giardini Naxos sei in provincia di: | N4: =AND(Formule!$D$4="A",'Crescendo n3'!$C$10="B") -> FALSE | O4: =IF(P4=TRUE,I4,Q4) -> Se ti trovi a Giardini Naxos sei in provincia di: | P4: =AND(Formule!$D$4="A",'Crescendo n3'!$C$10="C") -> FALSE | Q4: =IF(R4=TRUE,I4,S4) -> Se ti trovi a Giardini Naxos sei in provincia di: | R4: =AND(Formule!$D$4="B",'Crescendo n3'!$C$10="A") -> FALSE | S4: =IF(T4=TRUE,B4,U4) -> Se ti trovi a Giardini Naxos sei in provincia di: | T4: =AND(Formule!$D$4="B",'Crescendo n3'!$C$10="B") -> FALSE | U4: =IF(V4=TRUE,F4,W4) -> Se ti trovi a Giardini Naxos sei in provincia di: | V4: =AND(Formule!$D$4="B",'Crescendo n3'!$C$10="C") -> FALSE | W4: =IF(X4=TRUE,F4,Y4) -> Se ti trovi a Giardini Naxos sei in provincia di: | X4: =AND(Formule!$D$4="C",'Crescendo n3'!$C$10="A") -> FALSE | Y4: =IF(Z4=TRUE,I4,AA4) -> Se ti trovi a Giardini Naxos sei in provincia di: | Z4: =AND(Formule!$D$4="C",'Crescendo n3'!$C$10="B") -> FALSE | AA4: =IF(AB4=TRUE,B4,AC4) -> Se ti trovi a Giardini Naxos sei in provincia di: | AB4: =AND(Formule!$D$4="C",'Crescendo n3'!$C10="C") -> FALSE | AC4: =B4 -> Se ti trovi a Giardini Naxos sei in provincia di:
B5: ='Archivio domande'!B9 -> La Spezia | E5: A | F5: ='Archivio domande'!E9 -> Regina e Cavallo | G5: C | H5: A | I5: ='Archivio domande'!H9 -> Un bicchiere stretto e slanciato che si usa per bere spumante o champagne | K5: =IF(L5=TRUE,B5,M5) -> La Spezia | L5: =AND(Formule!$D$4="A",'Crescendo n3'!$C$10="A") -> FALSE | M5: =IF(N5=TRUE,F5,O5) -> La Spezia | N5: =AND(Formule!$D$4="A",'Crescendo n3'!$C$10="B") -> FALSE | O5: =IF(P5=TRUE,I5,Q5) -> La Spezia | P5: =AND(Formule!$D$4="A",'Crescendo n3'!$C$10="C") -> FALSE | Q5: =IF(R5=TRUE,I5,S5) -> La Spezia | R5: =AND(Formule!$D$4="B",'Crescendo n3'!$C$10="A") -> FALSE | S5: =IF(T5=TRUE,B5,U5) -> La Spezia | T5: =AND(Formule!$D$4="B",'Crescendo n3'!$C$10="B") -> FALSE | U5: =IF(V5=TRUE,F5,W5) -> La Spezia | V5: =AND(Formule!$D$4="B",'Crescendo n3'!$C$10="C") -> FALSE | W5: =IF(X5=TRUE,F5,Y5) -> La Spezia | X5: =AND(Formule!$D$4="C",'Crescendo n3'!$C$10="A") -> FALSE | Y5: =IF(Z5=TRUE,I5,AA5) -> La Spezia | Z5: =AND(Formule!$D$4="C",'Crescendo n3'!$C$10="B") -> FALSE | AA5: =IF(AB5=TRUE,B5,AC5) -> La Spezia | AB5: =AND(Formule!$D$4="C",'Crescendo n3'!$C12="C") -> FALSE | AC5: =B5 -> La Spezia
B6: ='Archivio domande'!B10 -> Roma | E6: B | F6: ='Archivio domande'!E10 -> Due Pedoni | H6: B | I6: ='Archivio domande'!H10 -> Un tipo d contratto di lavoro intermedio tra quello a chiamata e quello stagionale, prevedendo una durata minima ma anche una flessibilità sul numero di ore giornaliere | K6: =IF(L6=TRUE,B6,M6) -> Roma | L6: =AND(Formule!$D$4="A",'Crescendo n3'!$C$10="A") -> FALSE | M6: =IF(N6=TRUE,F6,O6) -> Roma | N6: =AND(Formule!$D$4="A",'Crescendo n3'!$C$10="B") -> FALSE | O6: =IF(P6=TRUE,I6,Q6) -> Roma | P6: =AND(Formule!$D$4="A",'Crescendo n3'!$C$10="C") -> FALSE | Q6: =IF(R6=TRUE,I6,S6) -> Roma | R6: =AND(Formule!$D$4="B",'Crescendo n3'!$C$10="A") -> FALSE | S6: =IF(T6=TRUE,B6,U6) -> Roma | T6: =AND(Formule!$D$4="B",'Crescendo n3'!$C$10="B") -> FALSE | U6: =IF(V6=TRUE,F6,W6) -> Roma | V6: =AND(Formule!$D$4="B",'Crescendo n3'!$C$10="C") -> FALSE | W6: =IF(X6=TRUE,F6,Y6) -> Roma | X6: =AND(Formule!$D$4="C",'Crescendo n3'!$C$10="A") -> FALSE | Y6: =IF(Z6=TRUE,I6,AA6) -> Roma | Z6: =AND(Formule!$D$4="C",'Crescendo n3'!$C$10="B") -> FALSE | AA6: =IF(AB6=TRUE,B6,AC6) -> Roma | AB6: =AND(Formule!$D$4="C",'Crescendo n3'!$C14="C") -> FALSE | AC6: =B6 -> Roma
B7: ='Archivio domande'!B11 -> Messina | E7: C | F7: ='Archivio domande'!E11 -> Re e Torre | H7: C | I7: ='Archivio domande'!H11 -> Una particolare telaio per bicicletta da corsa, adatto a fare a cronometro o prove di record dell'ora | K7: =IF(L7=TRUE,B7,M7) -> Messina | L7: =AND(Formule!$D$4="A",'Crescendo n3'!$C$10="A") -> FALSE | M7: =IF(N7=TRUE,F7,O7) -> Messina | N7: =AND(Formule!$D$4="A",'Crescendo n3'!$C$10="B") -> FALSE | O7: =IF(P7=TRUE,I7,Q7) -> Messina | P7: =AND(Formule!$D$4="A",'Crescendo n3'!$C$10="C") -> FALSE | Q7: =IF(R7=TRUE,I7,S7) -> Messina | R7: =AND(Formule!$D$4="B",'Crescendo n3'!$C$10="A") -> FALSE | S7: =IF(T7=TRUE,B7,U7) -> Messina | T7: =AND(Formule!$D$4="B",'Crescendo n3'!$C$10="B") -> FALSE | U7: =IF(V7=TRUE,F7,W7) -> Messina | V7: =AND(Formule!$D$4="B",'Crescendo n3'!$C$10="C") -> FALSE | W7: =IF(X7=TRUE,F7,Y7) -> Messina | X7: =AND(Formule!$D$4="C",'Crescendo n3'!$C$10="A") -> FALSE | Y7: =IF(Z7=TRUE,I7,AA7) -> Messina | Z7: =AND(Formule!$D$4="C",'Crescendo n3'!$C$10="B") -> FALSE | AA7: =IF(AB7=TRUE,B7,AC7) -> Messina | AB7: =AND(Formule!$D$4="C",'Crescendo n3'!$C16="C") -> FALSE | AC7: =B7 -> Messina
A9: A3 | B9: ='Archivio domande'!B13 -> Quale tra i seguenti, è un numero primo? | D9: C | E9: B3 | F9: ='Archivio domande'!E13 -> "Effetto Notte" è | H9: C3 | I9: ='Archivio domande'!H13 -> A distribuire l'alta tensione alle candele, nel motore, è: | K9: =IF(L9=TRUE,B9,M9) -> Quale tra i seguenti, è un numero primo? | L9: =AND(Formule!$D$9="A",'Crescendo n3'!$C$21="A") -> FALSE | M9: =IF(N9=TRUE,F9,O9) -> Quale tra i seguenti, è un numero primo? | N9: =AND(Formule!$D$9="A",'Crescendo n3'!$C$21="B") -> FALSE | O9: =IF(P9=TRUE,I9,Q9) -> Quale tra i seguenti, è un numero primo? | P9: =AND(Formule!$D$9="A",'Crescendo n3'!$C$21="C") -> FALSE | Q9: =IF(R9=TRUE,I9,S9) -> Quale tra i seguenti, è un numero primo? | R9: =AND(Formule!$D$9="B",'Crescendo n3'!$C$21="A") -> FALSE | S9: =IF(T9=TRUE,B9,U9) -> Quale tra i seguenti, è un numero primo? | T9: =AND(Formule!$D$9="B",'Crescendo n3'!$C$21="B") -> FALSE | U9: =IF(V9=TRUE,F9,W9) -> Quale tra i seguenti, è un numero primo? | V9: =AND(Formule!$D$9="B",'Crescendo n3'!$C$21="C") -> FALSE | W9: =IF(X9=TRUE,F9,Y9) -> Quale tra i seguenti, è un numero primo? | X9: =AND(Formule!$D$9="C",'Crescendo n3'!$C$21="A") -> FALSE | Y9: =IF(Z9=TRUE,I9,AA9) -> Quale tra i seguenti, è un numero primo? | Z9: =AND(Formule!$D$9="C",'Crescendo n3'!$C$21="B") -> FALSE | AA9: =IF(AB9=TRUE,B9,AC9) -> Quale tra i seguenti, è un numero primo? | AB9: =AND(Formule!$D$9="C",'Crescendo n3'!$C21="C") -> FALSE | AC9: =B9 -> Quale tra i seguenti, è un numero primo?
B10: ='Archivio domande'!B14 -> 57 | F10: ='Archivio domande'!E14 -> Un inconveniente che può capitare alla guida quando si passa improvvisamente dalla luce al buio | I10: ='Archivio domande'!H14 -> La bobina | K10: =IF(L10=TRUE,B10,M10) -> 57 | L10: =AND(Formule!$D$9="A",'Crescendo n3'!$C$21="A") -> FALSE | M10: =IF(N10=TRUE,F10,O10) -> 57 | N10: =AND(Formule!$D$9="A",'Crescendo n3'!$C$21="B") -> FALSE | O10: =IF(P10=TRUE,I10,Q10) -> 57 | P10: =AND(Formule!$D$9="A",'Crescendo n3'!$C$21="C") -> FALSE | Q10: =IF(R10=TRUE,I10,S10) -> 57 | R10: =AND(Formule!$D$9="B",'Crescendo n3'!$C$21="A") -> FALSE | S10: =IF(T10=TRUE,B10,U10) -> 57 | T10: =AND(Formule!$D$9="B",'Crescendo n3'!$C$21="B") -> FALSE | U10: =IF(V10=TRUE,F10,W10) -> 57 | V10: =AND(Formule!$D$9="B",'Crescendo n3'!$C$21="C") -> FALSE | W10: =IF(X10=TRUE,F10,Y10) -> 57 | X10: =AND(Formule!$D$9="C",'Crescendo n3'!$C$21="A") -> FALSE | Y10: =IF(Z10=TRUE,I10,AA10) -> 57 | Z10: =AND(Formule!$D$9="C",'Crescendo n3'!$C$21="B") -> FALSE | AA10: =IF(AB10=TRUE,B10,AC10) -> 57 | AB10: =AND(Formule!$D$9="C",'Crescendo n3'!$C23="C") -> FALSE | AC10: =B10 -> 57
B11: ='Archivio domande'!B15 -> 83 | F11: ='Archivio domande'!E15 -> Una tecnica che si usa al cinema | I11: ='Archivio domande'!H15 -> Lo spinterogeno | K11: =IF(L11=TRUE,B11,M11) -> 83 | L11: =AND(Formule!$D$9="A",'Crescendo n3'!$C$21="A") -> FALSE | M11: =IF(N11=TRUE,F11,O11) -> 83 | N11: =AND(Formule!$D$9="A",'Crescendo n3'!$C$21="B") -> FALSE | O11: =IF(P11=TRUE,I11,Q11) -> 83 | P11: =AND(Formule!$D$9="A",'Crescendo n3'!$C$21="C") -> FALSE | Q11: =IF(R11=TRUE,I11,S11) -> 83 | R11: =AND(Formule!$D$9="B",'Crescendo n3'!$C$21="A") -> FALSE | S11: =IF(T11=TRUE,B11,U11) -> 83 | T11: =AND(Formule!$D$9="B",'Crescendo n3'!$C$21="B") -> FALSE | U11: =IF(V11=TRUE,F11,W11) -> 83 | V11: =AND(Formule!$D$9="B",'Crescendo n3'!$C$21="C") -> FALSE | W11: =IF(X11=TRUE,F11,Y11) -> 83 | X11: =AND(Formule!$D$9="C",'Crescendo n3'!$C$21="A") -> FALSE | Y11: =IF(Z11=TRUE,I11,AA11) -> 83 | Z11: =AND(Formule!$D$9="C",'Crescendo n3'!$C$21="B") -> FALSE | AA11: =IF(AB11=TRUE,B11,AC11) -> 83 | AB11: =AND(Formule!$D$9="C",'Crescendo n3'!$C25="C") -> FALSE | AC11: =B11 -> 83
B12: ='Archivio domande'!B16 -> 91 | F12: ='Archivio domande'!E16 -> Una soluzione adottata nel truccarsi gli occhi per dare un particolare tono tra l'azzurro, il blu e il nero | I12: ='Archivio domande'!H16 -> L'albero a camme | K12: =IF(L12=TRUE,B12,M12) -> 91 | L12: =AND(Formule!$D$9="A",'Crescendo n3'!$C$21="A") -> FALSE | M12: =IF(N12=TRUE,F12,O12) -> 91 | N12: =AND(Formule!$D$9="A",'Crescendo n3'!$C$21="B") -> FALSE | O12: =IF(P12=TRUE,I12,Q12) -> 91 | P12: =AND(Formule!$D$9="A",'Crescendo n3'!$C$21="C") -> FALSE | Q12: =IF(R12=TRUE,I12,S12) -> 91 | R12: =AND(Formule!$D$9="B",'Crescendo n3'!$C$21="A") -> FALSE | S12: =IF(T12=TRUE,B12,U12) -> 91 | T12: =AND(Formule!$D$9="B",'Crescendo n3'!$C$21="B") -> FALSE | U12: =IF(V12=TRUE,F12,W12) -> 91 | V12: =AND(Formule!$D$9="B",'Crescendo n3'!$C$21="C") -> FALSE | W12: =IF(X12=TRUE,F12,Y12) -> 91 | X12: =AND(Formule!$D$9="C",'Crescendo n3'!$C$21="A") -> FALSE | Y12: =IF(Z12=TRUE,I12,AA12) -> 91 | Z12: =AND(Formule!$D$9="C",'Crescendo n3'!$C$21="B") -> FALSE | AA12: =IF(AB12=TRUE,B12,AC12) -> 91 | AB12: =AND(Formule!$D$9="C",'Crescendo n3'!$C27="C") -> FALSE | AC12: =B12 -> 91
A14: A4 | B14: ='Archivio domande'!B18 -> Dante, nel canto V dell' Inferno, incontra chi? | D14: B | E14: B4 | F14: ='Archivio domande'!E18 -> "Draisina" è stato il nome del prototipo di quale sucessiva invenzione? | H14: C4 | I14: ='Archivio domande'!H18 -> Le colonne che recano foglie sui capitelli sono quelle di ordine: | K14: =IF(L14=TRUE,B14,M14) -> Dante, nel canto V dell' Inferno, incontra chi? | L14: =AND(Formule!$D$14="A",'Crescendo n3'!$C$32="A") -> FALSE | M14: =IF(N14=TRUE,F14,O14) -> Dante, nel canto V dell' Inferno, incontra chi? | N14: =AND(Formule!$D$14="A",'Crescendo n3'!$C$32="B") -> FALSE | O14: =IF(P14=TRUE,H14,Q14) -> Dante, nel canto V dell' Inferno, incontra chi? | P14: =AND(Formule!$D$14="A",'Crescendo n3'!$C$32="C") -> FALSE | Q14: =IF(R14=TRUE,I14,S14) -> Dante, nel canto V dell' Inferno, incontra chi? | R14: =AND(Formule!$D$14="B",'Crescendo n3'!$C$32="A") -> FALSE | S14: =IF(T14=TRUE,B14,U14) -> Dante, nel canto V dell' Inferno, incontra chi? | T14: =AND(Formule!$D$14="B",'Crescendo n3'!$C$32="B") -> FALSE | U14: =IF(V14=TRUE,F14,W14) -> Dante, nel canto V dell' Inferno, incontra chi? | V14: =AND(Formule!$D$14="B",'Crescendo n3'!$C$32="C") -> FALSE | W14: =IF(X14=TRUE,F14,Y14) -> Dante, nel canto V dell' Inferno, incontra chi? | X14: =AND(Formule!$D$14="C",'Crescendo n3'!$C$32="A") -> FALSE | Y14: =IF(Z14=TRUE,I14,AA14) -> Dante, nel canto V dell' Inferno, incontra chi? | Z14: =AND(Formule!$D$14="C",'Crescendo n3'!$C$32="B") -> FALSE | AA14: =IF(AB14=TRUE,B14,AC14) -> Dante, nel canto V dell' Inferno, incontra chi? | AB14: =AND(Formule!$D$14="C",'Crescendo n3'!$C26="C") -> FALSE | AC14: =B14 -> Dante, nel canto V dell' Inferno, incontra chi?
B15: ='Archivio domande'!B19 -> Paolo e Francesca | F15: ='Archivio domande'!E19 -> Bicicletta | I15: ='Archivio domande'!H19 -> Corinzio | K15: =IF(L15=TRUE,B15,M15) -> Paolo e Francesca | L15: =AND(Formule!$D$14="A",'Crescendo n3'!$C$32="A") -> FALSE | M15: =IF(N15=TRUE,F15,O15) -> Paolo e Francesca | N15: =AND(Formule!$D$14="A",'Crescendo n3'!$C$32="B") -> FALSE | O15: =IF(P15=TRUE,I15,Q15) -> Paolo e Francesca | P15: =AND(Formule!$D$14="A",'Crescendo n3'!$C$32="C") -> FALSE | Q15: =IF(R15=TRUE,I15,S15) -> Paolo e Francesca | R15: =AND(Formule!$D$14="B",'Crescendo n3'!$C$32="A") -> FALSE | S15: =IF(T15=TRUE,B15,U15) -> Paolo e Francesca | T15: =AND(Formule!$D$14="B",'Crescendo n3'!$C$32="B") -> FALSE | U15: =IF(V15=TRUE,F15,W15) -> Paolo e Francesca | V15: =AND(Formule!$D$14="B",'Crescendo n3'!$C$32="C") -> FALSE | W15: =IF(X15=TRUE,F15,Y15) -> Paolo e Francesca | X15: =AND(Formule!$D$14="C",'Crescendo n3'!$C$32="A") -> FALSE | Y15: =IF(Z15=TRUE,I15,AA15) -> Paolo e Francesca | Z15: =AND(Formule!$D$14="C",'Crescendo n3'!$C$32="B") -> FALSE | AA15: =IF(AB15=TRUE,B15,AC15) -> Paolo e Francesca | AB15: =AND(Formule!$D$14="C",'Crescendo n3'!$C28="C") -> FALSE | AC15: =B15 -> Paolo e Francesca
B16: ='Archivio domande'!B20 -> Il conte Ugolino | F16: ='Archivio domande'!E20 -> Sommergibile | I16: ='Archivio domande'!H20 -> Ionico | K16: =IF(L16=TRUE,B16,M16) -> Il conte Ugolino | L16: =AND(Formule!$D$14="A",'Crescendo n3'!$C$32="A") -> FALSE | M16: =IF(N16=TRUE,F16,O16) -> Il conte Ugolino | N16: =AND(Formule!$D$14="A",'Crescendo n3'!$C$32="B") -> FALSE | O16: =IF(P16=TRUE,I16,Q16) -> Il conte Ugolino | P16: =AND(Formule!$D$14="A",'Crescendo n3'!$C$32="C") -> FALSE | Q16: =IF(R16=TRUE,I16,S16) -> Il conte Ugolino | R16: =AND(Formule!$D$14="B",'Crescendo n3'!$C$32="A") -> FALSE | S16: =IF(T16=TRUE,B16,U16) -> Il conte Ugolino | T16: =AND(Formule!$D$14="B",'Crescendo n3'!$C$32="B") -> FALSE | U16: =IF(V16=TRUE,F16,W16) -> Il conte Ugolino | V16: =AND(Formule!$D$14="B",'Crescendo n3'!$C$32="C") -> FALSE | W16: =IF(X16=TRUE,F16,Y16) -> Il conte Ugolino | X16: =AND(Formule!$D$14="C",'Crescendo n3'!$C$32="A") -> FALSE | Y16: =IF(Z16=TRUE,I16,AA16) -> Il conte Ugolino | Z16: =AND(Formule!$D$14="C",'Crescendo n3'!$C$32="B") -> FALSE | AA16: =IF(AB16=TRUE,B16,AC16) -> Il conte Ugolino | AB16: =AND(Formule!$D$14="C",'Crescendo n3'!$C30="C") -> FALSE | AC16: =B16 -> Il conte Ugolino
B17: ='Archivio domande'!B21 -> Virgilio | F17: ='Archivio domande'!E21 -> Macchina da scrivere | I17: ='Archivio domande'!H21 -> Dorico | K17: =IF(L17=TRUE,B17,M17) -> Virgilio | L17: =AND(Formule!$D$14="A",'Crescendo n3'!$C$32="A") -> FALSE | M17: =IF(N17=TRUE,F17,O17) -> Virgilio | N17: =AND(Formule!$D$14="A",'Crescendo n3'!$C$32="B") -> FALSE | O17: =IF(P17=TRUE,I17,Q17) -> Virgilio | P17: =AND(Formule!$D$14="A",'Crescendo n3'!$C$32="C") -> FALSE | Q17: =IF(R17=TRUE,I17,S17) -> Virgilio | R17: =AND(Formule!$D$14="B",'Crescendo n3'!$C$32="A") -> FALSE | S17: =IF(T17=TRUE,B17,U17) -> Virgilio | T17: =AND(Formule!$D$14="B",'Crescendo n3'!$C$32="B") -> FALSE | U17: =IF(V17=TRUE,F17,W17) -> Virgilio | V17: =AND(Formule!$D$14="B",'Crescendo n3'!$C$32="C") -> FALSE | W17: =IF(X17=TRUE,F17,Y17) -> Virgilio | X17: =AND(Formule!$D$14="C",'Crescendo n3'!$C$32="A") -> FALSE | Y17: =IF(Z17=TRUE,I17,AA17) -> Virgilio | Z17: =AND(Formule!$D$14="C",'Crescendo n3'!$C$32="B") -> FALSE | AA17: =IF(AB17=TRUE,B17,AC17) -> Virgilio | AB17: =AND(Formule!$D$14="C",'Crescendo n3'!$C32="C") -> FALSE | AC17: =B17 -> Virgilio
A19: A5 | B19: ='Archivio domande'!B23 -> Oltre ad Anthony Hopkins, chi vinse l'Oscar come migliore interprete pe ril film "Il Silenzio degli Innocenti"? | D19: A | E19: B5 | F19: ='Archivio domande'!E23 -> Le prime Olimpiadi moderne si tennero ad Atene in che anno? | H19: C5 | I19: ='Archivio domande'!H23 -> Il Pubblico Ministero: | K19: =IF(L19=TRUE,B19,M19) -> Oltre ad Anthony Hopkins, chi vinse l'Oscar come migliore interprete pe ril film "Il Silenzio degli Innocenti"? | L19: =AND(Formule!$D$19="A",'Crescendo n3'!$C$43="A") -> FALSE | M19: =IF(N19=TRUE,F19,O19) -> Oltre ad Anthony Hopkins, chi vinse l'Oscar come migliore interprete pe ril film "Il Silenzio degli Innocenti"? | N19: =AND(Formule!$D$19="A",'Crescendo n3'!$C$43="B") -> FALSE | O19: =IF(P19=TRUE,I19,Q19) -> Oltre ad Anthony Hopkins, chi vinse l'Oscar come migliore interprete pe ril film "Il Silenzio degli Innocenti"? | P19: =AND(Formule!$D$19="A",'Crescendo n3'!$C$43="C") -> FALSE | Q19: =IF(R19=TRUE,I19,S19) -> Oltre ad Anthony Hopkins, chi vinse l'Oscar come migliore interprete pe ril film "Il Silenzio degli Innocenti"? | R19: =AND(Formule!$D$19="B",'Crescendo n3'!$C$43="A") -> FALSE | S19: =IF(T19=TRUE,B19,U19) -> Oltre ad Anthony Hopkins, chi vinse l'Oscar come migliore interprete pe ril film "Il Silenzio degli Innocenti"? | T19: =AND(Formule!$D$19="B",'Crescendo n3'!$C$43="B") -> FALSE | U19: =IF(V19=TRUE,F19,W19) -> Oltre ad Anthony Hopkins, chi vinse l'Oscar come migliore interprete pe ril film "Il Silenzio degli Innocenti"? | V19: =AND(Formule!$D$19="B",'Crescendo n3'!$C$43="C") -> FALSE | W19: =IF(X19=TRUE,F19,Y19) -> Oltre ad Anthony Hopkins, chi vinse l'Oscar come migliore interprete pe ril film "Il Silenzio degli Innocenti"? | X19: =AND(Formule!$D$19="C",'Crescendo n3'!$C$43="A") -> FALSE | Y19: =IF(Z19=TRUE,I19,AA19) -> Oltre ad Anthony Hopkins, chi vinse l'Oscar come migliore interprete pe ril film "Il Silenzio degli Innocenti"? | Z19: =AND(Formule!$D$19="C",'Crescendo n3'!$C$43="B") -> FALSE | AA19: =IF(AB19=TRUE,B19,AC19) -> Oltre ad Anthony Hopkins, chi vinse l'Oscar come migliore interprete pe ril film "Il Silenzio degli Innocenti"? | AB19: =AND(Formule!$D$19="C",'Crescendo n3'!$C43="C") -> FALSE | AC19: =B19 -> Oltre ad Anthony Hopkins, chi vinse l'Oscar come migliore interprete pe ril film "Il Silenzio degli Innocenti"?
B20: ='Archivio domande'!B24 -> Bette Midler | F20: ='Archivio domande'!E24 -> 1884 | I20: ='Archivio domande'!H24 -> Prende parte alle sole cause civili | K20: =IF(L20=TRUE,B20,M20) -> Bette Midler | L20: =AND(Formule!$D$19="A",'Crescendo n3'!$C$43="A") -> FALSE | M20: =IF(N20=TRUE,F20,O20) -> Bette Midler | N20: =AND(Formule!$D$19="A",'Crescendo n3'!$C$43="B") -> FALSE | O20: =IF(P20=TRUE,I20,Q20) -> Bette Midler | P20: =AND(Formule!$D$19="A",'Crescendo n3'!$C$43="C") -> FALSE | Q20: =IF(R20=TRUE,I20,S20) -> Bette Midler | R20: =AND(Formule!$D$19="B",'Crescendo n3'!$C$43="A") -> FALSE | S20: =IF(T20=TRUE,B20,U20) -> Bette Midler | T20: =AND(Formule!$D$19="B",'Crescendo n3'!$C$43="B") -> FALSE | U20: =IF(V20=TRUE,F20,W20) -> Bette Midler | V20: =AND(Formule!$D$19="B",'Crescendo n3'!$C$43="C") -> FALSE | W20: =IF(X20=TRUE,F20,Y20) -> Bette Midler | X20: =AND(Formule!$D$19="C",'Crescendo n3'!$C$43="A") -> FALSE | Y20: =IF(Z20=TRUE,I20,AA20) -> Bette Midler | Z20: =AND(Formule!$D$19="C",'Crescendo n3'!$C$43="B") -> FALSE | AA20: =IF(AB20=TRUE,B20,AC20) -> Bette Midler | AB20: =AND(Formule!$D$19="C",'Crescendo n3'!$C45="C") -> FALSE | AC20: =B20 -> Bette Midler
B21: ='Archivio domande'!B25 -> Jodie Foster | F21: ='Archivio domande'!E25 -> 1896 | I21: ='Archivio domande'!H25 -> Prende parte a cause penali, ma ha facoltà di aver parte in cause civili in cui ravvisi un interesse pubblico, mentre entra d'obbligo in alcune cause civili come quelle che decidono sulla capacità di agire | K21: =IF(L21=TRUE,B21,M21) -> Jodie Foster | L21: =AND(Formule!$D$19="A",'Crescendo n3'!$C$43="A") -> FALSE | M21: =IF(N21=TRUE,F21,O21) -> Jodie Foster | N21: =AND(Formule!$D$19="A",'Crescendo n3'!$C$43="B") -> FALSE | O21: =IF(P21=TRUE,I21,Q21) -> Jodie Foster | P21: =AND(Formule!$D$19="A",'Crescendo n3'!$C$43="C") -> FALSE | Q21: =IF(R21=TRUE,I21,S21) -> Jodie Foster | R21: =AND(Formule!$D$19="B",'Crescendo n3'!$C$43="A") -> FALSE | S21: =IF(T21=TRUE,B21,U21) -> Jodie Foster | T21: =AND(Formule!$D$19="B",'Crescendo n3'!$C$43="B") -> FALSE | U21: =IF(V21=TRUE,F21,W21) -> Jodie Foster | V21: =AND(Formule!$D$19="B",'Crescendo n3'!$C$43="C") -> FALSE | W21: =IF(X21=TRUE,F21,Y21) -> Jodie Foster | X21: =AND(Formule!$D$19="C",'Crescendo n3'!$C$43="A") -> FALSE | Y21: =IF(Z21=TRUE,I21,AA21) -> Jodie Foster | Z21: =AND(Formule!$D$19="C",'Crescendo n3'!$C$43="B") -> FALSE | AA21: =IF(AB21=TRUE,B21,AC21) -> Jodie Foster | AB21: =AND(Formule!$D$19="C",'Crescendo n3'!$C47="C") -> FALSE | AC21: =B21 -> Jodie Foster
B22: ='Archivio domande'!B26 -> Meryl Streep | F22: ='Archivio domande'!E26 -> 1904 | I22: ='Archivio domande'!H26 -> Prende parte alle sole cause penali | K22: =IF(L22=TRUE,B22,M22) -> Meryl Streep | L22: =AND(Formule!$D$19="A",'Crescendo n3'!$C$43="A") -> FALSE | M22: =IF(N22=TRUE,F22,O22) -> Meryl Streep | N22: =AND(Formule!$D$19="A",'Crescendo n3'!$C$43="B") -> FALSE | O22: =IF(P22=TRUE,I22,Q22) -> Meryl Streep | P22: =AND(Formule!$D$19="A",'Crescendo n3'!$C$43="C") -> FALSE | Q22: =IF(R22=TRUE,I22,S22) -> Meryl Streep | R22: =AND(Formule!$D$19="B",'Crescendo n3'!$C$43="A") -> FALSE | S22: =IF(T22=TRUE,B22,U22) -> Meryl Streep | T22: =AND(Formule!$D$19="B",'Crescendo n3'!$C$43="B") -> FALSE | U22: =IF(V22=TRUE,F22,W22) -> Meryl Streep | V22: =AND(Formule!$D$19="B",'Crescendo n3'!$C$43="C") -> FALSE | W22: =IF(X22=TRUE,F22,Y22) -> Meryl Streep | X22: =AND(Formule!$D$19="C",'Crescendo n3'!$C$43="A") -> FALSE | Y22: =IF(Z22=TRUE,I22,AA22) -> Meryl Streep | Z22: =AND(Formule!$D$19="C",'Crescendo n3'!$C$43="B") -> FALSE | AA22: =IF(AB22=TRUE,B22,AC22) -> Meryl Streep | AB22: =AND(Formule!$D$19="C",'Crescendo n3'!$C49="C") -> FALSE | AC22: =B22 -> Meryl Streep
A24: A6 | B24: ='Archivio domande'!B28 -> Il frutto del kiwi viene classificato come: | D24: B | E24: B6 | F24: ='Archivio domande'!E28 -> Il Ghibli è un vento tipico: | H24: C6 | I24: ='Archivio domande'!H28 -> Il Joule è una unità di misura: | K24: =IF(L24=TRUE,B24,M24) -> Il frutto del kiwi viene classificato come: | L24: =AND(Formule!$D$24="A",'Crescendo n3'!$C$54="A") -> FALSE | M24: =IF(N24=TRUE,F24,O24) -> Il frutto del kiwi viene classificato come: | N24: =AND(Formule!$D$24="A",'Crescendo n3'!$C$54="B") -> FALSE | O24: =IF(P24=TRUE,I24,Q24) -> Il frutto del kiwi viene classificato come: | P24: =AND(Formule!$D$24="A",'Crescendo n3'!$C$54="C") -> FALSE | Q24: =IF(R24=TRUE,I24,S24) -> Il frutto del kiwi viene classificato come: | R24: =AND(Formule!$D$24="B",'Crescendo n3'!$C$54="A") -> FALSE | S24: =IF(T24=TRUE,B24,U24) -> Il frutto del kiwi viene classificato come: | T24: =AND(Formule!$D$24="B",'Crescendo n3'!$C$54="B") -> FALSE | U24: =IF(V24=TRUE,F24,W24) -> Il frutto del kiwi viene classificato come: | V24: =AND(Formule!$D$24="B",'Crescendo n3'!$C$54="C") -> FALSE | W24: =IF(X24=TRUE,F24,Y24) -> Il frutto del kiwi viene classificato come: | X24: =AND(Formule!$D$24="C",'Crescendo n3'!$C$54="A") -> FALSE | Y24: =IF(Z24=TRUE,I24,AA24) -> Il frutto del kiwi viene classificato come: | Z24: =AND(Formule!$D$24="C",'Crescendo n3'!$C$54="B") -> FALSE | AA24: =IF(AB24=TRUE,B24,AC24) -> Il frutto del kiwi viene classificato come: | AB24: =AND(Formule!$D$24="C",'Crescendo n3'!$C54="C") -> FALSE | AC24: =B24 -> Il frutto del kiwi viene classificato come:
B25: ='Archivio domande'!B29 -> Bacca | F25: ='Archivio domande'!E29 -> Del deserto del Sahara | I25: ='Archivio domande'!H29 -> Dell'energia | K25: =IF(L25=TRUE,B25,M25) -> Bacca | L25: =AND(Formule!$D$24="A",'Crescendo n3'!$C$54="A") -> FALSE | M25: =IF(N25=TRUE,F25,O25) -> Bacca | N25: =AND(Formule!$D$24="A",'Crescendo n3'!$C$54="B") -> FALSE | O25: =IF(P25=TRUE,I25,Q25) -> Bacca | P25: =AND(Formule!$D$24="A",'Crescendo n3'!$C$54="C") -> FALSE | Q25: =IF(R25=TRUE,I25,S25) -> Bacca | R25: =AND(Formule!$D$24="B",'Crescendo n3'!$C$54="A") -> FALSE | S25: =IF(T25=TRUE,B25,U25) -> Bacca | T25: =AND(Formule!$D$24="B",'Crescendo n3'!$C$54="B") -> FALSE | U25: =IF(V25=TRUE,F25,W25) -> Bacca | V25: =AND(Formule!$D$24="B",'Crescendo n3'!$C$54="C") -> FALSE | W25: =IF(X25=TRUE,F25,Y25) -> Bacca | X25: =AND(Formule!$D$24="C",'Crescendo n3'!$C$54="A") -> FALSE | Y25: =IF(Z25=TRUE,I25,AA25) -> Bacca | Z25: =AND(Formule!$D$24="C",'Crescendo n3'!$C$54="B") -> FALSE | AA25: =IF(AB25=TRUE,B25,AC25) -> Bacca | AB25: =AND(Formule!$D$24="C",'Crescendo n3'!$C56="C") -> FALSE | AC25: =B25 -> Bacca
B26: ='Archivio domande'!B30 -> Drupa | F26: ='Archivio domande'!E30 -> Delle montagne himalayane | I26: ='Archivio domande'!H30 -> Della velocità del suono | K26: =IF(L26=TRUE,B26,M26) -> Drupa | L26: =AND(Formule!$D$24="A",'Crescendo n3'!$C$54="A") -> FALSE | M26: =IF(N26=TRUE,F26,O26) -> Drupa | N26: =AND(Formule!$D$24="A",'Crescendo n3'!$C$54="B") -> FALSE | O26: =IF(P26=TRUE,I26,Q26) -> Drupa | P26: =AND(Formule!$D$24="A",'Crescendo n3'!$C$54="C") -> FALSE | Q26: =IF(R26=TRUE,I26,S26) -> Drupa | R26: =AND(Formule!$D$24="B",'Crescendo n3'!$C$54="A") -> FALSE | S26: =IF(T26=TRUE,B26,U26) -> Drupa | T26: =AND(Formule!$D$24="B",'Crescendo n3'!$C$54="B") -> FALSE | U26: =IF(V26=TRUE,F26,W26) -> Drupa | V26: =AND(Formule!$D$24="B",'Crescendo n3'!$C$54="C") -> FALSE | W26: =IF(X26=TRUE,F26,Y26) -> Drupa | X26: =AND(Formule!$D$24="C",'Crescendo n3'!$C$54="A") -> FALSE | Y26: =IF(Z26=TRUE,I26,AA26) -> Drupa | Z26: =AND(Formule!$D$24="C",'Crescendo n3'!$C$54="B") -> FALSE | AA26: =IF(AB26=TRUE,B26,AC26) -> Drupa | AB26: =AND(Formule!$D$24="C",'Crescendo n3'!$C58="C") -> FALSE | AC26: =B26 -> Drupa
B27: ='Archivio domande'!B31 -> Pomo | F27: ='Archivio domande'!E31 -> Del mar Egeo | I27: ='Archivio domande'!H31 -> Dell'acidità delle sostanze | K27: =IF(L27=TRUE,B27,M27) -> Pomo | L27: =AND(Formule!$D$24="A",'Crescendo n3'!$C$54="A") -> FALSE | M27: =IF(N27=TRUE,F27,O27) -> Pomo | N27: =AND(Formule!$D$24="A",'Crescendo n3'!$C$54="B") -> FALSE | O27: =IF(P27=TRUE,I27,Q27) -> Pomo | P27: =AND(Formule!$D$24="A",'Crescendo n3'!$C$54="C") -> FALSE | Q27: =IF(R27=TRUE,I27,S27) -> Pomo | R27: =AND(Formule!$D$24="B",'Crescendo n3'!$C$54="A") -> FALSE | S27: =IF(T27=TRUE,B27,U27) -> Pomo | T27: =AND(Formule!$D$24="B",'Crescendo n3'!$C$54="B") -> FALSE | U27: =IF(V27=TRUE,F27,W27) -> Pomo | V27: =AND(Formule!$D$24="B",'Crescendo n3'!$C$54="C") -> FALSE | W27: =IF(X27=TRUE,F27,Y27) -> Pomo | X27: =AND(Formule!$D$24="C",'Crescendo n3'!$C$54="A") -> FALSE | Y27: =IF(Z27=TRUE,I27,AA27) -> Pomo | Z27: =AND(Formule!$D$24="C",'Crescendo n3'!$C$54="B") -> FALSE | AA27: =IF(AB27=TRUE,B27,AC27) -> Pomo | AB27: =AND(Formule!$D$24="C",'Crescendo n3'!$C60="C") -> FALSE | AC27: =B27 -> Pomo
A29: A7 | B29: ='Archivio domande'!B33 -> Il cantautore Rino Gaetano scomparse prematuramente nel 1981 a causa di: | D29: A | E29: B7 | F29: ='Archivio domande'!E33 -> La RAI ha iniziato a trasmettere ufficialmente a colori a partire da che anno? | H29: C7 | I29: ='Archivio domande'!H33 -> Il feltro è una stoffa che si ottiene trattando: | K29: =IF(L29=TRUE,B29,M29) -> Il cantautore Rino Gaetano scomparse prematuramente nel 1981 a causa di: | L29: =AND(Formule!$D$29="A",'Crescendo n3'!$C$65="A") -> FALSE | M29: =IF(N29=TRUE,F29,O29) -> Il cantautore Rino Gaetano scomparse prematuramente nel 1981 a causa di: | N29: =AND(Formule!$D$29="A",'Crescendo n3'!$C$65="B") -> FALSE | O29: =IF(P29=TRUE,I29,Q29) -> Il cantautore Rino Gaetano scomparse prematuramente nel 1981 a causa di: | P29: =AND(Formule!$D$29="A",'Crescendo n3'!$C$65="C") -> FALSE | Q29: =IF(R29=TRUE,I29,S29) -> Il cantautore Rino Gaetano scomparse prematuramente nel 1981 a causa di: | R29: =AND(Formule!$D$29="B",'Crescendo n3'!$C$65="A") -> FALSE | S29: =IF(T29=TRUE,B29,U29) -> Il cantautore Rino Gaetano scomparse prematuramente nel 1981 a causa di: | T29: =AND(Formule!$D$29="B",'Crescendo n3'!$C$65="B") -> FALSE | U29: =IF(V29=TRUE,F29,W29) -> Il cantautore Rino Gaetano scomparse prematuramente nel 1981 a causa di: | V29: =AND(Formule!$D$29="B",'Crescendo n3'!$C$65="C") -> FALSE | W29: =IF(X29=TRUE,F29,Y29) -> Il cantautore Rino Gaetano scomparse prematuramente nel 1981 a causa di: | X29: =AND(Formule!$D$29="C",'Crescendo n3'!$C$65="A") -> FALSE | Y29: =IF(Z29=TRUE,I29,AA29) -> Il cantautore Rino Gaetano scomparse prematuramente nel 1981 a causa di: | Z29: =AND(Formule!$D$29="C",'Crescendo n3'!$C$65="B") -> FALSE | AA29: =IF(AB29=TRUE,B29,AC29) -> Il cantautore Rino Gaetano scomparse prematuramente nel 1981 a causa di: | AB29: =AND(Formule!$D$29="C",'Crescendo n3'!$C65="C") -> FALSE | AC29: =B29 -> Il cantautore Rino Gaetano scomparse prematuramente nel 1981 a causa di:
B30: ='Archivio domande'!B34 -> Una malattia neoplastica | F30: ='Archivio domande'!E34 -> 1964 | I30: ='Archivio domande'!H34 -> Il cotone | K30: =IF(L30=TRUE,B30,M30) -> Una malattia neoplastica | L30: =AND(Formule!$D$29="A",'Crescendo n3'!$C$65="A") -> FALSE | M30: =IF(N30=TRUE,F30,O30) -> Una malattia neoplastica | N30: =AND(Formule!$D$29="A",'Crescendo n3'!$C$65="B") -> FALSE | O30: =IF(P30=TRUE,I30,Q30) -> Una malattia neoplastica | P30: =AND(Formule!$D$29="A",'Crescendo n3'!$C$65="C") -> FALSE | Q30: =IF(R30=TRUE,I30,S30) -> Una malattia neoplastica | R30: =AND(Formule!$D$29="B",'Crescendo n3'!$C$65="A") -> FALSE | S30: =IF(T30=TRUE,B30,U30) -> Una malattia neoplastica | T30: =AND(Formule!$D$29="B",'Crescendo n3'!$C$65="B") -> FALSE | U30: =IF(V30=TRUE,F30,W30) -> Una malattia neoplastica | V30: =AND(Formule!$D$29="B",'Crescendo n3'!$C$65="C") -> FALSE | W30: =IF(X30=TRUE,F30,Y30) -> Una malattia neoplastica | X30: =AND(Formule!$D$29="C",'Crescendo n3'!$C$65="A") -> FALSE | Y30: =IF(Z30=TRUE,I30,AA30) -> Una malattia neoplastica | Z30: =AND(Formule!$D$29="C",'Crescendo n3'!$C$65="B") -> FALSE | AA30: =IF(AB30=TRUE,B30,AC30) -> Una malattia neoplastica | AB30: =AND(Formule!$D$29="C",'Crescendo n3'!$C67="C") -> FALSE | AC30: =B30 -> Una malattia neoplastica
B31: ='Archivio domande'!B35 -> Uno shock anafilattico | F31: ='Archivio domande'!E35 -> 1971 | I31: ='Archivio domande'!H35 -> Fibre vegetali tratte da graminacee | K31: =IF(L31=TRUE,B31,M31) -> Uno shock anafilattico | L31: =AND(Formule!$D$29="A",'Crescendo n3'!$C$65="A") -> FALSE | M31: =IF(N31=TRUE,F31,O31) -> Uno shock anafilattico | N31: =AND(Formule!$D$29="A",'Crescendo n3'!$C$65="B") -> FALSE | O31: =IF(P31=TRUE,I31,Q31) -> Uno shock anafilattico | P31: =AND(Formule!$D$29="A",'Crescendo n3'!$C$65="C") -> FALSE | Q31: =IF(R31=TRUE,I31,S31) -> Uno shock anafilattico | R31: =AND(Formule!$D$29="B",'Crescendo n3'!$C$65="A") -> FALSE | S31: =IF(T31=TRUE,B31,U31) -> Uno shock anafilattico | T31: =AND(Formule!$D$29="B",'Crescendo n3'!$C$65="B") -> FALSE | U31: =IF(V31=TRUE,F31,W31) -> Uno shock anafilattico | V31: =AND(Formule!$D$29="B",'Crescendo n3'!$C$65="C") -> FALSE | W31: =IF(X31=TRUE,F31,Y31) -> Uno shock anafilattico | X31: =AND(Formule!$D$29="C",'Crescendo n3'!$C$65="A") -> FALSE | Y31: =IF(Z31=TRUE,I31,AA31) -> Uno shock anafilattico | Z31: =AND(Formule!$D$29="C",'Crescendo n3'!$C$65="B") -> FALSE | AA31: =IF(AB31=TRUE,B31,AC31) -> Uno shock anafilattico | AB31: =AND(Formule!$D$29="C",'Crescendo n3'!$C69="C") -> FALSE | AC31: =B31 -> Uno shock anafilattico
B32: ='Archivio domande'!B36 -> Un incidente stradale | F32: ='Archivio domande'!E36 -> 1977 | I32: ='Archivio domande'!H36 -> Pelo di animale | K32: =IF(L32=TRUE,B32,M32) -> Un incidente stradale | L32: =AND(Formule!$D$29="A",'Crescendo n3'!$C$65="A") -> FALSE | M32: =IF(N32=TRUE,F32,O32) -> Un incidente stradale | N32: =AND(Formule!$D$29="A",'Crescendo n3'!$C$65="B") -> FALSE | O32: =IF(P32=TRUE,I32,Q32) -> Un incidente stradale | P32: =AND(Formule!$D$29="A",'Crescendo n3'!$C$65="C") -> FALSE | Q32: =IF(R32=TRUE,I32,S32) -> Un incidente stradale | R32: =AND(Formule!$D$29="B",'Crescendo n3'!$C$65="A") -> FALSE | S32: =IF(T32=TRUE,B32,U32) -> Un incidente stradale | T32: =AND(Formule!$D$29="B",'Crescendo n3'!$C$65="B") -> FALSE | U32: =IF(V32=TRUE,F32,W32) -> Un incidente stradale | V32: =AND(Formule!$D$29="B",'Crescendo n3'!$C$65="C") -> FALSE | W32: =IF(X32=TRUE,F32,Y32) -> Un incidente stradale | X32: =AND(Formule!$D$29="C",'Crescendo n3'!$C$65="A") -> FALSE | Y32: =IF(Z32=TRUE,I32,AA32) -> Un incidente stradale | Z32: =AND(Formule!$D$29="C",'Crescendo n3'!$C$65="B") -> FALSE | AA32: =IF(AB32=TRUE,B32,AC32) -> Un incidente stradale | AB32: =AND(Formule!$D$29="C",'Crescendo n3'!$C71="C") -> FALSE | AC32: =B32 -> Un incidente stradale
A34: A8 | B34: ='Archivio domande'!B38 -> Perché, secondo la leggenda, il vino "Est Est Est" di Montefiascone ha questo nome? | D34: C | E34: B8 | F34: ='Archivio domande'!E38 -> "Rood Blauwe" è il nome della realizzazione senz'altro più celebre dell'architetto e designer olandese Gerrit Rietveld. Si tratta di: | H34: C8 | I34: ='Archivio domande'!H38 -> Di quali due Paesi è originaria l'etnia Tamil? | K34: =IF(L34=TRUE,B34,M34) -> Perché, secondo la leggenda, il vino "Est Est Est" di Montefiascone ha questo nome? | L34: =AND(Formule!$D$34="A",'Crescendo n3'!$C$76="A") -> FALSE | M34: =IF(N34=TRUE,F34,O34) -> Perché, secondo la leggenda, il vino "Est Est Est" di Montefiascone ha questo nome? | N34: =AND(Formule!$D$34="A",'Crescendo n3'!$C$76="B") -> FALSE | O34: =IF(P34=TRUE,I34,Q34) -> Perché, secondo la leggenda, il vino "Est Est Est" di Montefiascone ha questo nome? | P34: =AND(Formule!$D$34="A",'Crescendo n3'!$C$76="C") -> FALSE | Q34: =IF(R34=TRUE,I34,S34) -> Perché, secondo la leggenda, il vino "Est Est Est" di Montefiascone ha questo nome? | R34: =AND(Formule!$D$34="B",'Crescendo n3'!$C$76="A") -> FALSE | S34: =IF(T34=TRUE,B34,U34) -> Perché, secondo la leggenda, il vino "Est Est Est" di Montefiascone ha questo nome? | T34: =AND(Formule!$D$34="B",'Crescendo n3'!$C$76="B") -> FALSE | U34: =IF(V34=TRUE,F34,W34) -> Perché, secondo la leggenda, il vino "Est Est Est" di Montefiascone ha questo nome? | V34: =AND(Formule!$D$34="B",'Crescendo n3'!$C$76="C") -> FALSE | W34: =IF(X34=TRUE,F34,Y34) -> Perché, secondo la leggenda, il vino "Est Est Est" di Montefiascone ha questo nome? | X34: =AND(Formule!$D$34="C",'Crescendo n3'!$C$76="A") -> FALSE | Y34: =IF(Z34=TRUE,I34,AA34) -> Perché, secondo la leggenda, il vino "Est Est Est" di Montefiascone ha questo nome? | Z34: =AND(Formule!$D$34="C",'Crescendo n3'!$C$76="B") -> FALSE | AA34: =IF(AB34=TRUE,B34,AC34) -> Perché, secondo la leggenda, il vino "Est Est Est" di Montefiascone ha questo nome? | AB34: =AND(Formule!$D$34="C",'Crescendo n3'!$C76="C") -> FALSE | AC34: =B34 -> Perché, secondo la leggenda, il vino "Est Est Est" di Montefiascone ha questo nome?
B35: ='Archivio domande'!B39 -> Il viticoltore che lo produsse per primo utilizzò l'uva di tre vigneti tutti rivolti ad oriente. Pienamente soddisfatto del risultato finale sottolineò nel nome quella scelta | F35: ='Archivio domande'!E39 -> Un grattacielo | I35: ='Archivio domande'!H39 -> Vietnam e Cambogia | K35: =IF(L35=TRUE,B35,M35) -> Il viticoltore che lo produsse per primo utilizzò l'uva di tre vigneti tutti rivolti ad oriente. Pienamente soddisfatto del risultato finale sottolineò nel nome quella scelta | L35: =AND(Formule!$D$34="A",'Crescendo n3'!$C$76="A") -> FALSE | M35: =IF(N35=TRUE,F35,O35) -> Il viticoltore che lo produsse per primo utilizzò l'uva di tre vigneti tutti rivolti ad oriente. Pienamente soddisfatto del risultato finale sottolineò nel nome quella scelta | N35: =AND(Formule!$D$34="A",'Crescendo n3'!$C$76="B") -> FALSE | O35: =IF(P35=TRUE,I35,Q35) -> Il viticoltore che lo produsse per primo utilizzò l'uva di tre vigneti tutti rivolti ad oriente. Pienamente soddisfatto del risultato finale sottolineò nel nome quella scelta | P35: =AND(Formule!$D$34="A",'Crescendo n3'!$C$76="C") -> FALSE | Q35: =IF(R35=TRUE,I35,S35) -> Il viticoltore che lo produsse per primo utilizzò l'uva di tre vigneti tutti rivolti ad oriente. Pienamente soddisfatto del risultato finale sottolineò nel nome quella scelta | R35: =AND(Formule!$D$34="B",'Crescendo n3'!$C$76="A") -> FALSE | S35: =IF(T35=TRUE,B35,U35) -> Il viticoltore che lo produsse per primo utilizzò l'uva di tre vigneti tutti rivolti ad oriente. Pienamente soddisfatto del risultato finale sottolineò nel nome quella scelta | T35: =AND(Formule!$D$34="B",'Crescendo n3'!$C$76="B") -> FALSE | U35: =IF(V35=TRUE,F35,W35) -> Il viticoltore che lo produsse per primo utilizzò l'uva di tre vigneti tutti rivolti ad oriente. Pienamente soddisfatto del risultato finale sottolineò nel nome quella scelta | V35: =AND(Formule!$D$34="B",'Crescendo n3'!$C$76="C") -> FALSE | W35: =IF(X35=TRUE,F35,Y35) -> Il viticoltore che lo produsse per primo utilizzò l'uva di tre vigneti tutti rivolti ad oriente. Pienamente soddisfatto del risultato finale sottolineò nel nome quella scelta | X35: =AND(Formule!$D$34="C",'Crescendo n3'!$C$76="A") -> FALSE | Y35: =IF(Z35=TRUE,I35,AA35) -> Il viticoltore che lo produsse per primo utilizzò l'uva di tre vigneti tutti rivolti ad oriente. Pienamente soddisfatto del risultato finale sottolineò nel nome quella scelta | Z35: =AND(Formule!$D$34="C",'Crescendo n3'!$C$76="B") -> FALSE | AA35: =IF(AB35=TRUE,B35,AC35) -> Il viticoltore che lo produsse per primo utilizzò l'uva di tre vigneti tutti rivolti ad oriente. Pienamente soddisfatto del risultato finale sottolineò nel nome quella scelta | AB35: =AND(Formule!$D$34="C",'Crescendo n3'!$C78="C") -> FALSE | AC35: =B35 -> Il viticoltore che lo produsse per primo utilizzò l'uva di tre vigneti tutti rivolti ad oriente. Pienamente soddisfatto del risultato finale sottolineò nel nome quella scelta
B36: ='Archivio domande'!B40 -> Un vescovo amante di vini, aveva incaricato un servo di scovare il vino migliore in zona, indicandone la locanda con la parola "Est". Quando assaggiò questo vino ne confermò la bontà ripetendo la parola per tre volte | F36: ='Archivio domande'!E40 -> Una sedia | I36: ='Archivio domande'!H40 -> India e Sri Lanka | K36: =IF(L36=TRUE,B36,M36) -> Un vescovo amante di vini, aveva incaricato un servo di scovare il vino migliore in zona, indicandone la locanda con la parola "Est". Quando assaggiò questo vino ne confermò la bontà ripetendo la parola per tre volte | L36: =AND(Formule!$D$34="A",'Crescendo n3'!$C$76="A") -> FALSE | M36: =IF(N36=TRUE,F36,O36) -> Un vescovo amante di vini, aveva incaricato un servo di scovare il vino migliore in zona, indicandone la locanda con la parola "Est". Quando assaggiò questo vino ne confermò la bontà ripetendo la parola per tre volte | N36: =AND(Formule!$D$34="A",'Crescendo n3'!$C$76="B") -> FALSE | O36: =IF(P36=TRUE,I36,Q36) -> Un vescovo amante di vini, aveva incaricato un servo di scovare il vino migliore in zona, indicandone la locanda con la parola "Est". Quando assaggiò questo vino ne confermò la bontà ripetendo la parola per tre volte | P36: =AND(Formule!$D$34="A",'Crescendo n3'!$C$76="C") -> FALSE | Q36: =IF(R36=TRUE,I36,S36) -> Un vescovo amante di vini, aveva incaricato un servo di scovare il vino migliore in zona, indicandone la locanda con la parola "Est". Quando assaggiò questo vino ne confermò la bontà ripetendo la parola per tre volte | R36: =AND(Formule!$D$34="B",'Crescendo n3'!$C$76="A") -> FALSE | S36: =IF(T36=TRUE,B36,U36) -> Un vescovo amante di vini, aveva incaricato un servo di scovare il vino migliore in zona, indicandone la locanda con la parola "Est". Quando assaggiò questo vino ne confermò la bontà ripetendo la parola per tre volte | T36: =AND(Formule!$D$34="B",'Crescendo n3'!$C$76="B") -> FALSE | U36: =IF(V36=TRUE,F36,W36) -> Un vescovo amante di vini, aveva incaricato un servo di scovare il vino migliore in zona, indicandone la locanda con la parola "Est". Quando assaggiò questo vino ne confermò la bontà ripetendo la parola per tre volte | V36: =AND(Formule!$D$34="B",'Crescendo n3'!$C$76="C") -> FALSE | W36: =IF(X36=TRUE,F36,Y36) -> Un vescovo amante di vini, aveva incaricato un servo di scovare il vino migliore in zona, indicandone la locanda con la parola "Est". Quando assaggiò questo vino ne confermò la bontà ripetendo la parola per tre volte | X36: =AND(Formule!$D$34="C",'Crescendo n3'!$C$76="A") -> FALSE | Y36: =IF(Z36=TRUE,I36,AA36) -> Un vescovo amante di vini, aveva incaricato un servo di scovare il vino migliore in zona, indicandone la locanda con la parola "Est". Quando assaggiò questo vino ne confermò la bontà ripetendo la parola per tre volte | Z36: =AND(Formule!$D$34="C",'Crescendo n3'!$C$76="B") -> FALSE | AA36: =IF(AB36=TRUE,B36,AC36) -> Un vescovo amante di vini, aveva incaricato un servo di scovare il vino migliore in zona, indicandone la locanda con la parola "Est". Quando assaggiò questo vino ne confermò la bontà ripetendo la parola per tre volte | AB36: =AND(Formule!$D$34="C",'Crescendo n3'!$C80="C") -> FALSE | AC36: =B36 -> Un vescovo amante di vini, aveva incaricato un servo di scovare il vino migliore in zona, indicandone la locanda con la parola "Est". Quando assaggiò questo vino ne confermò la bontà ripetendo la parola per tre volte
B37: ='Archivio domande'!B41 -> Nel 1111 era Papa Pasquale II e il suo fornitore di fiducia gli recò in assaggio questo vino. Allo stupore del Papa il fornitore voleva sottolineare "Est bonus!", ma era balbuziente e ripetè tre volte la prima parola | F37: ='Archivio domande'!E41 -> Un padiglione di mostra | I37: ='Archivio domande'!H41 -> Siria e Giordania | K37: =IF(L37=TRUE,B37,M37) -> Nel 1111 era Papa Pasquale II e il suo fornitore di fiducia gli recò in assaggio questo vino. Allo stupore del Papa il fornitore voleva sottolineare "Est bonus!", ma era balbuziente e ripetè tre volte la prima parola | L37: =AND(Formule!$D$34="A",'Crescendo n3'!$C$76="A") -> FALSE | M37: =IF(N37=TRUE,F37,O37) -> Nel 1111 era Papa Pasquale II e il suo fornitore di fiducia gli recò in assaggio questo vino. Allo stupore del Papa il fornitore voleva sottolineare "Est bonus!", ma era balbuziente e ripetè tre volte la prima parola | N37: =AND(Formule!$D$34="A",'Crescendo n3'!$C$76="B") -> FALSE | O37: =IF(P37=TRUE,I37,Q37) -> Nel 1111 era Papa Pasquale II e il suo fornitore di fiducia gli recò in assaggio questo vino. Allo stupore del Papa il fornitore voleva sottolineare "Est bonus!", ma era balbuziente e ripetè tre volte la prima parola | P37: =AND(Formule!$D$34="A",'Crescendo n3'!$C$76="C") -> FALSE | Q37: =IF(R37=TRUE,I37,S37) -> Nel 1111 era Papa Pasquale II e il suo fornitore di fiducia gli recò in assaggio questo vino. Allo stupore del Papa il fornitore voleva sottolineare "Est bonus!", ma era balbuziente e ripetè tre volte la prima parola | R37: =AND(Formule!$D$34="B",'Crescendo n3'!$C$76="A") -> FALSE | S37: =IF(T37=TRUE,B37,U37) -> Nel 1111 era Papa Pasquale II e il suo fornitore di fiducia gli recò in assaggio questo vino. Allo stupore del Papa il fornitore voleva sottolineare "Est bonus!", ma era balbuziente e ripetè tre volte la prima parola | T37: =AND(Formule!$D$34="B",'Crescendo n3'!$C$76="B") -> FALSE | U37: =IF(V37=TRUE,F37,W37) -> Nel 1111 era Papa Pasquale II e il suo fornitore di fiducia gli recò in assaggio questo vino. Allo stupore del Papa il fornitore voleva sottolineare "Est bonus!", ma era balbuziente e ripetè tre volte la prima parola | V37: =AND(Formule!$D$34="B",'Crescendo n3'!$C$76="C") -> FALSE | W37: =IF(X37=TRUE,F37,Y37) -> Nel 1111 era Papa Pasquale II e il suo fornitore di fiducia gli recò in assaggio questo vino. Allo stupore del Papa il fornitore voleva sottolineare "Est bonus!", ma era balbuziente e ripetè tre volte la prima parola | X37: =AND(Formule!$D$34="C",'Crescendo n3'!$C$76="A") -> FALSE | Y37: =IF(Z37=TRUE,I37,AA37) -> Nel 1111 era Papa Pasquale II e il suo fornitore di fiducia gli recò in assaggio questo vino. Allo stupore del Papa il fornitore voleva sottolineare "Est bonus!", ma era balbuziente e ripetè tre volte la prima parola | Z37: =AND(Formule!$D$34="C",'Crescendo n3'!$C$76="B") -> FALSE | AA37: =IF(AB37=TRUE,B37,AC37) -> Nel 1111 era Papa Pasquale II e il suo fornitore di fiducia gli recò in assaggio questo vino. Allo stupore del Papa il fornitore voleva sottolineare "Est bonus!", ma era balbuziente e ripetè tre volte la prima parola | AB37: =AND(Formule!$D$34="C",'Crescendo n3'!$C82="C") -> FALSE | AC37: =B37 -> Nel 1111 era Papa Pasquale II e il suo fornitore di fiducia gli recò in assaggio questo vino. Allo stupore del Papa il fornitore voleva sottolineare "Est bonus!", ma era balbuziente e ripetè tre volte la prima parola
A39: A9 | B39: ='Archivio domande'!B43 -> Non è stato esponente dell'Impressionismo il pittore: | D39: B | E39: B9 | F39: ='Archivio domande'!E43 -> Ha un accesso da due rampe elicoidali a senso unico, è profondo 54 metri ed è opera dell'architetto Antonio da Sangallo. Il Pozzo di San Patrizio è un capolavoro che si può visitare a: | H39: C9 | I39: ='Archivio domande'!H43 -> 2 La portanza, in un aereo, è: | K39: =IF(L39=TRUE,B39,M39) -> Non è stato esponente dell'Impressionismo il pittore: | L39: =AND(Formule!$D$39="A",'Crescendo n3'!$C$87="A") -> FALSE | M39: =IF(N39=TRUE,F39,O39) -> Non è stato esponente dell'Impressionismo il pittore: | N39: =AND(Formule!$D$39="A",'Crescendo n3'!$C$87="B") -> FALSE | O39: =IF(P39=TRUE,I39,Q39) -> Non è stato esponente dell'Impressionismo il pittore: | P39: =AND(Formule!$D$39="A",'Crescendo n3'!$C$87="C") -> FALSE | Q39: =IF(R39=TRUE,I39,S39) -> Non è stato esponente dell'Impressionismo il pittore: | R39: =AND(Formule!$D$39="B",'Crescendo n3'!$C$87="A") -> FALSE | S39: =IF(T39=TRUE,B39,U39) -> Non è stato esponente dell'Impressionismo il pittore: | T39: =AND(Formule!$D$39="B",'Crescendo n3'!$C$87="B") -> FALSE | U39: =IF(V39=TRUE,F39,W39) -> Non è stato esponente dell'Impressionismo il pittore: | V39: =AND(Formule!$D$39="B",'Crescendo n3'!$C$87="C") -> FALSE | W39: =IF(X39=TRUE,F39,Y39) -> Non è stato esponente dell'Impressionismo il pittore: | X39: =AND(Formule!$D$39="C",'Crescendo n3'!$C$87="A") -> FALSE | Y39: =IF(Z39=TRUE,I39,AA39) -> Non è stato esponente dell'Impressionismo il pittore: | Z39: =AND(Formule!$D$39="C",'Crescendo n3'!$C$87="B") -> FALSE | AA39: =IF(AB39=TRUE,B39,AC39) -> Non è stato esponente dell'Impressionismo il pittore: | AB39: =AND(Formule!$D$39="C",'Crescendo n3'!$C87="C") -> FALSE | AC39: =B39 -> Non è stato esponente dell'Impressionismo il pittore:
B40: ='Archivio domande'!B44 -> Pierre-Auguste Renoir | F40: ='Archivio domande'!E44 -> Frascati | I40: ='Archivio domande'!H44 -> La capacità, in quantità di ore, di restare in volo in base al carburante caricato e alla portata del peso complessivo, carico compreso | K40: =IF(L40=TRUE,B40,M40) -> Pierre-Auguste Renoir | L40: =AND(Formule!$D$39="A",'Crescendo n3'!$C$87="A") -> FALSE | M40: =IF(N40=TRUE,F40,O40) -> Pierre-Auguste Renoir | N40: =AND(Formule!$D$39="A",'Crescendo n3'!$C$87="B") -> FALSE | O40: =IF(P40=TRUE,I40,Q40) -> Pierre-Auguste Renoir | P40: =AND(Formule!$D$39="A",'Crescendo n3'!$C$87="C") -> FALSE | Q40: =IF(R40=TRUE,I40,S40) -> Pierre-Auguste Renoir | R40: =AND(Formule!$D$39="B",'Crescendo n3'!$C$87="A") -> FALSE | S40: =IF(T40=TRUE,B40,U40) -> Pierre-Auguste Renoir | T40: =AND(Formule!$D$39="B",'Crescendo n3'!$C$87="B") -> FALSE | U40: =IF(V40=TRUE,F40,W40) -> Pierre-Auguste Renoir | V40: =AND(Formule!$D$39="B",'Crescendo n3'!$C$87="C") -> FALSE | W40: =IF(X40=TRUE,F40,Y40) -> Pierre-Auguste Renoir | X40: =AND(Formule!$D$39="C",'Crescendo n3'!$C$87="A") -> FALSE | Y40: =IF(Z40=TRUE,I40,AA40) -> Pierre-Auguste Renoir | Z40: =AND(Formule!$D$39="C",'Crescendo n3'!$C$87="B") -> FALSE | AA40: =IF(AB40=TRUE,B40,AC40) -> Pierre-Auguste Renoir | AB40: =AND(Formule!$D$39="C",'Crescendo n3'!$C89="C") -> FALSE | AC40: =B40 -> Pierre-Auguste Renoir
B41: ='Archivio domande'!B45 -> Claude Monet | F41: ='Archivio domande'!E45 -> Volterra | I41: ='Archivio domande'!H45 -> La capacità di carico calcolata in proporzione alla potenza del motore | K41: =IF(L41=TRUE,B41,M41) -> Claude Monet | L41: =AND(Formule!$D$39="A",'Crescendo n3'!$C$87="A") -> FALSE | M41: =IF(N41=TRUE,F41,O41) -> Claude Monet | N41: =AND(Formule!$D$39="A",'Crescendo n3'!$C$87="B") -> FALSE | O41: =IF(P41=TRUE,I41,Q41) -> Claude Monet | P41: =AND(Formule!$D$39="A",'Crescendo n3'!$C$87="C") -> FALSE | Q41: =IF(R41=TRUE,I41,S41) -> Claude Monet | R41: =AND(Formule!$D$39="B",'Crescendo n3'!$C$87="A") -> FALSE | S41: =IF(T41=TRUE,B41,U41) -> Claude Monet | T41: =AND(Formule!$D$39="B",'Crescendo n3'!$C$87="B") -> FALSE | U41: =IF(V41=TRUE,F41,W41) -> Claude Monet | V41: =AND(Formule!$D$39="B",'Crescendo n3'!$C$87="C") -> FALSE | W41: =IF(X41=TRUE,F41,Y41) -> Claude Monet | X41: =AND(Formule!$D$39="C",'Crescendo n3'!$C$87="A") -> FALSE | Y41: =IF(Z41=TRUE,I41,AA41) -> Claude Monet | Z41: =AND(Formule!$D$39="C",'Crescendo n3'!$C$87="B") -> FALSE | AA41: =IF(AB41=TRUE,B41,AC41) -> Claude Monet | AB41: =AND(Formule!$D$39="C",'Crescendo n3'!$C91="C") -> FALSE | AC41: =B41 -> Claude Monet
B42: ='Archivio domande'!B46 -> Georges Braque | F42: ='Archivio domande'!E46 -> Orvieto | I42: ='Archivio domande'!H46 -> La spinta perpendicolare al moto dell'aereo che fa sì che l'aria spinga l'aereo verso l'alto | K42: =IF(L42=TRUE,B42,M42) -> Georges Braque | L42: =AND(Formule!$D$39="A",'Crescendo n3'!$C$87="A") -> FALSE | M42: =IF(N42=TRUE,F42,O42) -> Georges Braque | N42: =AND(Formule!$D$39="A",'Crescendo n3'!$C$87="B") -> FALSE | O42: =IF(P42=TRUE,I42,Q42) -> Georges Braque | P42: =AND(Formule!$D$39="A",'Crescendo n3'!$C$87="C") -> FALSE | Q42: =IF(R42=TRUE,I42,S42) -> Georges Braque | R42: =AND(Formule!$D$39="B",'Crescendo n3'!$C$87="A") -> FALSE | S42: =IF(T42=TRUE,B42,U42) -> Georges Braque | T42: =AND(Formule!$D$39="B",'Crescendo n3'!$C$87="B") -> FALSE | U42: =IF(V42=TRUE,F42,W42) -> Georges Braque | V42: =AND(Formule!$D$39="B",'Crescendo n3'!$C$87="C") -> FALSE | W42: =IF(X42=TRUE,F42,Y42) -> Georges Braque | X42: =AND(Formule!$D$39="C",'Crescendo n3'!$C$87="A") -> FALSE | Y42: =IF(Z42=TRUE,I42,AA42) -> Georges Braque | Z42: =AND(Formule!$D$39="C",'Crescendo n3'!$C$87="B") -> FALSE | AA42: =IF(AB42=TRUE,B42,AC42) -> Georges Braque | AB42: =AND(Formule!$D$39="C",'Crescendo n3'!$C93="C") -> FALSE | AC42: =B42 -> Georges Braque
A44: A10 | B44: ='Archivio domande'!B48 -> Le sinapsi permettono: | D44: C | E44: B10 | F44: ='Archivio domande'!E48 -> In quali casi si effettua il ballottaggio tra due candidati sindaci in un Comune? | H44: C10 | I44: ='Archivio domande'!H48 -> In alcuni centri del Molise e della Puglia viene parlata una lingua che deriva da: | K44: =IF(L44=TRUE,B44,M44) -> Le sinapsi permettono: | L44: =AND(Formule!$D$44="A",'Crescendo n3'!$C$98="A") -> FALSE | M44: =IF(N44=TRUE,F44,O44) -> Le sinapsi permettono: | N44: =AND(Formule!$D$44="A",'Crescendo n3'!$C$98="B") -> FALSE | O44: =IF(P44=TRUE,I44,Q44) -> Le sinapsi permettono: | P44: =AND(Formule!$D$44="A",'Crescendo n3'!$C$98="C") -> FALSE | Q44: =IF(R44=TRUE,I44,S44) -> Le sinapsi permettono: | R44: =AND(Formule!$D$44="B",'Crescendo n3'!$C$98="A") -> FALSE | S44: =IF(T44=TRUE,B44,U44) -> Le sinapsi permettono: | T44: =AND(Formule!$D$44="B",'Crescendo n3'!$C$98="B") -> FALSE | U44: =IF(V44=TRUE,F44,W44) -> Le sinapsi permettono: | V44: =AND(Formule!$D$44="B",'Crescendo n3'!$C$98="C") -> FALSE | W44: =IF(X44=TRUE,F44,Y44) -> Le sinapsi permettono: | X44: =AND(Formule!$D$44="C",'Crescendo n3'!$C$98="A") -> FALSE | Y44: =IF(Z44=TRUE,I44,AA44) -> Le sinapsi permettono: | Z44: =AND(Formule!$D$44="C",'Crescendo n3'!$C$98="B") -> FALSE | AA44: =IF(AB44=TRUE,B44,AC44) -> Le sinapsi permettono: | AB44: =AND(Formule!$D$44="C",'Crescendo n3'!$C98="C") -> FALSE | AC44: =B44 -> Le sinapsi permettono:
B45: ='Archivio domande'!B49 -> Di gestire le comunicazioni all'interno del corpo calloso dell'encefalo | F45: ='Archivio domande'!E49 -> Nel caso di Comuni con popolazione superiore ai 15.000 abitanti | I45: ='Archivio domande'!H49 -> L'arabo | K45: =IF(L45=TRUE,B45,M45) -> Di gestire le comunicazioni all'interno del corpo calloso dell'encefalo | L45: =AND(Formule!$D$44="A",'Crescendo n3'!$C$98="A") -> FALSE | M45: =IF(N45=TRUE,F45,O45) -> Di gestire le comunicazioni all'interno del corpo calloso dell'encefalo | N45: =AND(Formule!$D$44="A",'Crescendo n3'!$C$98="B") -> FALSE | O45: =IF(P45=TRUE,I45,Q45) -> Di gestire le comunicazioni all'interno del corpo calloso dell'encefalo | P45: =AND(Formule!$D$44="A",'Crescendo n3'!$C$98="C") -> FALSE | Q45: =IF(R45=TRUE,I45,S45) -> Di gestire le comunicazioni all'interno del corpo calloso dell'encefalo | R45: =AND(Formule!$D$44="B",'Crescendo n3'!$C$98="A") -> FALSE | S45: =IF(T45=TRUE,B45,U45) -> Di gestire le comunicazioni all'interno del corpo calloso dell'encefalo | T45: =AND(Formule!$D$44="B",'Crescendo n3'!$C$98="B") -> FALSE | U45: =IF(V45=TRUE,F45,W45) -> Di gestire le comunicazioni all'interno del corpo calloso dell'encefalo | V45: =AND(Formule!$D$44="B",'Crescendo n3'!$C$98="C") -> FALSE | W45: =IF(X45=TRUE,F45,Y45) -> Di gestire le comunicazioni all'interno del corpo calloso dell'encefalo | X45: =AND(Formule!$D$44="C",'Crescendo n3'!$C$98="A") -> FALSE | Y45: =IF(Z45=TRUE,I45,AA45) -> Di gestire le comunicazioni all'interno del corpo calloso dell'encefalo | Z45: =AND(Formule!$D$44="C",'Crescendo n3'!$C$98="B") -> FALSE | AA45: =IF(AB45=TRUE,B45,AC45) -> Di gestire le comunicazioni all'interno del corpo calloso dell'encefalo | AB45: =AND(Formule!$D$44="C",'Crescendo n3'!$C100="C") -> FALSE | AC45: =B45 -> Di gestire le comunicazioni all'interno del corpo calloso dell'encefalo
B46: ='Archivio domande'!B50 -> La trasmissione di impulsi nervosi tra neuroni o tra neuroni e fibre | F46: ='Archivio domande'!E50 -> Nel caso di Comuni con popolazione superiore ai 15.000 abitanti oppure, per Comuni con popolazione inferiore, qualora i due candidati più votati abbiano ottenuto pari numero di preferenze | I46: ='Archivio domande'!H50 -> L'albanese | K46: =IF(L46=TRUE,B46,M46) -> La trasmissione di impulsi nervosi tra neuroni o tra neuroni e fibre | L46: =AND(Formule!$D$44="A",'Crescendo n3'!$C$98="A") -> FALSE | M46: =IF(N46=TRUE,F46,O46) -> La trasmissione di impulsi nervosi tra neuroni o tra neuroni e fibre | N46: =AND(Formule!$D$44="A",'Crescendo n3'!$C$98="B") -> FALSE | O46: =IF(P46=TRUE,I46,Q46) -> La trasmissione di impulsi nervosi tra neuroni o tra neuroni e fibre | P46: =AND(Formule!$D$44="A",'Crescendo n3'!$C$98="C") -> FALSE | Q46: =IF(R46=TRUE,I46,S46) -> La trasmissione di impulsi nervosi tra neuroni o tra neuroni e fibre | R46: =AND(Formule!$D$44="B",'Crescendo n3'!$C$98="A") -> FALSE | S46: =IF(T46=TRUE,B46,U46) -> La trasmissione di impulsi nervosi tra neuroni o tra neuroni e fibre | T46: =AND(Formule!$D$44="B",'Crescendo n3'!$C$98="B") -> FALSE | U46: =IF(V46=TRUE,F46,W46) -> La trasmissione di impulsi nervosi tra neuroni o tra neuroni e fibre | V46: =AND(Formule!$D$44="B",'Crescendo n3'!$C$98="C") -> FALSE | W46: =IF(X46=TRUE,F46,Y46) -> La trasmissione di impulsi nervosi tra neuroni o tra neuroni e fibre | X46: =AND(Formule!$D$44="C",'Crescendo n3'!$C$98="A") -> FALSE | Y46: =IF(Z46=TRUE,I46,AA46) -> La trasmissione di impulsi nervosi tra neuroni o tra neuroni e fibre | Z46: =AND(Formule!$D$44="C",'Crescendo n3'!$C$98="B") -> FALSE | AA46: =IF(AB46=TRUE,B46,AC46) -> La trasmissione di impulsi nervosi tra neuroni o tra neuroni e fibre | AB46: =AND(Formule!$D$44="C",'Crescendo n3'!$C102="C") -> FALSE | AC46: =B46 -> La trasmissione di impulsi nervosi tra neuroni o tra neuroni e fibre
